BEGIN:VCALENDAR
VERSION:2.0
PRODID:-//Clayton Bocce League
METHOD:PUBLISH
BEGIN:VTIMEZONE
TZID:America/Los_Angeles
X-LIC-LOCATION:America/Los_Angeles
BEGIN:DAYLIGHT
TZOFFSETFROM:-0800
TZOFFSETTO:-0700
TZNAME:PDT
DTSTART:20070311T020000
RRULE:FREQ=YEARLY;BYMONTH=3;BYDAY=2SU
END:DAYLIGHT
BEGIN:STANDARD
TZOFFSETFROM:-0700
TZOFFSETTO:-0800
TZNAME:PST
DTSTART:20071104T020000
RRULE:FREQ=YEARLY;BYMONTH=11;BYDAY=1SU
END:STANDARD
END:VTIMEZONE
BEGIN:VEVENT
DTSTAMP:20260426T000000Z
UID:b882d310-76db-4226-9252-9ea6471a63cc@ClaytonBocce
DTSTART;TZID=America/Los_Angeles:20260428T183000
DTEND;TZID=America/Los_Angeles:20260428T210000
STATUS:CONFIRMED
SUMMARY:El Wapo vs Rock N Rollers
URL:/League/Schedule/3191
DESCRIPTION:Regular Season match: El Wapo vs Rock N Rollers
LOCATION:Newhall Court 2
END:VEVENT
BEGIN:VEVENT
DTSTAMP:20260426T000000Z
UID:ec2bbebd-4c57-473b-98a0-170166d5eca2@ClaytonBocce
DTSTART;TZID=America/Los_Angeles:20260505T183000
DTEND;TZID=America/Los_Angeles:20260505T210000
STATUS:CONFIRMED
SUMMARY:El Wapo vs High Bocce Burners
URL:/League/Schedule/3191
DESCRIPTION:Regular Season match: El Wapo vs High Bocce Burn
 ers
LOCATION:Newhall Court 1
END:VEVENT
BEGIN:VEVENT
DTSTAMP:20260426T000000Z
UID:0ca9bd40-0327-4ae6-9e93-ade0769d18bd@ClaytonBocce
DTSTART;TZID=America/Los_Angeles:20260512T183000
DTEND;TZID=America/Los_Angeles:20260512T210000
STATUS:CONFIRMED
SUMMARY:El Wapo vs Get To Saturday
URL:/League/Schedule/3191
DESCRIPTION:Regular Season match: El Wapo vs Get To Saturday
LOCATION:Newhall Court 5
END:VEVENT
BEGIN:VEVENT
DTSTAMP:20260426T000000Z
UID:11ef450b-4560-4d44-8264-fd24104084e1@ClaytonBocce
DTSTART;TZID=America/Los_Angeles:20260519T183000
DTEND;TZID=America/Los_Angeles:20260519T210000
STATUS:CONFIRMED
SUMMARY:El Wapo vs Sempre Bocce
URL:/League/Schedule/3191
DESCRIPTION:Regular Season match: El Wapo vs Sempre Bocce
LOCATION:Newhall Court 8
END:VEVENT
BEGIN:VEVENT
DTSTAMP:20260426T000000Z
UID:aa31a76d-5ac2-4566-ae77-872eefad268d@ClaytonBocce
DTSTART;TZID=America/Los_Angeles:20260526T183000
DTEND;TZID=America/Los_Angeles:20260526T210000
STATUS:CONFIRMED
SUMMARY:El Wapo vs Dusty Balls
URL:/League/Schedule/3191
DESCRIPTION:Regular Season match: El Wapo vs Dusty Balls
LOCATION:Newhall Court 3
END:VEVENT
BEGIN:VEVENT
DTSTAMP:20260426T000000Z
UID:cf8e83a9-1d2a-4b31-9864-32eb214f80d9@ClaytonBocce
DTSTART;TZID=America/Los_Angeles:20260602T183000
DTEND;TZID=America/Los_Angeles:20260602T210000
STATUS:CONFIRMED
SUMMARY:El Wapo vs Bada Bing Bada Boom
URL:/League/Schedule/3191
DESCRIPTION:Regular Season match: El Wapo vs Bada Bing Bada 
 Boom
LOCATION:Newhall Court 4
END:VEVENT
BEGIN:VEVENT
DTSTAMP:20260426T000000Z
UID:4af839a0-981d-4745-a356-576c47430bfc@ClaytonBocce
DTSTART;TZID=America/Los_Angeles:20260609T183000
DTEND;TZID=America/Los_Angeles:20260609T210000
STATUS:CONFIRMED
SUMMARY:El Wapo vs Unity Bro's
URL:/League/Schedule/3191
DESCRIPTION:Regular Season match: El Wapo vs Unity Bro's
LOCATION:Newhall Court 5
END:VEVENT
BEGIN:VEVENT
DTSTAMP:20260426T000000Z
UID:0a312fc9-c57d-400f-994d-85640150f735@ClaytonBocce
DTSTART;TZID=America/Los_Angeles:20260623T183000
DTEND;TZID=America/Los_Angeles:20260623T210000
STATUS:CONFIRMED
SUMMARY:El Wapo vs BallBarians
URL:/League/Schedule/3191
DESCRIPTION:Regular Season match: El Wapo vs BallBarians
LOCATION:Newhall Court 7
END:VEVENT
BEGIN:VEVENT
DTSTAMP:20260426T000000Z
UID:b3590607-aae1-41c2-9e7d-80fd5d57a137@ClaytonBocce
DTSTART;TZID=America/Los_Angeles:20260630T183000
DTEND;TZID=America/Los_Angeles:20260630T210000
STATUS:CONFIRMED
SUMMARY:El Wapo vs Rock N Rollers
URL:/League/Schedule/3191
DESCRIPTION:Regular Season match: El Wapo vs Rock N Rollers
LOCATION:Newhall Court 6
END:VEVENT
BEGIN:VEVENT
DTSTAMP:20260426T000000Z
UID:70c80d9e-6d27-4a1f-b9c8-e00263d6193b@ClaytonBocce
DTSTART;TZID=America/Los_Angeles:20260714T183000
DTEND;TZID=America/Los_Angeles:20260714T210000
STATUS:CONFIRMED
SUMMARY:El Wapo vs High Bocce Burners
URL:/League/Schedule/3191
DESCRIPTION:Regular Season match: El Wapo vs High Bocce Burn
 ers
LOCATION:Newhall Court 3
END:VEVENT
BEGIN:VEVENT
DTSTAMP:20260426T000000Z
UID:17e24c41-fc75-4995-a6f8-c93a5ee0c96d@ClaytonBocce
DTSTART;TZID=America/Los_Angeles:20260721T183000
DTEND;TZID=America/Los_Angeles:20260721T210000
STATUS:CONFIRMED
SUMMARY:El Wapo vs Get To Saturday
URL:/League/Schedule/3191
DESCRIPTION:Regular Season match: El Wapo vs Get To Saturday
LOCATION:Newhall Court 2
END:VEVENT
BEGIN:VEVENT
DTSTAMP:20260426T000000Z
UID:2120de85-66f1-4564-b4f8-f15d4245fc45@ClaytonBocce
DTSTART;TZID=America/Los_Angeles:20260728T183000
DTEND;TZID=America/Los_Angeles:20260728T210000
STATUS:CONFIRMED
SUMMARY:El Wapo vs Sempre Bocce
URL:/League/Schedule/3191
DESCRIPTION:Regular Season match: El Wapo vs Sempre Bocce
LOCATION:Newhall Court 1
END:VEVENT
BEGIN:VEVENT
DTSTAMP:20260426T000000Z
UID:e82e8f9b-c82e-4ce5-a361-50bdafbcd52c@ClaytonBocce
DTSTART;TZID=America/Los_Angeles:20260804T183000
DTEND;TZID=America/Los_Angeles:20260804T210000
STATUS:CONFIRMED
SUMMARY:El Wapo vs Dusty Balls
URL:/League/Schedule/3191
DESCRIPTION:Regular Season match: El Wapo vs Dusty Balls
LOCATION:Newhall Court 2
END:VEVENT
BEGIN:VEVENT
DTSTAMP:20260426T000000Z
UID:6563b06a-fed1-4835-817a-c4091cae9126@ClaytonBocce
DTSTART;TZID=America/Los_Angeles:20260811T183000
DTEND;TZID=America/Los_Angeles:20260811T210000
STATUS:CONFIRMED
SUMMARY:El Wapo vs Bada Bing Bada Boom
URL:/League/Schedule/3191
DESCRIPTION:Regular Season match: El Wapo vs Bada Bing Bada 
 Boom
LOCATION:Newhall Court 6
END:VEVENT
BEGIN:VEVENT
DTSTAMP:20260426T000000Z
UID:63629106-f649-40e9-8e44-444ada722df3@ClaytonBocce
DTSTART;TZID=America/Los_Angeles:20260818T183000
DTEND;TZID=America/Los_Angeles:20260818T210000
STATUS:CONFIRMED
SUMMARY:El Wapo vs Unity Bro's
URL:/League/Schedule/3191
DESCRIPTION:Regular Season match: El Wapo vs Unity Bro's
LOCATION:Newhall Court 5
END:VEVENT
BEGIN:VEVENT
DTSTAMP:20260426T000000Z
UID:bee052d8-5307-40f8-b5a8-bd9ec6b8be3d@ClaytonBocce
DTSTART;TZID=America/Los_Angeles:20260901T183000
DTEND;TZID=America/Los_Angeles:20260901T210000
STATUS:CONFIRMED
SUMMARY:El Wapo vs BallBarians
URL:/League/Schedule/3191
DESCRIPTION:Regular Season match: El Wapo vs BallBarians
LOCATION:Newhall Court 7
END:VEVENT
END:VCALENDAR
