BEGIN:VCALENDAR
VERSION:2.0
PRODID:-//Clayton Bocce League
METHOD:PUBLISH
BEGIN:VTIMEZONE
TZID:America/Los_Angeles
X-LIC-LOCATION:America/Los_Angeles
BEGIN:DAYLIGHT
TZOFFSETFROM:-0800
TZOFFSETTO:-0700
TZNAME:PDT
DTSTART:20070311T020000
RRULE:FREQ=YEARLY;BYMONTH=3;BYDAY=2SU
END:DAYLIGHT
BEGIN:STANDARD
TZOFFSETFROM:-0700
TZOFFSETTO:-0800
TZNAME:PST
DTSTART:20071104T020000
RRULE:FREQ=YEARLY;BYMONTH=11;BYDAY=1SU
END:STANDARD
END:VTIMEZONE
BEGIN:VEVENT
DTSTAMP:20260426T000000Z
UID:7029234b-e898-4ab1-82bd-f9348745c65a@ClaytonBocce
DTSTART;TZID=America/Los_Angeles:20260428T183000
DTEND;TZID=America/Los_Angeles:20260428T210000
STATUS:CONFIRMED
SUMMARY:Dusty Balls vs Sempre Bocce
URL:/League/Schedule/3198
DESCRIPTION:Regular Season match: Dusty Balls vs Sempre Bocc
 e
LOCATION:Newhall Court 1
END:VEVENT
BEGIN:VEVENT
DTSTAMP:20260426T000000Z
UID:f4acd4cf-fe84-406d-b3b3-cbe94c95057a@ClaytonBocce
DTSTART;TZID=America/Los_Angeles:20260512T183000
DTEND;TZID=America/Los_Angeles:20260512T210000
STATUS:CONFIRMED
SUMMARY:Dusty Balls vs Bada Bing Bada Boom
URL:/League/Schedule/3198
DESCRIPTION:Regular Season match: Dusty Balls vs Bada Bing B
 ada Boom
LOCATION:Newhall Court 7
END:VEVENT
BEGIN:VEVENT
DTSTAMP:20260426T000000Z
UID:59c85162-75a9-4d82-b407-359db830d894@ClaytonBocce
DTSTART;TZID=America/Los_Angeles:20260519T183000
DTEND;TZID=America/Los_Angeles:20260519T210000
STATUS:CONFIRMED
SUMMARY:Dusty Balls vs Unity Bro's
URL:/League/Schedule/3198
DESCRIPTION:Regular Season match: Dusty Balls vs Unity Bro's
LOCATION:Newhall Court 2
END:VEVENT
BEGIN:VEVENT
DTSTAMP:20260426T000000Z
UID:aa31a76d-5ac2-4566-ae77-872eefad268d@ClaytonBocce
DTSTART;TZID=America/Los_Angeles:20260526T183000
DTEND;TZID=America/Los_Angeles:20260526T210000
STATUS:CONFIRMED
SUMMARY:Dusty Balls vs El Wapo
URL:/League/Schedule/3198
DESCRIPTION:Regular Season match: Dusty Balls vs El Wapo
LOCATION:Newhall Court 3
END:VEVENT
BEGIN:VEVENT
DTSTAMP:20260426T000000Z
UID:f60fe17c-3436-4182-98d4-420e150790a5@ClaytonBocce
DTSTART;TZID=America/Los_Angeles:20260602T183000
DTEND;TZID=America/Los_Angeles:20260602T210000
STATUS:CONFIRMED
SUMMARY:Dusty Balls vs BallBarians
URL:/League/Schedule/3198
DESCRIPTION:Regular Season match: Dusty Balls vs BallBarians
LOCATION:Newhall Court 6
END:VEVENT
BEGIN:VEVENT
DTSTAMP:20260426T000000Z
UID:14aa4bb5-7585-4494-9225-61b1ead0274c@ClaytonBocce
DTSTART;TZID=America/Los_Angeles:20260609T183000
DTEND;TZID=America/Los_Angeles:20260609T210000
STATUS:CONFIRMED
SUMMARY:Dusty Balls vs Rock N Rollers
URL:/League/Schedule/3198
DESCRIPTION:Regular Season match: Dusty Balls vs Rock N Roll
 ers
LOCATION:Newhall Court 4
END:VEVENT
BEGIN:VEVENT
DTSTAMP:20260426T000000Z
UID:fb9e851e-7a90-4d39-8a9a-a5582d08e7dd@ClaytonBocce
DTSTART;TZID=America/Los_Angeles:20260616T183000
DTEND;TZID=America/Los_Angeles:20260616T210000
STATUS:CONFIRMED
SUMMARY:Dusty Balls vs High Bocce Burners
URL:/League/Schedule/3198
DESCRIPTION:Regular Season match: Dusty Balls vs High Bocce 
 Burners
LOCATION:Newhall Court 5
END:VEVENT
BEGIN:VEVENT
DTSTAMP:20260426T000000Z
UID:907709a7-501e-4cf3-96eb-f6f5dd9a2881@ClaytonBocce
DTSTART;TZID=America/Los_Angeles:20260623T183000
DTEND;TZID=America/Los_Angeles:20260623T210000
STATUS:CONFIRMED
SUMMARY:Dusty Balls vs Get To Saturday
URL:/League/Schedule/3198
DESCRIPTION:Regular Season match: Dusty Balls vs Get To Satu
 rday
LOCATION:Newhall Court 8
END:VEVENT
BEGIN:VEVENT
DTSTAMP:20260426T000000Z
UID:4b30c3f4-96c0-4d18-a5bf-b6593175c01c@ClaytonBocce
DTSTART;TZID=America/Los_Angeles:20260630T183000
DTEND;TZID=America/Los_Angeles:20260630T210000
STATUS:CONFIRMED
SUMMARY:Dusty Balls vs Sempre Bocce
URL:/League/Schedule/3198
DESCRIPTION:Regular Season match: Dusty Balls vs Sempre Bocc
 e
LOCATION:Newhall Court 7
END:VEVENT
BEGIN:VEVENT
DTSTAMP:20260426T000000Z
UID:78d8717f-2c88-4b06-b4ae-ec93c24a5c7d@ClaytonBocce
DTSTART;TZID=America/Los_Angeles:20260721T183000
DTEND;TZID=America/Los_Angeles:20260721T210000
STATUS:CONFIRMED
SUMMARY:Dusty Balls vs Bada Bing Bada Boom
URL:/League/Schedule/3198
DESCRIPTION:Regular Season match: Dusty Balls vs Bada Bing B
 ada Boom
LOCATION:Newhall Court 3
END:VEVENT
BEGIN:VEVENT
DTSTAMP:20260426T000000Z
UID:8e1e9931-a735-4702-9397-2ddd37f77d9a@ClaytonBocce
DTSTART;TZID=America/Los_Angeles:20260728T183000
DTEND;TZID=America/Los_Angeles:20260728T210000
STATUS:CONFIRMED
SUMMARY:Dusty Balls vs Unity Bro's
URL:/League/Schedule/3198
DESCRIPTION:Regular Season match: Dusty Balls vs Unity Bro's
LOCATION:Newhall Court 4
END:VEVENT
BEGIN:VEVENT
DTSTAMP:20260426T000000Z
UID:e82e8f9b-c82e-4ce5-a361-50bdafbcd52c@ClaytonBocce
DTSTART;TZID=America/Los_Angeles:20260804T183000
DTEND;TZID=America/Los_Angeles:20260804T210000
STATUS:CONFIRMED
SUMMARY:Dusty Balls vs El Wapo
URL:/League/Schedule/3198
DESCRIPTION:Regular Season match: Dusty Balls vs El Wapo
LOCATION:Newhall Court 2
END:VEVENT
BEGIN:VEVENT
DTSTAMP:20260426T000000Z
UID:1b8401ff-ef19-40a8-8163-ccea0d8074e2@ClaytonBocce
DTSTART;TZID=America/Los_Angeles:20260811T183000
DTEND;TZID=America/Los_Angeles:20260811T210000
STATUS:CONFIRMED
SUMMARY:Dusty Balls vs BallBarians
URL:/League/Schedule/3198
DESCRIPTION:Regular Season match: Dusty Balls vs BallBarians
LOCATION:Newhall Court 5
END:VEVENT
BEGIN:VEVENT
DTSTAMP:20260426T000000Z
UID:4d694686-13bd-41ea-82db-c41ee43d2589@ClaytonBocce
DTSTART;TZID=America/Los_Angeles:20260818T183000
DTEND;TZID=America/Los_Angeles:20260818T210000
STATUS:CONFIRMED
SUMMARY:Dusty Balls vs Rock N Rollers
URL:/League/Schedule/3198
DESCRIPTION:Regular Season match: Dusty Balls vs Rock N Roll
 ers
LOCATION:Newhall Court 1
END:VEVENT
BEGIN:VEVENT
DTSTAMP:20260426T000000Z
UID:becbe38d-6bab-4eae-a68e-0cef4be4704f@ClaytonBocce
DTSTART;TZID=America/Los_Angeles:20260825T183000
DTEND;TZID=America/Los_Angeles:20260825T210000
STATUS:CONFIRMED
SUMMARY:Dusty Balls vs High Bocce Burners
URL:/League/Schedule/3198
DESCRIPTION:Regular Season match: Dusty Balls vs High Bocce 
 Burners
LOCATION:Newhall Court 6
END:VEVENT
BEGIN:VEVENT
DTSTAMP:20260426T000000Z
UID:97998102-081e-42b3-be77-534578c39dff@ClaytonBocce
DTSTART;TZID=America/Los_Angeles:20260901T183000
DTEND;TZID=America/Los_Angeles:20260901T210000
STATUS:CONFIRMED
SUMMARY:Dusty Balls vs Get To Saturday
URL:/League/Schedule/3198
DESCRIPTION:Regular Season match: Dusty Balls vs Get To Satu
 rday
LOCATION:Newhall Court 4
END:VEVENT
END:VCALENDAR
