BEGIN:VCALENDAR
VERSION:2.0
PRODID:-//Clayton Bocce League
METHOD:PUBLISH
BEGIN:VTIMEZONE
TZID:America/Los_Angeles
X-LIC-LOCATION:America/Los_Angeles
BEGIN:DAYLIGHT
TZOFFSETFROM:-0800
TZOFFSETTO:-0700
TZNAME:PDT
DTSTART:20070311T020000
RRULE:FREQ=YEARLY;BYMONTH=3;BYDAY=2SU
END:DAYLIGHT
BEGIN:STANDARD
TZOFFSETFROM:-0700
TZOFFSETTO:-0800
TZNAME:PST
DTSTART:20071104T020000
RRULE:FREQ=YEARLY;BYMONTH=11;BYDAY=1SU
END:STANDARD
END:VTIMEZONE
BEGIN:VEVENT
DTSTAMP:20260426T000000Z
UID:7029234b-e898-4ab1-82bd-f9348745c65a@ClaytonBocce
DTSTART;TZID=America/Los_Angeles:20260428T183000
DTEND;TZID=America/Los_Angeles:20260428T210000
STATUS:CONFIRMED
SUMMARY:Sempre Bocce vs Dusty Balls
URL:/League/Schedule/3192
DESCRIPTION:Regular Season match: Sempre Bocce vs Dusty Ball
 s
LOCATION:Newhall Court 1
END:VEVENT
BEGIN:VEVENT
DTSTAMP:20260426T000000Z
UID:e4d0fab1-be0a-41a9-99de-3b9b304568bc@ClaytonBocce
DTSTART;TZID=America/Los_Angeles:20260505T183000
DTEND;TZID=America/Los_Angeles:20260505T210000
STATUS:CONFIRMED
SUMMARY:Sempre Bocce vs Bada Bing Bada Boom
URL:/League/Schedule/3192
DESCRIPTION:Regular Season match: Sempre Bocce vs Bada Bing 
 Bada Boom
LOCATION:Newhall Court 5
END:VEVENT
BEGIN:VEVENT
DTSTAMP:20260426T000000Z
UID:55266394-d8ea-44f6-b31a-f0ed4afdf29d@ClaytonBocce
DTSTART;TZID=America/Los_Angeles:20260512T183000
DTEND;TZID=America/Los_Angeles:20260512T210000
STATUS:CONFIRMED
SUMMARY:Sempre Bocce vs Unity Bro's
URL:/League/Schedule/3192
DESCRIPTION:Regular Season match: Sempre Bocce vs Unity Bro'
 s
LOCATION:Newhall Court 6
END:VEVENT
BEGIN:VEVENT
DTSTAMP:20260426T000000Z
UID:11ef450b-4560-4d44-8264-fd24104084e1@ClaytonBocce
DTSTART;TZID=America/Los_Angeles:20260519T183000
DTEND;TZID=America/Los_Angeles:20260519T210000
STATUS:CONFIRMED
SUMMARY:Sempre Bocce vs El Wapo
URL:/League/Schedule/3192
DESCRIPTION:Regular Season match: Sempre Bocce vs El Wapo
LOCATION:Newhall Court 8
END:VEVENT
BEGIN:VEVENT
DTSTAMP:20260426T000000Z
UID:7434d35a-dec4-4fdf-97ad-d1338247fdfb@ClaytonBocce
DTSTART;TZID=America/Los_Angeles:20260526T183000
DTEND;TZID=America/Los_Angeles:20260526T210000
STATUS:CONFIRMED
SUMMARY:Sempre Bocce vs BallBarians
URL:/League/Schedule/3192
DESCRIPTION:Regular Season match: Sempre Bocce vs BallBarian
 s
LOCATION:Newhall Court 2
END:VEVENT
BEGIN:VEVENT
DTSTAMP:20260426T000000Z
UID:efb744a9-7795-4719-8b9d-572affff0d22@ClaytonBocce
DTSTART;TZID=America/Los_Angeles:20260602T183000
DTEND;TZID=America/Los_Angeles:20260602T210000
STATUS:CONFIRMED
SUMMARY:Sempre Bocce vs Rock N Rollers
URL:/League/Schedule/3192
DESCRIPTION:Regular Season match: Sempre Bocce vs Rock N Rol
 lers
LOCATION:Newhall Court 3
END:VEVENT
BEGIN:VEVENT
DTSTAMP:20260426T000000Z
UID:d1a07808-a437-4b8e-8b7d-d2fd94ecdd52@ClaytonBocce
DTSTART;TZID=America/Los_Angeles:20260609T183000
DTEND;TZID=America/Los_Angeles:20260609T210000
STATUS:CONFIRMED
SUMMARY:Sempre Bocce vs High Bocce Burners
URL:/League/Schedule/3192
DESCRIPTION:Regular Season match: Sempre Bocce vs High Bocce
  Burners
LOCATION:Newhall Court 8
END:VEVENT
BEGIN:VEVENT
DTSTAMP:20260426T000000Z
UID:625ba88c-10cb-474f-88b1-7cf39f558db0@ClaytonBocce
DTSTART;TZID=America/Los_Angeles:20260616T183000
DTEND;TZID=America/Los_Angeles:20260616T210000
STATUS:CONFIRMED
SUMMARY:Sempre Bocce vs Get To Saturday
URL:/League/Schedule/3192
DESCRIPTION:Regular Season match: Sempre Bocce vs Get To Sat
 urday
LOCATION:Newhall Court 1
END:VEVENT
BEGIN:VEVENT
DTSTAMP:20260426T000000Z
UID:4b30c3f4-96c0-4d18-a5bf-b6593175c01c@ClaytonBocce
DTSTART;TZID=America/Los_Angeles:20260630T183000
DTEND;TZID=America/Los_Angeles:20260630T210000
STATUS:CONFIRMED
SUMMARY:Sempre Bocce vs Dusty Balls
URL:/League/Schedule/3192
DESCRIPTION:Regular Season match: Sempre Bocce vs Dusty Ball
 s
LOCATION:Newhall Court 7
END:VEVENT
BEGIN:VEVENT
DTSTAMP:20260426T000000Z
UID:49b188b2-88d8-442d-9cff-1ce438ab157c@ClaytonBocce
DTSTART;TZID=America/Los_Angeles:20260714T183000
DTEND;TZID=America/Los_Angeles:20260714T210000
STATUS:CONFIRMED
SUMMARY:Sempre Bocce vs Bada Bing Bada Boom
URL:/League/Schedule/3192
DESCRIPTION:Regular Season match: Sempre Bocce vs Bada Bing 
 Bada Boom
LOCATION:Newhall Court 4
END:VEVENT
BEGIN:VEVENT
DTSTAMP:20260426T000000Z
UID:2fe7e07e-b9e8-4930-80df-07b23de1994b@ClaytonBocce
DTSTART;TZID=America/Los_Angeles:20260721T183000
DTEND;TZID=America/Los_Angeles:20260721T210000
STATUS:CONFIRMED
SUMMARY:Sempre Bocce vs Unity Bro's
URL:/League/Schedule/3192
DESCRIPTION:Regular Season match: Sempre Bocce vs Unity Bro'
 s
LOCATION:Newhall Court 5
END:VEVENT
BEGIN:VEVENT
DTSTAMP:20260426T000000Z
UID:2120de85-66f1-4564-b4f8-f15d4245fc45@ClaytonBocce
DTSTART;TZID=America/Los_Angeles:20260728T183000
DTEND;TZID=America/Los_Angeles:20260728T210000
STATUS:CONFIRMED
SUMMARY:Sempre Bocce vs El Wapo
URL:/League/Schedule/3192
DESCRIPTION:Regular Season match: Sempre Bocce vs El Wapo
LOCATION:Newhall Court 1
END:VEVENT
BEGIN:VEVENT
DTSTAMP:20260426T000000Z
UID:0a3ed74e-ce18-4be5-a022-a13f64a91fa8@ClaytonBocce
DTSTART;TZID=America/Los_Angeles:20260804T183000
DTEND;TZID=America/Los_Angeles:20260804T210000
STATUS:CONFIRMED
SUMMARY:Sempre Bocce vs BallBarians
URL:/League/Schedule/3192
DESCRIPTION:Regular Season match: Sempre Bocce vs BallBarian
 s
LOCATION:Newhall Court 6
END:VEVENT
BEGIN:VEVENT
DTSTAMP:20260426T000000Z
UID:27e67a56-cdf8-47f4-8190-03e882bd2bb1@ClaytonBocce
DTSTART;TZID=America/Los_Angeles:20260811T183000
DTEND;TZID=America/Los_Angeles:20260811T210000
STATUS:CONFIRMED
SUMMARY:Sempre Bocce vs Rock N Rollers
URL:/League/Schedule/3192
DESCRIPTION:Regular Season match: Sempre Bocce vs Rock N Rol
 lers
LOCATION:Newhall Court 2
END:VEVENT
BEGIN:VEVENT
DTSTAMP:20260426T000000Z
UID:ecd5613b-36b3-439f-8cc8-b510f257aa8b@ClaytonBocce
DTSTART;TZID=America/Los_Angeles:20260818T183000
DTEND;TZID=America/Los_Angeles:20260818T210000
STATUS:CONFIRMED
SUMMARY:Sempre Bocce vs High Bocce Burners
URL:/League/Schedule/3192
DESCRIPTION:Regular Season match: Sempre Bocce vs High Bocce
  Burners
LOCATION:Newhall Court 8
END:VEVENT
BEGIN:VEVENT
DTSTAMP:20260426T000000Z
UID:81a37760-ead7-45f6-97cc-234be96664f1@ClaytonBocce
DTSTART;TZID=America/Los_Angeles:20260825T183000
DTEND;TZID=America/Los_Angeles:20260825T210000
STATUS:CONFIRMED
SUMMARY:Sempre Bocce vs Get To Saturday
URL:/League/Schedule/3192
DESCRIPTION:Regular Season match: Sempre Bocce vs Get To Sat
 urday
LOCATION:Newhall Court 7
END:VEVENT
END:VCALENDAR
