BEGIN:VCALENDAR
VERSION:2.0
PRODID:-//Clayton Bocce League
METHOD:PUBLISH
BEGIN:VTIMEZONE
TZID:America/Los_Angeles
X-LIC-LOCATION:America/Los_Angeles
BEGIN:DAYLIGHT
TZOFFSETFROM:-0800
TZOFFSETTO:-0700
TZNAME:PDT
DTSTART:20070311T020000
RRULE:FREQ=YEARLY;BYMONTH=3;BYDAY=2SU
END:DAYLIGHT
BEGIN:STANDARD
TZOFFSETFROM:-0700
TZOFFSETTO:-0800
TZNAME:PST
DTSTART:20071104T020000
RRULE:FREQ=YEARLY;BYMONTH=11;BYDAY=1SU
END:STANDARD
END:VTIMEZONE
BEGIN:VEVENT
DTSTAMP:20260426T000000Z
UID:f3e1fe1b-880b-4dae-a153-d20b20b3a145@ClaytonBocce
DTSTART;TZID=America/Los_Angeles:20260504T183000
DTEND;TZID=America/Los_Angeles:20260504T210000
STATUS:CONFIRMED
SUMMARY:Pasta Fazu vs Ciapamuschis
URL:/League/Schedule/3190
DESCRIPTION:Regular Season match: Pasta Fazu vs Ciapamuschis
LOCATION:Newhall Court 8
END:VEVENT
BEGIN:VEVENT
DTSTAMP:20260426T000000Z
UID:62790263-cb2f-474c-adfb-88c7719d17ce@ClaytonBocce
DTSTART;TZID=America/Los_Angeles:20260511T183000
DTEND;TZID=America/Los_Angeles:20260511T210000
STATUS:CONFIRMED
SUMMARY:Pasta Fazu vs Rollers
URL:/League/Schedule/3190
DESCRIPTION:Regular Season match: Pasta Fazu vs Rollers
LOCATION:Newhall Court 3
END:VEVENT
BEGIN:VEVENT
DTSTAMP:20260426T000000Z
UID:b12df73d-afeb-4d58-b04c-a5d32116e4b3@ClaytonBocce
DTSTART;TZID=America/Los_Angeles:20260518T183000
DTEND;TZID=America/Los_Angeles:20260518T210000
STATUS:CONFIRMED
SUMMARY:Pasta Fazu vs Bocce Amore
URL:/League/Schedule/3190
DESCRIPTION:Regular Season match: Pasta Fazu vs Bocce Amore
LOCATION:Newhall Court 4
END:VEVENT
BEGIN:VEVENT
DTSTAMP:20260426T000000Z
UID:4b78414b-43e4-48a7-ae4d-9d97cc6f491c@ClaytonBocce
DTSTART;TZID=America/Los_Angeles:20260525T183000
DTEND;TZID=America/Los_Angeles:20260525T210000
STATUS:CONFIRMED
SUMMARY:Pasta Fazu vs The Sting
URL:/League/Schedule/3190
DESCRIPTION:Regular Season match: Pasta Fazu vs The Sting
LOCATION:Newhall Court 2
END:VEVENT
BEGIN:VEVENT
DTSTAMP:20260426T000000Z
UID:054b0a24-a6bf-4f59-885a-b8d0ac9838e4@ClaytonBocce
DTSTART;TZID=America/Los_Angeles:20260601T183000
DTEND;TZID=America/Los_Angeles:20260601T210000
STATUS:CONFIRMED
SUMMARY:Pasta Fazu vs Team Forza
URL:/League/Schedule/3190
DESCRIPTION:Regular Season match: Pasta Fazu vs Team Forza
LOCATION:Newhall Court 6
END:VEVENT
BEGIN:VEVENT
DTSTAMP:20260426T000000Z
UID:39f4357e-4bac-4837-8edd-3e7b58d74a32@ClaytonBocce
DTSTART;TZID=America/Los_Angeles:20260608T183000
DTEND;TZID=America/Los_Angeles:20260608T210000
STATUS:CONFIRMED
SUMMARY:Pasta Fazu vs Bergum 2
URL:/League/Schedule/3190
DESCRIPTION:Regular Season match: Pasta Fazu vs Bergum 2
LOCATION:Newhall Court 1
END:VEVENT
BEGIN:VEVENT
DTSTAMP:20260426T000000Z
UID:f3fbd768-6d8d-40f1-87cc-bccd99f46fd7@ClaytonBocce
DTSTART;TZID=America/Los_Angeles:20260615T183000
DTEND;TZID=America/Los_Angeles:20260615T210000
STATUS:CONFIRMED
SUMMARY:Pasta Fazu vs The Bocce Bunch
URL:/League/Schedule/3190
DESCRIPTION:Regular Season match: Pasta Fazu vs The Bocce Bu
 nch
LOCATION:Newhall Court 4
END:VEVENT
BEGIN:VEVENT
DTSTAMP:20260426T000000Z
UID:8f03bfaf-46bf-4d27-8626-fd4f1ce8bb02@ClaytonBocce
DTSTART;TZID=America/Los_Angeles:20260622T183000
DTEND;TZID=America/Los_Angeles:20260622T210000
STATUS:CONFIRMED
SUMMARY:Pasta Fazu vs Roll-em Pirates
URL:/League/Schedule/3190
DESCRIPTION:Regular Season match: Pasta Fazu vs Roll-em Pira
 tes
LOCATION:Newhall Court 7
END:VEVENT
BEGIN:VEVENT
DTSTAMP:20260426T000000Z
UID:831e6432-1100-4fd0-bfc1-f9ef6a6e7c0d@ClaytonBocce
DTSTART;TZID=America/Los_Angeles:20260713T183000
DTEND;TZID=America/Los_Angeles:20260713T210000
STATUS:CONFIRMED
SUMMARY:Pasta Fazu vs Ciapamuschis
URL:/League/Schedule/3190
DESCRIPTION:Regular Season match: Pasta Fazu vs Ciapamuschis
LOCATION:Newhall Court 5
END:VEVENT
BEGIN:VEVENT
DTSTAMP:20260426T000000Z
UID:d6933f23-6efa-4904-83b9-eb4896e4fa54@ClaytonBocce
DTSTART;TZID=America/Los_Angeles:20260720T183000
DTEND;TZID=America/Los_Angeles:20260720T210000
STATUS:CONFIRMED
SUMMARY:Pasta Fazu vs Rollers
URL:/League/Schedule/3190
DESCRIPTION:Regular Season match: Pasta Fazu vs Rollers
LOCATION:Newhall Court 4
END:VEVENT
BEGIN:VEVENT
DTSTAMP:20260426T000000Z
UID:d110406e-9d02-495a-9aad-64038f891d66@ClaytonBocce
DTSTART;TZID=America/Los_Angeles:20260727T183000
DTEND;TZID=America/Los_Angeles:20260727T210000
STATUS:CONFIRMED
SUMMARY:Pasta Fazu vs Bocce Amore
URL:/League/Schedule/3190
DESCRIPTION:Regular Season match: Pasta Fazu vs Bocce Amore
LOCATION:Newhall Court 8
END:VEVENT
BEGIN:VEVENT
DTSTAMP:20260426T000000Z
UID:1f454b4d-4eed-4f0d-83c5-03f3dd03f9b6@ClaytonBocce
DTSTART;TZID=America/Los_Angeles:20260803T183000
DTEND;TZID=America/Los_Angeles:20260803T210000
STATUS:CONFIRMED
SUMMARY:Pasta Fazu vs The Sting
URL:/League/Schedule/3190
DESCRIPTION:Regular Season match: Pasta Fazu vs The Sting
LOCATION:Newhall Court 6
END:VEVENT
BEGIN:VEVENT
DTSTAMP:20260426T000000Z
UID:916b94b2-dd90-437a-9287-eac29e62d70d@ClaytonBocce
DTSTART;TZID=America/Los_Angeles:20260810T183000
DTEND;TZID=America/Los_Angeles:20260810T210000
STATUS:CONFIRMED
SUMMARY:Pasta Fazu vs Team Forza
URL:/League/Schedule/3190
DESCRIPTION:Regular Season match: Pasta Fazu vs Team Forza
LOCATION:Newhall Court 5
END:VEVENT
BEGIN:VEVENT
DTSTAMP:20260426T000000Z
UID:9508695d-454e-49d1-b5bb-bc461712bc67@ClaytonBocce
DTSTART;TZID=America/Los_Angeles:20260817T183000
DTEND;TZID=America/Los_Angeles:20260817T210000
STATUS:CONFIRMED
SUMMARY:Pasta Fazu vs Bergum 2
URL:/League/Schedule/3190
DESCRIPTION:Regular Season match: Pasta Fazu vs Bergum 2
LOCATION:Newhall Court 2
END:VEVENT
BEGIN:VEVENT
DTSTAMP:20260426T000000Z
UID:b37cdde1-b32c-47c6-add3-b476512f4947@ClaytonBocce
DTSTART;TZID=America/Los_Angeles:20260824T183000
DTEND;TZID=America/Los_Angeles:20260824T210000
STATUS:CONFIRMED
SUMMARY:Pasta Fazu vs The Bocce Bunch
URL:/League/Schedule/3190
DESCRIPTION:Regular Season match: Pasta Fazu vs The Bocce Bu
 nch
LOCATION:Newhall Court 3
END:VEVENT
BEGIN:VEVENT
DTSTAMP:20260426T000000Z
UID:4fa10d16-483d-4052-832a-5f4f56334b7f@ClaytonBocce
DTSTART;TZID=America/Los_Angeles:20260831T183000
DTEND;TZID=America/Los_Angeles:20260831T210000
STATUS:CONFIRMED
SUMMARY:Pasta Fazu vs Roll-em Pirates
URL:/League/Schedule/3190
DESCRIPTION:Regular Season match: Pasta Fazu vs Roll-em Pira
 tes
LOCATION:Newhall Court 7
END:VEVENT
END:VCALENDAR
