BEGIN:VCALENDAR
VERSION:2.0
PRODID:-//Clayton Bocce League
METHOD:PUBLISH
BEGIN:VTIMEZONE
TZID:America/Los_Angeles
X-LIC-LOCATION:America/Los_Angeles
BEGIN:DAYLIGHT
TZOFFSETFROM:-0800
TZOFFSETTO:-0700
TZNAME:PDT
DTSTART:20070311T020000
RRULE:FREQ=YEARLY;BYMONTH=3;BYDAY=2SU
END:DAYLIGHT
BEGIN:STANDARD
TZOFFSETFROM:-0700
TZOFFSETTO:-0800
TZNAME:PST
DTSTART:20071104T020000
RRULE:FREQ=YEARLY;BYMONTH=11;BYDAY=1SU
END:STANDARD
END:VTIMEZONE
BEGIN:VEVENT
DTSTAMP:20260426T000000Z
UID:6a34feef-d5b8-43e8-8a63-e7b32312b207@ClaytonBocce
DTSTART;TZID=America/Los_Angeles:20260504T183000
DTEND;TZID=America/Los_Angeles:20260504T210000
STATUS:CONFIRMED
SUMMARY:Rolandelli Construction vs Boccenators
URL:/League/Schedule/3185
DESCRIPTION:Regular Season match: Rolandelli Construction vs
  Boccenators
LOCATION:Newhall Court 6
END:VEVENT
BEGIN:VEVENT
DTSTAMP:20260426T000000Z
UID:40c57f54-2700-44c8-bf90-b9dc30f35a25@ClaytonBocce
DTSTART;TZID=America/Los_Angeles:20260511T183000
DTEND;TZID=America/Los_Angeles:20260511T210000
STATUS:CONFIRMED
SUMMARY:Rolandelli Construction vs Pallino Pursuit
URL:/League/Schedule/3185
DESCRIPTION:Regular Season match: Rolandelli Construction vs
  Pallino Pursuit
LOCATION:Newhall Court 4
END:VEVENT
BEGIN:VEVENT
DTSTAMP:20260426T000000Z
UID:99e07775-5c8d-44eb-aad2-7ebc1ff3975e@ClaytonBocce
DTSTART;TZID=America/Los_Angeles:20260518T183000
DTEND;TZID=America/Los_Angeles:20260518T210000
STATUS:CONFIRMED
SUMMARY:Rolandelli Construction vs Hard Tossing Excitement
URL:/League/Schedule/3185
DESCRIPTION:Regular Season match: Rolandelli Construction vs
  Hard Tossing Excitement
LOCATION:Newhall Court 5
END:VEVENT
BEGIN:VEVENT
DTSTAMP:20260426T000000Z
UID:20698990-5c41-4d0d-8580-ff2d7ec54241@ClaytonBocce
DTSTART;TZID=America/Los_Angeles:20260525T183000
DTEND;TZID=America/Los_Angeles:20260525T210000
STATUS:CONFIRMED
SUMMARY:Rolandelli Construction vs Repeat Offenders
URL:/League/Schedule/3185
DESCRIPTION:Regular Season match: Rolandelli Construction vs
  Repeat Offenders
LOCATION:Newhall Court 1
END:VEVENT
BEGIN:VEVENT
DTSTAMP:20260426T000000Z
UID:c65a1662-337e-493b-aa70-9e9e0c7130f2@ClaytonBocce
DTSTART;TZID=America/Los_Angeles:20260601T183000
DTEND;TZID=America/Los_Angeles:20260601T210000
STATUS:CONFIRMED
SUMMARY:Rolandelli Construction vs Boccelicious
URL:/League/Schedule/3185
DESCRIPTION:Regular Season match: Rolandelli Construction vs
  Boccelicious
LOCATION:Newhall Court 5
END:VEVENT
BEGIN:VEVENT
DTSTAMP:20260426T000000Z
UID:c05b2caf-edae-45bc-bb3b-fe0749c96ac6@ClaytonBocce
DTSTART;TZID=America/Los_Angeles:20260608T183000
DTEND;TZID=America/Los_Angeles:20260608T210000
STATUS:CONFIRMED
SUMMARY:Rolandelli Construction vs Pallino da Corsa
URL:/League/Schedule/3185
DESCRIPTION:Regular Season match: Rolandelli Construction vs
  Pallino da Corsa
LOCATION:Newhall Court 7
END:VEVENT
BEGIN:VEVENT
DTSTAMP:20260426T000000Z
UID:5a77d9c1-01c4-482a-9fa2-7a1a35bcf934@ClaytonBocce
DTSTART;TZID=America/Los_Angeles:20260615T183000
DTEND;TZID=America/Los_Angeles:20260615T210000
STATUS:CONFIRMED
SUMMARY:Rolandelli Construction vs Too Perfetta
URL:/League/Schedule/3185
DESCRIPTION:Regular Season match: Rolandelli Construction vs
  Too Perfetta
LOCATION:Newhall Court 8
END:VEVENT
BEGIN:VEVENT
DTSTAMP:20260426T000000Z
UID:5477d819-a069-4ea9-a418-bea5fe5586cd@ClaytonBocce
DTSTART;TZID=America/Los_Angeles:20260622T183000
DTEND;TZID=America/Los_Angeles:20260622T210000
STATUS:CONFIRMED
SUMMARY:Rolandelli Construction vs Bocchums
URL:/League/Schedule/3185
DESCRIPTION:Regular Season match: Rolandelli Construction vs
  Bocchums
LOCATION:Newhall Court 3
END:VEVENT
BEGIN:VEVENT
DTSTAMP:20260426T000000Z
UID:37e9ca02-157d-4795-aa0a-515ca49c98b3@ClaytonBocce
DTSTART;TZID=America/Los_Angeles:20260713T183000
DTEND;TZID=America/Los_Angeles:20260713T210000
STATUS:CONFIRMED
SUMMARY:Rolandelli Construction vs Boccenators
URL:/League/Schedule/3185
DESCRIPTION:Regular Season match: Rolandelli Construction vs
  Boccenators
LOCATION:Newhall Court 7
END:VEVENT
BEGIN:VEVENT
DTSTAMP:20260426T000000Z
UID:3a3e2b62-b6d9-4aba-b4ca-f34033f2ced1@ClaytonBocce
DTSTART;TZID=America/Los_Angeles:20260720T183000
DTEND;TZID=America/Los_Angeles:20260720T210000
STATUS:CONFIRMED
SUMMARY:Rolandelli Construction vs Pallino Pursuit
URL:/League/Schedule/3185
DESCRIPTION:Regular Season match: Rolandelli Construction vs
  Pallino Pursuit
LOCATION:Newhall Court 6
END:VEVENT
BEGIN:VEVENT
DTSTAMP:20260426T000000Z
UID:5992834e-7e96-4354-a1f8-84cf58c0bac2@ClaytonBocce
DTSTART;TZID=America/Los_Angeles:20260727T183000
DTEND;TZID=America/Los_Angeles:20260727T210000
STATUS:CONFIRMED
SUMMARY:Rolandelli Construction vs Hard Tossing Excitement
URL:/League/Schedule/3185
DESCRIPTION:Regular Season match: Rolandelli Construction vs
  Hard Tossing Excitement
LOCATION:Newhall Court 3
END:VEVENT
BEGIN:VEVENT
DTSTAMP:20260426T000000Z
UID:16c5e48c-b100-4f6f-ab65-8c2f4a453f5a@ClaytonBocce
DTSTART;TZID=America/Los_Angeles:20260803T183000
DTEND;TZID=America/Los_Angeles:20260803T210000
STATUS:CONFIRMED
SUMMARY:Rolandelli Construction vs Repeat Offenders
URL:/League/Schedule/3185
DESCRIPTION:Regular Season match: Rolandelli Construction vs
  Repeat Offenders
LOCATION:Newhall Court 1
END:VEVENT
BEGIN:VEVENT
DTSTAMP:20260426T000000Z
UID:b694604d-c2aa-4c60-bc2a-e65b46e57f35@ClaytonBocce
DTSTART;TZID=America/Los_Angeles:20260810T183000
DTEND;TZID=America/Los_Angeles:20260810T210000
STATUS:CONFIRMED
SUMMARY:Rolandelli Construction vs Boccelicious
URL:/League/Schedule/3185
DESCRIPTION:Regular Season match: Rolandelli Construction vs
  Boccelicious
LOCATION:Newhall Court 8
END:VEVENT
BEGIN:VEVENT
DTSTAMP:20260426T000000Z
UID:1cb2113d-10e6-47ab-8068-b1f27d6930d1@ClaytonBocce
DTSTART;TZID=America/Los_Angeles:20260817T183000
DTEND;TZID=America/Los_Angeles:20260817T210000
STATUS:CONFIRMED
SUMMARY:Rolandelli Construction vs Pallino da Corsa
URL:/League/Schedule/3185
DESCRIPTION:Regular Season match: Rolandelli Construction vs
  Pallino da Corsa
LOCATION:Newhall Court 6
END:VEVENT
BEGIN:VEVENT
DTSTAMP:20260426T000000Z
UID:17f83921-957a-4095-8429-d81c55f59e60@ClaytonBocce
DTSTART;TZID=America/Los_Angeles:20260824T183000
DTEND;TZID=America/Los_Angeles:20260824T210000
STATUS:CONFIRMED
SUMMARY:Rolandelli Construction vs Too Perfetta
URL:/League/Schedule/3185
DESCRIPTION:Regular Season match: Rolandelli Construction vs
  Too Perfetta
LOCATION:Newhall Court 1
END:VEVENT
BEGIN:VEVENT
DTSTAMP:20260426T000000Z
UID:de7f5656-9d78-4e87-86ce-3abebb9ab62b@ClaytonBocce
DTSTART;TZID=America/Los_Angeles:20260831T183000
DTEND;TZID=America/Los_Angeles:20260831T210000
STATUS:CONFIRMED
SUMMARY:Rolandelli Construction vs Bocchums
URL:/League/Schedule/3185
DESCRIPTION:Regular Season match: Rolandelli Construction vs
  Bocchums
LOCATION:Newhall Court 2
END:VEVENT
END:VCALENDAR
