BEGIN:VCALENDAR
VERSION:2.0
PRODID:-//Clayton Bocce League
METHOD:PUBLISH
BEGIN:VTIMEZONE
TZID:America/Los_Angeles
X-LIC-LOCATION:America/Los_Angeles
BEGIN:DAYLIGHT
TZOFFSETFROM:-0800
TZOFFSETTO:-0700
TZNAME:PDT
DTSTART:20070311T020000
RRULE:FREQ=YEARLY;BYMONTH=3;BYDAY=2SU
END:DAYLIGHT
BEGIN:STANDARD
TZOFFSETFROM:-0700
TZOFFSETTO:-0800
TZNAME:PST
DTSTART:20071104T020000
RRULE:FREQ=YEARLY;BYMONTH=11;BYDAY=1SU
END:STANDARD
END:VTIMEZONE
BEGIN:VEVENT
DTSTAMP:20260426T000000Z
UID:23dafee8-8e7b-4d61-b7ab-f4e68a2b4a2e@ClaytonBocce
DTSTART;TZID=America/Los_Angeles:20260427T183000
DTEND;TZID=America/Los_Angeles:20260427T210000
STATUS:CONFIRMED
SUMMARY:Boccenators vs Bocchums
URL:/League/Schedule/3186
DESCRIPTION:Regular Season match: Boccenators vs Bocchums
LOCATION:Newhall Court 8
END:VEVENT
BEGIN:VEVENT
DTSTAMP:20260426T000000Z
UID:6a34feef-d5b8-43e8-8a63-e7b32312b207@ClaytonBocce
DTSTART;TZID=America/Los_Angeles:20260504T183000
DTEND;TZID=America/Los_Angeles:20260504T210000
STATUS:CONFIRMED
SUMMARY:Boccenators vs Rolandelli Construction
URL:/League/Schedule/3186
DESCRIPTION:Regular Season match: Boccenators vs Rolandelli 
 Construction
LOCATION:Newhall Court 6
END:VEVENT
BEGIN:VEVENT
DTSTAMP:20260426T000000Z
UID:3ff35b8e-2d9c-4997-932b-89a70d049928@ClaytonBocce
DTSTART;TZID=America/Los_Angeles:20260518T183000
DTEND;TZID=America/Los_Angeles:20260518T210000
STATUS:CONFIRMED
SUMMARY:Boccenators vs Pallino Pursuit
URL:/League/Schedule/3186
DESCRIPTION:Regular Season match: Boccenators vs Pallino Pur
 suit
LOCATION:Newhall Court 1
END:VEVENT
BEGIN:VEVENT
DTSTAMP:20260426T000000Z
UID:2c2dd079-cd78-49a5-a88c-55bee0616ac2@ClaytonBocce
DTSTART;TZID=America/Los_Angeles:20260525T183000
DTEND;TZID=America/Los_Angeles:20260525T210000
STATUS:CONFIRMED
SUMMARY:Boccenators vs Hard Tossing Excitement
URL:/League/Schedule/3186
DESCRIPTION:Regular Season match: Boccenators vs Hard Tossin
 g Excitement
LOCATION:Newhall Court 4
END:VEVENT
BEGIN:VEVENT
DTSTAMP:20260426T000000Z
UID:c7dc261d-9394-4407-9450-abdbb85d7fec@ClaytonBocce
DTSTART;TZID=America/Los_Angeles:20260601T183000
DTEND;TZID=America/Los_Angeles:20260601T210000
STATUS:CONFIRMED
SUMMARY:Boccenators vs Repeat Offenders
URL:/League/Schedule/3186
DESCRIPTION:Regular Season match: Boccenators vs Repeat Offe
 nders
LOCATION:Newhall Court 7
END:VEVENT
BEGIN:VEVENT
DTSTAMP:20260426T000000Z
UID:116e8ddb-c814-4bf7-ad3b-d09c1a82e9e6@ClaytonBocce
DTSTART;TZID=America/Los_Angeles:20260608T183000
DTEND;TZID=America/Los_Angeles:20260608T210000
STATUS:CONFIRMED
SUMMARY:Boccenators vs Boccelicious
URL:/League/Schedule/3186
DESCRIPTION:Regular Season match: Boccenators vs Bocceliciou
 s
LOCATION:Newhall Court 6
END:VEVENT
BEGIN:VEVENT
DTSTAMP:20260426T000000Z
UID:12bed990-5e37-4d4f-9a8a-655dedc1c0ff@ClaytonBocce
DTSTART;TZID=America/Los_Angeles:20260615T183000
DTEND;TZID=America/Los_Angeles:20260615T210000
STATUS:CONFIRMED
SUMMARY:Boccenators vs Pallino da Corsa
URL:/League/Schedule/3186
DESCRIPTION:Regular Season match: Boccenators vs Pallino da 
 Corsa
LOCATION:Newhall Court 3
END:VEVENT
BEGIN:VEVENT
DTSTAMP:20260426T000000Z
UID:a5738623-f985-4c1c-9d78-66843b948ea2@ClaytonBocce
DTSTART;TZID=America/Los_Angeles:20260622T183000
DTEND;TZID=America/Los_Angeles:20260622T210000
STATUS:CONFIRMED
SUMMARY:Boccenators vs Too Perfetta
URL:/League/Schedule/3186
DESCRIPTION:Regular Season match: Boccenators vs Too Perfett
 a
LOCATION:Newhall Court 5
END:VEVENT
BEGIN:VEVENT
DTSTAMP:20260426T000000Z
UID:719bda44-4afd-4152-8927-0ca9989e734a@ClaytonBocce
DTSTART;TZID=America/Los_Angeles:20260629T183000
DTEND;TZID=America/Los_Angeles:20260629T210000
STATUS:CONFIRMED
SUMMARY:Boccenators vs Bocchums
URL:/League/Schedule/3186
DESCRIPTION:Regular Season match: Boccenators vs Bocchums
LOCATION:Newhall Court 1
END:VEVENT
BEGIN:VEVENT
DTSTAMP:20260426T000000Z
UID:37e9ca02-157d-4795-aa0a-515ca49c98b3@ClaytonBocce
DTSTART;TZID=America/Los_Angeles:20260713T183000
DTEND;TZID=America/Los_Angeles:20260713T210000
STATUS:CONFIRMED
SUMMARY:Boccenators vs Rolandelli Construction
URL:/League/Schedule/3186
DESCRIPTION:Regular Season match: Boccenators vs Rolandelli 
 Construction
LOCATION:Newhall Court 7
END:VEVENT
BEGIN:VEVENT
DTSTAMP:20260426T000000Z
UID:4a6ec5c9-3e4e-4b81-a754-5955d611c35c@ClaytonBocce
DTSTART;TZID=America/Los_Angeles:20260727T183000
DTEND;TZID=America/Los_Angeles:20260727T210000
STATUS:CONFIRMED
SUMMARY:Boccenators vs Pallino Pursuit
URL:/League/Schedule/3186
DESCRIPTION:Regular Season match: Boccenators vs Pallino Pur
 suit
LOCATION:Newhall Court 2
END:VEVENT
BEGIN:VEVENT
DTSTAMP:20260426T000000Z
UID:144e27d7-482a-4833-8c7b-af82829fdad9@ClaytonBocce
DTSTART;TZID=America/Los_Angeles:20260803T183000
DTEND;TZID=America/Los_Angeles:20260803T210000
STATUS:CONFIRMED
SUMMARY:Boccenators vs Hard Tossing Excitement
URL:/League/Schedule/3186
DESCRIPTION:Regular Season match: Boccenators vs Hard Tossin
 g Excitement
LOCATION:Newhall Court 8
END:VEVENT
BEGIN:VEVENT
DTSTAMP:20260426T000000Z
UID:ee5489f4-b040-4f9e-8f65-039404d5ee9d@ClaytonBocce
DTSTART;TZID=America/Los_Angeles:20260810T183000
DTEND;TZID=America/Los_Angeles:20260810T210000
STATUS:CONFIRMED
SUMMARY:Boccenators vs Repeat Offenders
URL:/League/Schedule/3186
DESCRIPTION:Regular Season match: Boccenators vs Repeat Offe
 nders
LOCATION:Newhall Court 4
END:VEVENT
BEGIN:VEVENT
DTSTAMP:20260426T000000Z
UID:e77b36fc-dc31-4c96-bb77-feb93dddb69a@ClaytonBocce
DTSTART;TZID=America/Los_Angeles:20260817T183000
DTEND;TZID=America/Los_Angeles:20260817T210000
STATUS:CONFIRMED
SUMMARY:Boccenators vs Boccelicious
URL:/League/Schedule/3186
DESCRIPTION:Regular Season match: Boccenators vs Bocceliciou
 s
LOCATION:Newhall Court 7
END:VEVENT
BEGIN:VEVENT
DTSTAMP:20260426T000000Z
UID:f9ae48ce-3edb-4f80-8cae-aa4960cfd10e@ClaytonBocce
DTSTART;TZID=America/Los_Angeles:20260824T183000
DTEND;TZID=America/Los_Angeles:20260824T210000
STATUS:CONFIRMED
SUMMARY:Boccenators vs Pallino da Corsa
URL:/League/Schedule/3186
DESCRIPTION:Regular Season match: Boccenators vs Pallino da 
 Corsa
LOCATION:Newhall Court 8
END:VEVENT
BEGIN:VEVENT
DTSTAMP:20260426T000000Z
UID:1dfeba35-5a26-4f16-9e9f-6a44d771640e@ClaytonBocce
DTSTART;TZID=America/Los_Angeles:20260831T183000
DTEND;TZID=America/Los_Angeles:20260831T210000
STATUS:CONFIRMED
SUMMARY:Boccenators vs Too Perfetta
URL:/League/Schedule/3186
DESCRIPTION:Regular Season match: Boccenators vs Too Perfett
 a
LOCATION:Newhall Court 5
END:VEVENT
END:VCALENDAR
