BEGIN:VCALENDAR
VERSION:2.0
PRODID:-//Clayton Bocce League
METHOD:PUBLISH
BEGIN:VTIMEZONE
TZID:America/Los_Angeles
X-LIC-LOCATION:America/Los_Angeles
BEGIN:DAYLIGHT
TZOFFSETFROM:-0800
TZOFFSETTO:-0700
TZNAME:PDT
DTSTART:20070311T020000
RRULE:FREQ=YEARLY;BYMONTH=3;BYDAY=2SU
END:DAYLIGHT
BEGIN:STANDARD
TZOFFSETFROM:-0700
TZOFFSETTO:-0800
TZNAME:PST
DTSTART:20071104T020000
RRULE:FREQ=YEARLY;BYMONTH=11;BYDAY=1SU
END:STANDARD
END:VTIMEZONE
BEGIN:VEVENT
DTSTAMP:20260426T000000Z
UID:23dafee8-8e7b-4d61-b7ab-f4e68a2b4a2e@ClaytonBocce
DTSTART;TZID=America/Los_Angeles:20260427T183000
DTEND;TZID=America/Los_Angeles:20260427T210000
STATUS:CONFIRMED
SUMMARY:Bocchums vs Boccenators
URL:/League/Schedule/3182
DESCRIPTION:Regular Season match: Bocchums vs Boccenators
LOCATION:Newhall Court 8
END:VEVENT
BEGIN:VEVENT
DTSTAMP:20260426T000000Z
UID:92a71331-7947-4afe-8b7d-4ad60d9230c0@ClaytonBocce
DTSTART;TZID=America/Los_Angeles:20260504T183000
DTEND;TZID=America/Los_Angeles:20260504T210000
STATUS:CONFIRMED
SUMMARY:Bocchums vs Pallino Pursuit
URL:/League/Schedule/3182
DESCRIPTION:Regular Season match: Bocchums vs Pallino Pursui
 t
LOCATION:Newhall Court 2
END:VEVENT
BEGIN:VEVENT
DTSTAMP:20260426T000000Z
UID:c04cb9a7-3716-44e7-ba14-59310ca3b244@ClaytonBocce
DTSTART;TZID=America/Los_Angeles:20260511T183000
DTEND;TZID=America/Los_Angeles:20260511T210000
STATUS:CONFIRMED
SUMMARY:Bocchums vs Hard Tossing Excitement
URL:/League/Schedule/3182
DESCRIPTION:Regular Season match: Bocchums vs Hard Tossing E
 xcitement
LOCATION:Newhall Court 1
END:VEVENT
BEGIN:VEVENT
DTSTAMP:20260426T000000Z
UID:c5790bc2-b3a5-41d5-8f92-7fe32d58c361@ClaytonBocce
DTSTART;TZID=America/Los_Angeles:20260518T183000
DTEND;TZID=America/Los_Angeles:20260518T210000
STATUS:CONFIRMED
SUMMARY:Bocchums vs Repeat Offenders
URL:/League/Schedule/3182
DESCRIPTION:Regular Season match: Bocchums vs Repeat Offende
 rs
LOCATION:Newhall Court 6
END:VEVENT
BEGIN:VEVENT
DTSTAMP:20260426T000000Z
UID:f64ef721-0230-42fe-a221-0a2f0cef4011@ClaytonBocce
DTSTART;TZID=America/Los_Angeles:20260525T183000
DTEND;TZID=America/Los_Angeles:20260525T210000
STATUS:CONFIRMED
SUMMARY:Bocchums vs Boccelicious
URL:/League/Schedule/3182
DESCRIPTION:Regular Season match: Bocchums vs Boccelicious
LOCATION:Newhall Court 7
END:VEVENT
BEGIN:VEVENT
DTSTAMP:20260426T000000Z
UID:b4f6e9c4-4615-49de-bcab-0374ff9d3fec@ClaytonBocce
DTSTART;TZID=America/Los_Angeles:20260601T183000
DTEND;TZID=America/Los_Angeles:20260601T210000
STATUS:CONFIRMED
SUMMARY:Bocchums vs Pallino da Corsa
URL:/League/Schedule/3182
DESCRIPTION:Regular Season match: Bocchums vs Pallino da Cor
 sa
LOCATION:Newhall Court 1
END:VEVENT
BEGIN:VEVENT
DTSTAMP:20260426T000000Z
UID:b897d759-7421-4b1a-b8f5-2aee0618ec56@ClaytonBocce
DTSTART;TZID=America/Los_Angeles:20260608T183000
DTEND;TZID=America/Los_Angeles:20260608T210000
STATUS:CONFIRMED
SUMMARY:Bocchums vs Too Perfetta
URL:/League/Schedule/3182
DESCRIPTION:Regular Season match: Bocchums vs Too Perfetta
LOCATION:Newhall Court 2
END:VEVENT
BEGIN:VEVENT
DTSTAMP:20260426T000000Z
UID:5477d819-a069-4ea9-a418-bea5fe5586cd@ClaytonBocce
DTSTART;TZID=America/Los_Angeles:20260622T183000
DTEND;TZID=America/Los_Angeles:20260622T210000
STATUS:CONFIRMED
SUMMARY:Bocchums vs Rolandelli Construction
URL:/League/Schedule/3182
DESCRIPTION:Regular Season match: Bocchums vs Rolandelli Con
 struction
LOCATION:Newhall Court 3
END:VEVENT
BEGIN:VEVENT
DTSTAMP:20260426T000000Z
UID:719bda44-4afd-4152-8927-0ca9989e734a@ClaytonBocce
DTSTART;TZID=America/Los_Angeles:20260629T183000
DTEND;TZID=America/Los_Angeles:20260629T210000
STATUS:CONFIRMED
SUMMARY:Bocchums vs Boccenators
URL:/League/Schedule/3182
DESCRIPTION:Regular Season match: Bocchums vs Boccenators
LOCATION:Newhall Court 1
END:VEVENT
BEGIN:VEVENT
DTSTAMP:20260426T000000Z
UID:4a8d5b93-9433-404e-be96-b51e1098ee56@ClaytonBocce
DTSTART;TZID=America/Los_Angeles:20260713T183000
DTEND;TZID=America/Los_Angeles:20260713T210000
STATUS:CONFIRMED
SUMMARY:Bocchums vs Pallino Pursuit
URL:/League/Schedule/3182
DESCRIPTION:Regular Season match: Bocchums vs Pallino Pursui
 t
LOCATION:Newhall Court 8
END:VEVENT
BEGIN:VEVENT
DTSTAMP:20260426T000000Z
UID:fe5b26dc-711c-483b-a6de-b8bb50d32d77@ClaytonBocce
DTSTART;TZID=America/Los_Angeles:20260720T183000
DTEND;TZID=America/Los_Angeles:20260720T210000
STATUS:CONFIRMED
SUMMARY:Bocchums vs Hard Tossing Excitement
URL:/League/Schedule/3182
DESCRIPTION:Regular Season match: Bocchums vs Hard Tossing E
 xcitement
LOCATION:Newhall Court 7
END:VEVENT
BEGIN:VEVENT
DTSTAMP:20260426T000000Z
UID:abfa6026-61b2-4a88-ba58-0b88587b3adf@ClaytonBocce
DTSTART;TZID=America/Los_Angeles:20260727T183000
DTEND;TZID=America/Los_Angeles:20260727T210000
STATUS:CONFIRMED
SUMMARY:Bocchums vs Repeat Offenders
URL:/League/Schedule/3182
DESCRIPTION:Regular Season match: Bocchums vs Repeat Offende
 rs
LOCATION:Newhall Court 5
END:VEVENT
BEGIN:VEVENT
DTSTAMP:20260426T000000Z
UID:79c5a3ff-399d-4d28-8e42-475747cc1216@ClaytonBocce
DTSTART;TZID=America/Los_Angeles:20260803T183000
DTEND;TZID=America/Los_Angeles:20260803T210000
STATUS:CONFIRMED
SUMMARY:Bocchums vs Boccelicious
URL:/League/Schedule/3182
DESCRIPTION:Regular Season match: Bocchums vs Boccelicious
LOCATION:Newhall Court 4
END:VEVENT
BEGIN:VEVENT
DTSTAMP:20260426T000000Z
UID:7f40804f-069c-4ae6-9e3a-6cd54fc124b9@ClaytonBocce
DTSTART;TZID=America/Los_Angeles:20260810T183000
DTEND;TZID=America/Los_Angeles:20260810T210000
STATUS:CONFIRMED
SUMMARY:Bocchums vs Pallino da Corsa
URL:/League/Schedule/3182
DESCRIPTION:Regular Season match: Bocchums vs Pallino da Cor
 sa
LOCATION:Newhall Court 3
END:VEVENT
BEGIN:VEVENT
DTSTAMP:20260426T000000Z
UID:8cc32485-c2e8-495c-b777-d9d30484c836@ClaytonBocce
DTSTART;TZID=America/Los_Angeles:20260817T183000
DTEND;TZID=America/Los_Angeles:20260817T210000
STATUS:CONFIRMED
SUMMARY:Bocchums vs Too Perfetta
URL:/League/Schedule/3182
DESCRIPTION:Regular Season match: Bocchums vs Too Perfetta
LOCATION:Newhall Court 4
END:VEVENT
BEGIN:VEVENT
DTSTAMP:20260426T000000Z
UID:de7f5656-9d78-4e87-86ce-3abebb9ab62b@ClaytonBocce
DTSTART;TZID=America/Los_Angeles:20260831T183000
DTEND;TZID=America/Los_Angeles:20260831T210000
STATUS:CONFIRMED
SUMMARY:Bocchums vs Rolandelli Construction
URL:/League/Schedule/3182
DESCRIPTION:Regular Season match: Bocchums vs Rolandelli Con
 struction
LOCATION:Newhall Court 2
END:VEVENT
END:VCALENDAR
