BEGIN:VCALENDAR
VERSION:2.0
PRODID:-//Clayton Bocce League
METHOD:PUBLISH
BEGIN:VTIMEZONE
TZID:America/Los_Angeles
X-LIC-LOCATION:America/Los_Angeles
BEGIN:DAYLIGHT
TZOFFSETFROM:-0800
TZOFFSETTO:-0700
TZNAME:PDT
DTSTART:20070311T020000
RRULE:FREQ=YEARLY;BYMONTH=3;BYDAY=2SU
END:DAYLIGHT
BEGIN:STANDARD
TZOFFSETFROM:-0700
TZOFFSETTO:-0800
TZNAME:PST
DTSTART:20071104T020000
RRULE:FREQ=YEARLY;BYMONTH=11;BYDAY=1SU
END:STANDARD
END:VTIMEZONE
BEGIN:VEVENT
DTSTAMP:20260426T000000Z
UID:efc7136a-02af-448a-9307-ca3b470f5fd5@ClaytonBocce
DTSTART;TZID=America/Los_Angeles:20260427T183000
DTEND;TZID=America/Los_Angeles:20260427T210000
STATUS:CONFIRMED
SUMMARY:The Bocce Bunch vs Rollers
URL:/League/Schedule/3179
DESCRIPTION:Regular Season match: The Bocce Bunch vs Rollers
LOCATION:Newhall Court 4
END:VEVENT
BEGIN:VEVENT
DTSTAMP:20260426T000000Z
UID:fdfd41bc-f552-44b9-a1c1-710a0f17c087@ClaytonBocce
DTSTART;TZID=America/Los_Angeles:20260504T183000
DTEND;TZID=America/Los_Angeles:20260504T210000
STATUS:CONFIRMED
SUMMARY:The Bocce Bunch vs Bocce Amore
URL:/League/Schedule/3179
DESCRIPTION:Regular Season match: The Bocce Bunch vs Bocce A
 more
LOCATION:Newhall Court 7
END:VEVENT
BEGIN:VEVENT
DTSTAMP:20260426T000000Z
UID:1a8157cb-54ab-4b24-a837-e67f44c76f52@ClaytonBocce
DTSTART;TZID=America/Los_Angeles:20260511T183000
DTEND;TZID=America/Los_Angeles:20260511T210000
STATUS:CONFIRMED
SUMMARY:The Bocce Bunch vs The Sting
URL:/League/Schedule/3179
DESCRIPTION:Regular Season match: The Bocce Bunch vs The Sti
 ng
LOCATION:Newhall Court 6
END:VEVENT
BEGIN:VEVENT
DTSTAMP:20260426T000000Z
UID:398e2fa5-c354-487c-9171-0ae61cc3ca5f@ClaytonBocce
DTSTART;TZID=America/Los_Angeles:20260518T183000
DTEND;TZID=America/Los_Angeles:20260518T210000
STATUS:CONFIRMED
SUMMARY:The Bocce Bunch vs Team Forza
URL:/League/Schedule/3179
DESCRIPTION:Regular Season match: The Bocce Bunch vs Team Fo
 rza
LOCATION:Newhall Court 2
END:VEVENT
BEGIN:VEVENT
DTSTAMP:20260426T000000Z
UID:233e5bd2-2904-4ebe-a2d9-ed50dcf01b10@ClaytonBocce
DTSTART;TZID=America/Los_Angeles:20260525T183000
DTEND;TZID=America/Los_Angeles:20260525T210000
STATUS:CONFIRMED
SUMMARY:The Bocce Bunch vs Bergum 2
URL:/League/Schedule/3179
DESCRIPTION:Regular Season match: The Bocce Bunch vs Bergum 
 2
LOCATION:Newhall Court 8
END:VEVENT
BEGIN:VEVENT
DTSTAMP:20260426T000000Z
UID:7e503024-a029-4da9-81ee-31817deaab7b@ClaytonBocce
DTSTART;TZID=America/Los_Angeles:20260608T183000
DTEND;TZID=America/Los_Angeles:20260608T210000
STATUS:CONFIRMED
SUMMARY:The Bocce Bunch vs Roll-em Pirates
URL:/League/Schedule/3179
DESCRIPTION:Regular Season match: The Bocce Bunch vs Roll-em
  Pirates
LOCATION:Newhall Court 5
END:VEVENT
BEGIN:VEVENT
DTSTAMP:20260426T000000Z
UID:f3fbd768-6d8d-40f1-87cc-bccd99f46fd7@ClaytonBocce
DTSTART;TZID=America/Los_Angeles:20260615T183000
DTEND;TZID=America/Los_Angeles:20260615T210000
STATUS:CONFIRMED
SUMMARY:The Bocce Bunch vs Pasta Fazu
URL:/League/Schedule/3179
DESCRIPTION:Regular Season match: The Bocce Bunch vs Pasta F
 azu
LOCATION:Newhall Court 4
END:VEVENT
BEGIN:VEVENT
DTSTAMP:20260426T000000Z
UID:6a05c5f0-3ffd-4121-9422-09da8e3a0af8@ClaytonBocce
DTSTART;TZID=America/Los_Angeles:20260622T183000
DTEND;TZID=America/Los_Angeles:20260622T210000
STATUS:CONFIRMED
SUMMARY:The Bocce Bunch vs Ciapamuschis
URL:/League/Schedule/3179
DESCRIPTION:Regular Season match: The Bocce Bunch vs Ciapamu
 schis
LOCATION:Newhall Court 1
END:VEVENT
BEGIN:VEVENT
DTSTAMP:20260426T000000Z
UID:e84eaf73-3fba-42e1-85de-201e6c174118@ClaytonBocce
DTSTART;TZID=America/Los_Angeles:20260629T183000
DTEND;TZID=America/Los_Angeles:20260629T210000
STATUS:CONFIRMED
SUMMARY:The Bocce Bunch vs Rollers
URL:/League/Schedule/3179
DESCRIPTION:Regular Season match: The Bocce Bunch vs Rollers
LOCATION:Newhall Court 2
END:VEVENT
BEGIN:VEVENT
DTSTAMP:20260426T000000Z
UID:f958e849-dbf9-4a62-b1d2-5dab0dff8548@ClaytonBocce
DTSTART;TZID=America/Los_Angeles:20260713T183000
DTEND;TZID=America/Los_Angeles:20260713T210000
STATUS:CONFIRMED
SUMMARY:The Bocce Bunch vs Bocce Amore
URL:/League/Schedule/3179
DESCRIPTION:Regular Season match: The Bocce Bunch vs Bocce A
 more
LOCATION:Newhall Court 6
END:VEVENT
BEGIN:VEVENT
DTSTAMP:20260426T000000Z
UID:258869e1-6daa-4453-a1d0-4f168b788344@ClaytonBocce
DTSTART;TZID=America/Los_Angeles:20260720T183000
DTEND;TZID=America/Los_Angeles:20260720T210000
STATUS:CONFIRMED
SUMMARY:The Bocce Bunch vs The Sting
URL:/League/Schedule/3179
DESCRIPTION:Regular Season match: The Bocce Bunch vs The Sti
 ng
LOCATION:Newhall Court 5
END:VEVENT
BEGIN:VEVENT
DTSTAMP:20260426T000000Z
UID:c76afa5a-d8fc-431a-a851-9d92d2179bdf@ClaytonBocce
DTSTART;TZID=America/Los_Angeles:20260727T183000
DTEND;TZID=America/Los_Angeles:20260727T210000
STATUS:CONFIRMED
SUMMARY:The Bocce Bunch vs Team Forza
URL:/League/Schedule/3179
DESCRIPTION:Regular Season match: The Bocce Bunch vs Team Fo
 rza
LOCATION:Newhall Court 4
END:VEVENT
BEGIN:VEVENT
DTSTAMP:20260426T000000Z
UID:940c81df-17ad-496c-b38c-927acd78f6f6@ClaytonBocce
DTSTART;TZID=America/Los_Angeles:20260803T183000
DTEND;TZID=America/Los_Angeles:20260803T210000
STATUS:CONFIRMED
SUMMARY:The Bocce Bunch vs Bergum 2
URL:/League/Schedule/3179
DESCRIPTION:Regular Season match: The Bocce Bunch vs Bergum 
 2
LOCATION:Newhall Court 7
END:VEVENT
BEGIN:VEVENT
DTSTAMP:20260426T000000Z
UID:9ebe417a-5f33-4de7-b42a-b8e7363b47e1@ClaytonBocce
DTSTART;TZID=America/Los_Angeles:20260817T183000
DTEND;TZID=America/Los_Angeles:20260817T210000
STATUS:CONFIRMED
SUMMARY:The Bocce Bunch vs Roll-em Pirates
URL:/League/Schedule/3179
DESCRIPTION:Regular Season match: The Bocce Bunch vs Roll-em
  Pirates
LOCATION:Newhall Court 5
END:VEVENT
BEGIN:VEVENT
DTSTAMP:20260426T000000Z
UID:b37cdde1-b32c-47c6-add3-b476512f4947@ClaytonBocce
DTSTART;TZID=America/Los_Angeles:20260824T183000
DTEND;TZID=America/Los_Angeles:20260824T210000
STATUS:CONFIRMED
SUMMARY:The Bocce Bunch vs Pasta Fazu
URL:/League/Schedule/3179
DESCRIPTION:Regular Season match: The Bocce Bunch vs Pasta F
 azu
LOCATION:Newhall Court 3
END:VEVENT
BEGIN:VEVENT
DTSTAMP:20260426T000000Z
UID:924640d0-f71a-4c11-a066-e354f0454582@ClaytonBocce
DTSTART;TZID=America/Los_Angeles:20260831T183000
DTEND;TZID=America/Los_Angeles:20260831T210000
STATUS:CONFIRMED
SUMMARY:The Bocce Bunch vs Ciapamuschis
URL:/League/Schedule/3179
DESCRIPTION:Regular Season match: The Bocce Bunch vs Ciapamu
 schis
LOCATION:Newhall Court 8
END:VEVENT
END:VCALENDAR
