BEGIN:VCALENDAR
VERSION:2.0
PRODID:-//Clayton Bocce League
METHOD:PUBLISH
BEGIN:VTIMEZONE
TZID:America/Los_Angeles
X-LIC-LOCATION:America/Los_Angeles
BEGIN:DAYLIGHT
TZOFFSETFROM:-0800
TZOFFSETTO:-0700
TZNAME:PDT
DTSTART:20070311T020000
RRULE:FREQ=YEARLY;BYMONTH=3;BYDAY=2SU
END:DAYLIGHT
BEGIN:STANDARD
TZOFFSETFROM:-0700
TZOFFSETTO:-0800
TZNAME:PST
DTSTART:20071104T020000
RRULE:FREQ=YEARLY;BYMONTH=11;BYDAY=1SU
END:STANDARD
END:VTIMEZONE
BEGIN:VEVENT
DTSTAMP:20260426T000000Z
UID:efc7136a-02af-448a-9307-ca3b470f5fd5@ClaytonBocce
DTSTART;TZID=America/Los_Angeles:20260427T183000
DTEND;TZID=America/Los_Angeles:20260427T210000
STATUS:CONFIRMED
SUMMARY:Rollers vs The Bocce Bunch
URL:/League/Schedule/3189
DESCRIPTION:Regular Season match: Rollers vs The Bocce Bunch
LOCATION:Newhall Court 4
END:VEVENT
BEGIN:VEVENT
DTSTAMP:20260426T000000Z
UID:9df78d31-5b6f-41cf-a3ea-1bf4af8cb1d7@ClaytonBocce
DTSTART;TZID=America/Los_Angeles:20260504T183000
DTEND;TZID=America/Los_Angeles:20260504T210000
STATUS:CONFIRMED
SUMMARY:Rollers vs Roll-em Pirates
URL:/League/Schedule/3189
DESCRIPTION:Regular Season match: Rollers vs Roll-em Pirates
LOCATION:Newhall Court 1
END:VEVENT
BEGIN:VEVENT
DTSTAMP:20260426T000000Z
UID:62790263-cb2f-474c-adfb-88c7719d17ce@ClaytonBocce
DTSTART;TZID=America/Los_Angeles:20260511T183000
DTEND;TZID=America/Los_Angeles:20260511T210000
STATUS:CONFIRMED
SUMMARY:Rollers vs Pasta Fazu
URL:/League/Schedule/3189
DESCRIPTION:Regular Season match: Rollers vs Pasta Fazu
LOCATION:Newhall Court 3
END:VEVENT
BEGIN:VEVENT
DTSTAMP:20260426T000000Z
UID:0f4f090f-b742-4c3e-8c8e-aa23cd1b5148@ClaytonBocce
DTSTART;TZID=America/Los_Angeles:20260518T183000
DTEND;TZID=America/Los_Angeles:20260518T210000
STATUS:CONFIRMED
SUMMARY:Rollers vs Ciapamuschis
URL:/League/Schedule/3189
DESCRIPTION:Regular Season match: Rollers vs Ciapamuschis
LOCATION:Newhall Court 7
END:VEVENT
BEGIN:VEVENT
DTSTAMP:20260426T000000Z
UID:d9f1d15d-0080-4f32-b940-c12ef72dd270@ClaytonBocce
DTSTART;TZID=America/Los_Angeles:20260601T183000
DTEND;TZID=America/Los_Angeles:20260601T210000
STATUS:CONFIRMED
SUMMARY:Rollers vs Bocce Amore
URL:/League/Schedule/3189
DESCRIPTION:Regular Season match: Rollers vs Bocce Amore
LOCATION:Newhall Court 2
END:VEVENT
BEGIN:VEVENT
DTSTAMP:20260426T000000Z
UID:54549b5f-9019-4ad3-bad4-5a50a167ebf1@ClaytonBocce
DTSTART;TZID=America/Los_Angeles:20260608T183000
DTEND;TZID=America/Los_Angeles:20260608T210000
STATUS:CONFIRMED
SUMMARY:Rollers vs The Sting
URL:/League/Schedule/3189
DESCRIPTION:Regular Season match: Rollers vs The Sting
LOCATION:Newhall Court 8
END:VEVENT
BEGIN:VEVENT
DTSTAMP:20260426T000000Z
UID:962762e2-d90f-4159-8183-07d4d783a4c2@ClaytonBocce
DTSTART;TZID=America/Los_Angeles:20260615T183000
DTEND;TZID=America/Los_Angeles:20260615T210000
STATUS:CONFIRMED
SUMMARY:Rollers vs Team Forza
URL:/League/Schedule/3189
DESCRIPTION:Regular Season match: Rollers vs Team Forza
LOCATION:Newhall Court 5
END:VEVENT
BEGIN:VEVENT
DTSTAMP:20260426T000000Z
UID:c96579f2-c2a6-4ef9-b8be-c9d6f12f47f1@ClaytonBocce
DTSTART;TZID=America/Los_Angeles:20260622T183000
DTEND;TZID=America/Los_Angeles:20260622T210000
STATUS:CONFIRMED
SUMMARY:Rollers vs Bergum 2
URL:/League/Schedule/3189
DESCRIPTION:Regular Season match: Rollers vs Bergum 2
LOCATION:Newhall Court 6
END:VEVENT
BEGIN:VEVENT
DTSTAMP:20260426T000000Z
UID:e84eaf73-3fba-42e1-85de-201e6c174118@ClaytonBocce
DTSTART;TZID=America/Los_Angeles:20260629T183000
DTEND;TZID=America/Los_Angeles:20260629T210000
STATUS:CONFIRMED
SUMMARY:Rollers vs The Bocce Bunch
URL:/League/Schedule/3189
DESCRIPTION:Regular Season match: Rollers vs The Bocce Bunch
LOCATION:Newhall Court 2
END:VEVENT
BEGIN:VEVENT
DTSTAMP:20260426T000000Z
UID:ccb71886-7e5c-4c1b-adb6-9d29982c80c5@ClaytonBocce
DTSTART;TZID=America/Los_Angeles:20260713T183000
DTEND;TZID=America/Los_Angeles:20260713T210000
STATUS:CONFIRMED
SUMMARY:Rollers vs Roll-em Pirates
URL:/League/Schedule/3189
DESCRIPTION:Regular Season match: Rollers vs Roll-em Pirates
LOCATION:Newhall Court 3
END:VEVENT
BEGIN:VEVENT
DTSTAMP:20260426T000000Z
UID:d6933f23-6efa-4904-83b9-eb4896e4fa54@ClaytonBocce
DTSTART;TZID=America/Los_Angeles:20260720T183000
DTEND;TZID=America/Los_Angeles:20260720T210000
STATUS:CONFIRMED
SUMMARY:Rollers vs Pasta Fazu
URL:/League/Schedule/3189
DESCRIPTION:Regular Season match: Rollers vs Pasta Fazu
LOCATION:Newhall Court 4
END:VEVENT
BEGIN:VEVENT
DTSTAMP:20260426T000000Z
UID:496f97de-a072-45ea-8826-181684b23fb1@ClaytonBocce
DTSTART;TZID=America/Los_Angeles:20260727T183000
DTEND;TZID=America/Los_Angeles:20260727T210000
STATUS:CONFIRMED
SUMMARY:Rollers vs Ciapamuschis
URL:/League/Schedule/3189
DESCRIPTION:Regular Season match: Rollers vs Ciapamuschis
LOCATION:Newhall Court 7
END:VEVENT
BEGIN:VEVENT
DTSTAMP:20260426T000000Z
UID:25d398a6-98ce-4c9c-ab59-e614f946bad0@ClaytonBocce
DTSTART;TZID=America/Los_Angeles:20260810T183000
DTEND;TZID=America/Los_Angeles:20260810T210000
STATUS:CONFIRMED
SUMMARY:Rollers vs Bocce Amore
URL:/League/Schedule/3189
DESCRIPTION:Regular Season match: Rollers vs Bocce Amore
LOCATION:Newhall Court 1
END:VEVENT
BEGIN:VEVENT
DTSTAMP:20260426T000000Z
UID:2247308b-2af2-4237-8ac8-a1a5165a34ea@ClaytonBocce
DTSTART;TZID=America/Los_Angeles:20260817T183000
DTEND;TZID=America/Los_Angeles:20260817T210000
STATUS:CONFIRMED
SUMMARY:Rollers vs The Sting
URL:/League/Schedule/3189
DESCRIPTION:Regular Season match: Rollers vs The Sting
LOCATION:Newhall Court 8
END:VEVENT
BEGIN:VEVENT
DTSTAMP:20260426T000000Z
UID:d0456db5-cae7-4eb8-8cb3-1ef90607d81b@ClaytonBocce
DTSTART;TZID=America/Los_Angeles:20260824T183000
DTEND;TZID=America/Los_Angeles:20260824T210000
STATUS:CONFIRMED
SUMMARY:Rollers vs Team Forza
URL:/League/Schedule/3189
DESCRIPTION:Regular Season match: Rollers vs Team Forza
LOCATION:Newhall Court 6
END:VEVENT
BEGIN:VEVENT
DTSTAMP:20260426T000000Z
UID:5c27bce7-59ff-4689-9d33-f6e20a85730c@ClaytonBocce
DTSTART;TZID=America/Los_Angeles:20260831T183000
DTEND;TZID=America/Los_Angeles:20260831T210000
STATUS:CONFIRMED
SUMMARY:Rollers vs Bergum 2
URL:/League/Schedule/3189
DESCRIPTION:Regular Season match: Rollers vs Bergum 2
LOCATION:Newhall Court 1
END:VEVENT
END:VCALENDAR
