BEGIN:VCALENDAR
VERSION:2.0
PRODID:-//Clayton Bocce League
METHOD:PUBLISH
BEGIN:VTIMEZONE
TZID:America/Los_Angeles
X-LIC-LOCATION:America/Los_Angeles
BEGIN:DAYLIGHT
TZOFFSETFROM:-0800
TZOFFSETTO:-0700
TZNAME:PDT
DTSTART:20070311T020000
RRULE:FREQ=YEARLY;BYMONTH=3;BYDAY=2SU
END:DAYLIGHT
BEGIN:STANDARD
TZOFFSETFROM:-0700
TZOFFSETTO:-0800
TZNAME:PST
DTSTART:20071104T020000
RRULE:FREQ=YEARLY;BYMONTH=11;BYDAY=1SU
END:STANDARD
END:VTIMEZONE
BEGIN:VEVENT
DTSTAMP:20260426T000000Z
UID:71e66ccc-4160-49bd-862e-5e5764485aa7@ClaytonBocce
DTSTART;TZID=America/Los_Angeles:20260427T183000
DTEND;TZID=America/Los_Angeles:20260427T210000
STATUS:CONFIRMED
SUMMARY:Hard Tossing Excitement vs Pallino da Corsa
URL:/League/Schedule/3178
DESCRIPTION:Regular Season match: Hard Tossing Excitement vs
  Pallino da Corsa
LOCATION:Newhall Court 7
END:VEVENT
BEGIN:VEVENT
DTSTAMP:20260426T000000Z
UID:1ced3f60-4f90-45f5-b02b-9f808b8d7411@ClaytonBocce
DTSTART;TZID=America/Los_Angeles:20260504T183000
DTEND;TZID=America/Los_Angeles:20260504T210000
STATUS:CONFIRMED
SUMMARY:Hard Tossing Excitement vs Too Perfetta
URL:/League/Schedule/3178
DESCRIPTION:Regular Season match: Hard Tossing Excitement vs
  Too Perfetta
LOCATION:Newhall Court 4
END:VEVENT
BEGIN:VEVENT
DTSTAMP:20260426T000000Z
UID:c04cb9a7-3716-44e7-ba14-59310ca3b244@ClaytonBocce
DTSTART;TZID=America/Los_Angeles:20260511T183000
DTEND;TZID=America/Los_Angeles:20260511T210000
STATUS:CONFIRMED
SUMMARY:Hard Tossing Excitement vs Bocchums
URL:/League/Schedule/3178
DESCRIPTION:Regular Season match: Hard Tossing Excitement vs
  Bocchums
LOCATION:Newhall Court 1
END:VEVENT
BEGIN:VEVENT
DTSTAMP:20260426T000000Z
UID:99e07775-5c8d-44eb-aad2-7ebc1ff3975e@ClaytonBocce
DTSTART;TZID=America/Los_Angeles:20260518T183000
DTEND;TZID=America/Los_Angeles:20260518T210000
STATUS:CONFIRMED
SUMMARY:Hard Tossing Excitement vs Rolandelli Construction
URL:/League/Schedule/3178
DESCRIPTION:Regular Season match: Hard Tossing Excitement vs
  Rolandelli Construction
LOCATION:Newhall Court 5
END:VEVENT
BEGIN:VEVENT
DTSTAMP:20260426T000000Z
UID:2c2dd079-cd78-49a5-a88c-55bee0616ac2@ClaytonBocce
DTSTART;TZID=America/Los_Angeles:20260525T183000
DTEND;TZID=America/Los_Angeles:20260525T210000
STATUS:CONFIRMED
SUMMARY:Hard Tossing Excitement vs Boccenators
URL:/League/Schedule/3178
DESCRIPTION:Regular Season match: Hard Tossing Excitement vs
  Boccenators
LOCATION:Newhall Court 4
END:VEVENT
BEGIN:VEVENT
DTSTAMP:20260426T000000Z
UID:2c242fc6-bd7b-45f4-8d0d-e3058d1aea97@ClaytonBocce
DTSTART;TZID=America/Los_Angeles:20260601T183000
DTEND;TZID=America/Los_Angeles:20260601T210000
STATUS:CONFIRMED
SUMMARY:Hard Tossing Excitement vs Pallino Pursuit
URL:/League/Schedule/3178
DESCRIPTION:Regular Season match: Hard Tossing Excitement vs
  Pallino Pursuit
LOCATION:Newhall Court 8
END:VEVENT
BEGIN:VEVENT
DTSTAMP:20260426T000000Z
UID:12af98df-866b-49ac-9b6e-fb81911adcb8@ClaytonBocce
DTSTART;TZID=America/Los_Angeles:20260615T183000
DTEND;TZID=America/Los_Angeles:20260615T210000
STATUS:CONFIRMED
SUMMARY:Hard Tossing Excitement vs Repeat Offenders
URL:/League/Schedule/3178
DESCRIPTION:Regular Season match: Hard Tossing Excitement vs
  Repeat Offenders
LOCATION:Newhall Court 6
END:VEVENT
BEGIN:VEVENT
DTSTAMP:20260426T000000Z
UID:6030f2da-2335-47c7-a41f-f015027f540f@ClaytonBocce
DTSTART;TZID=America/Los_Angeles:20260622T183000
DTEND;TZID=America/Los_Angeles:20260622T210000
STATUS:CONFIRMED
SUMMARY:Hard Tossing Excitement vs Boccelicious
URL:/League/Schedule/3178
DESCRIPTION:Regular Season match: Hard Tossing Excitement vs
  Boccelicious
LOCATION:Newhall Court 2
END:VEVENT
BEGIN:VEVENT
DTSTAMP:20260426T000000Z
UID:f4f29f84-9265-44cc-a708-a17047b19a2d@ClaytonBocce
DTSTART;TZID=America/Los_Angeles:20260629T183000
DTEND;TZID=America/Los_Angeles:20260629T210000
STATUS:CONFIRMED
SUMMARY:Hard Tossing Excitement vs Pallino da Corsa
URL:/League/Schedule/3178
DESCRIPTION:Regular Season match: Hard Tossing Excitement vs
  Pallino da Corsa
LOCATION:Newhall Court 8
END:VEVENT
BEGIN:VEVENT
DTSTAMP:20260426T000000Z
UID:89b6f63f-d587-4a6c-9ab0-1aa18107a8d3@ClaytonBocce
DTSTART;TZID=America/Los_Angeles:20260713T183000
DTEND;TZID=America/Los_Angeles:20260713T210000
STATUS:CONFIRMED
SUMMARY:Hard Tossing Excitement vs Too Perfetta
URL:/League/Schedule/3178
DESCRIPTION:Regular Season match: Hard Tossing Excitement vs
  Too Perfetta
LOCATION:Newhall Court 1
END:VEVENT
BEGIN:VEVENT
DTSTAMP:20260426T000000Z
UID:fe5b26dc-711c-483b-a6de-b8bb50d32d77@ClaytonBocce
DTSTART;TZID=America/Los_Angeles:20260720T183000
DTEND;TZID=America/Los_Angeles:20260720T210000
STATUS:CONFIRMED
SUMMARY:Hard Tossing Excitement vs Bocchums
URL:/League/Schedule/3178
DESCRIPTION:Regular Season match: Hard Tossing Excitement vs
  Bocchums
LOCATION:Newhall Court 7
END:VEVENT
BEGIN:VEVENT
DTSTAMP:20260426T000000Z
UID:5992834e-7e96-4354-a1f8-84cf58c0bac2@ClaytonBocce
DTSTART;TZID=America/Los_Angeles:20260727T183000
DTEND;TZID=America/Los_Angeles:20260727T210000
STATUS:CONFIRMED
SUMMARY:Hard Tossing Excitement vs Rolandelli Construction
URL:/League/Schedule/3178
DESCRIPTION:Regular Season match: Hard Tossing Excitement vs
  Rolandelli Construction
LOCATION:Newhall Court 3
END:VEVENT
BEGIN:VEVENT
DTSTAMP:20260426T000000Z
UID:144e27d7-482a-4833-8c7b-af82829fdad9@ClaytonBocce
DTSTART;TZID=America/Los_Angeles:20260803T183000
DTEND;TZID=America/Los_Angeles:20260803T210000
STATUS:CONFIRMED
SUMMARY:Hard Tossing Excitement vs Boccenators
URL:/League/Schedule/3178
DESCRIPTION:Regular Season match: Hard Tossing Excitement vs
  Boccenators
LOCATION:Newhall Court 8
END:VEVENT
BEGIN:VEVENT
DTSTAMP:20260426T000000Z
UID:7cf737cc-ba9e-40fd-947b-695266280cc5@ClaytonBocce
DTSTART;TZID=America/Los_Angeles:20260810T183000
DTEND;TZID=America/Los_Angeles:20260810T210000
STATUS:CONFIRMED
SUMMARY:Hard Tossing Excitement vs Pallino Pursuit
URL:/League/Schedule/3178
DESCRIPTION:Regular Season match: Hard Tossing Excitement vs
  Pallino Pursuit
LOCATION:Newhall Court 7
END:VEVENT
BEGIN:VEVENT
DTSTAMP:20260426T000000Z
UID:84933ac6-699c-436e-99a3-b0e2955c3f50@ClaytonBocce
DTSTART;TZID=America/Los_Angeles:20260824T183000
DTEND;TZID=America/Los_Angeles:20260824T210000
STATUS:CONFIRMED
SUMMARY:Hard Tossing Excitement vs Repeat Offenders
URL:/League/Schedule/3178
DESCRIPTION:Regular Season match: Hard Tossing Excitement vs
  Repeat Offenders
LOCATION:Newhall Court 2
END:VEVENT
BEGIN:VEVENT
DTSTAMP:20260426T000000Z
UID:d0c9c37b-6763-4919-8629-8f946f8cae40@ClaytonBocce
DTSTART;TZID=America/Los_Angeles:20260831T183000
DTEND;TZID=America/Los_Angeles:20260831T210000
STATUS:CONFIRMED
SUMMARY:Hard Tossing Excitement vs Boccelicious
URL:/League/Schedule/3178
DESCRIPTION:Regular Season match: Hard Tossing Excitement vs
  Boccelicious
LOCATION:Newhall Court 3
END:VEVENT
END:VCALENDAR
