BEGIN:VCALENDAR
VERSION:2.0
PRODID:-//Clayton Bocce League
METHOD:PUBLISH
BEGIN:VTIMEZONE
TZID:America/Los_Angeles
X-LIC-LOCATION:America/Los_Angeles
BEGIN:DAYLIGHT
TZOFFSETFROM:-0800
TZOFFSETTO:-0700
TZNAME:PDT
DTSTART:20070311T020000
RRULE:FREQ=YEARLY;BYMONTH=3;BYDAY=2SU
END:DAYLIGHT
BEGIN:STANDARD
TZOFFSETFROM:-0700
TZOFFSETTO:-0800
TZNAME:PST
DTSTART:20071104T020000
RRULE:FREQ=YEARLY;BYMONTH=11;BYDAY=1SU
END:STANDARD
END:VTIMEZONE
BEGIN:VEVENT
DTSTAMP:20260426T000000Z
UID:71e66ccc-4160-49bd-862e-5e5764485aa7@ClaytonBocce
DTSTART;TZID=America/Los_Angeles:20260427T183000
DTEND;TZID=America/Los_Angeles:20260427T210000
STATUS:CONFIRMED
SUMMARY:Pallino da Corsa vs Hard Tossing Excitement
URL:/League/Schedule/3184
DESCRIPTION:Regular Season match: Pallino da Corsa vs Hard T
 ossing Excitement
LOCATION:Newhall Court 7
END:VEVENT
BEGIN:VEVENT
DTSTAMP:20260426T000000Z
UID:8f61c50f-80b8-4efc-b952-4b83fec31795@ClaytonBocce
DTSTART;TZID=America/Los_Angeles:20260504T183000
DTEND;TZID=America/Los_Angeles:20260504T210000
STATUS:CONFIRMED
SUMMARY:Pallino da Corsa vs Repeat Offenders
URL:/League/Schedule/3184
DESCRIPTION:Regular Season match: Pallino da Corsa vs Repeat
  Offenders
LOCATION:Newhall Court 3
END:VEVENT
BEGIN:VEVENT
DTSTAMP:20260426T000000Z
UID:9464b126-fcec-4650-ba4c-c74927d1a8bf@ClaytonBocce
DTSTART;TZID=America/Los_Angeles:20260511T183000
DTEND;TZID=America/Los_Angeles:20260511T210000
STATUS:CONFIRMED
SUMMARY:Pallino da Corsa vs Boccelicious
URL:/League/Schedule/3184
DESCRIPTION:Regular Season match: Pallino da Corsa vs Boccel
 icious
LOCATION:Newhall Court 8
END:VEVENT
BEGIN:VEVENT
DTSTAMP:20260426T000000Z
UID:2f8906cc-7ee7-422c-9c36-661b9d087451@ClaytonBocce
DTSTART;TZID=America/Los_Angeles:20260525T183000
DTEND;TZID=America/Los_Angeles:20260525T210000
STATUS:CONFIRMED
SUMMARY:Pallino da Corsa vs Too Perfetta
URL:/League/Schedule/3184
DESCRIPTION:Regular Season match: Pallino da Corsa vs Too Pe
 rfetta
LOCATION:Newhall Court 5
END:VEVENT
BEGIN:VEVENT
DTSTAMP:20260426T000000Z
UID:b4f6e9c4-4615-49de-bcab-0374ff9d3fec@ClaytonBocce
DTSTART;TZID=America/Los_Angeles:20260601T183000
DTEND;TZID=America/Los_Angeles:20260601T210000
STATUS:CONFIRMED
SUMMARY:Pallino da Corsa vs Bocchums
URL:/League/Schedule/3184
DESCRIPTION:Regular Season match: Pallino da Corsa vs Bocchu
 ms
LOCATION:Newhall Court 1
END:VEVENT
BEGIN:VEVENT
DTSTAMP:20260426T000000Z
UID:c05b2caf-edae-45bc-bb3b-fe0749c96ac6@ClaytonBocce
DTSTART;TZID=America/Los_Angeles:20260608T183000
DTEND;TZID=America/Los_Angeles:20260608T210000
STATUS:CONFIRMED
SUMMARY:Pallino da Corsa vs Rolandelli Construction
URL:/League/Schedule/3184
DESCRIPTION:Regular Season match: Pallino da Corsa vs Roland
 elli Construction
LOCATION:Newhall Court 7
END:VEVENT
BEGIN:VEVENT
DTSTAMP:20260426T000000Z
UID:12bed990-5e37-4d4f-9a8a-655dedc1c0ff@ClaytonBocce
DTSTART;TZID=America/Los_Angeles:20260615T183000
DTEND;TZID=America/Los_Angeles:20260615T210000
STATUS:CONFIRMED
SUMMARY:Pallino da Corsa vs Boccenators
URL:/League/Schedule/3184
DESCRIPTION:Regular Season match: Pallino da Corsa vs Boccen
 ators
LOCATION:Newhall Court 3
END:VEVENT
BEGIN:VEVENT
DTSTAMP:20260426T000000Z
UID:d755b040-66b5-43a3-9705-ffd25d2deda4@ClaytonBocce
DTSTART;TZID=America/Los_Angeles:20260622T183000
DTEND;TZID=America/Los_Angeles:20260622T210000
STATUS:CONFIRMED
SUMMARY:Pallino da Corsa vs Pallino Pursuit
URL:/League/Schedule/3184
DESCRIPTION:Regular Season match: Pallino da Corsa vs Pallin
 o Pursuit
LOCATION:Newhall Court 4
END:VEVENT
BEGIN:VEVENT
DTSTAMP:20260426T000000Z
UID:f4f29f84-9265-44cc-a708-a17047b19a2d@ClaytonBocce
DTSTART;TZID=America/Los_Angeles:20260629T183000
DTEND;TZID=America/Los_Angeles:20260629T210000
STATUS:CONFIRMED
SUMMARY:Pallino da Corsa vs Hard Tossing Excitement
URL:/League/Schedule/3184
DESCRIPTION:Regular Season match: Pallino da Corsa vs Hard T
 ossing Excitement
LOCATION:Newhall Court 8
END:VEVENT
BEGIN:VEVENT
DTSTAMP:20260426T000000Z
UID:eff42de9-ee85-49a6-a567-48072c8d477d@ClaytonBocce
DTSTART;TZID=America/Los_Angeles:20260713T183000
DTEND;TZID=America/Los_Angeles:20260713T210000
STATUS:CONFIRMED
SUMMARY:Pallino da Corsa vs Repeat Offenders
URL:/League/Schedule/3184
DESCRIPTION:Regular Season match: Pallino da Corsa vs Repeat
  Offenders
LOCATION:Newhall Court 2
END:VEVENT
BEGIN:VEVENT
DTSTAMP:20260426T000000Z
UID:33461a00-246f-4e3b-a835-877b4336c18d@ClaytonBocce
DTSTART;TZID=America/Los_Angeles:20260720T183000
DTEND;TZID=America/Los_Angeles:20260720T210000
STATUS:CONFIRMED
SUMMARY:Pallino da Corsa vs Boccelicious
URL:/League/Schedule/3184
DESCRIPTION:Regular Season match: Pallino da Corsa vs Boccel
 icious
LOCATION:Newhall Court 1
END:VEVENT
BEGIN:VEVENT
DTSTAMP:20260426T000000Z
UID:b6503819-2deb-48f1-9546-5c4e559f480e@ClaytonBocce
DTSTART;TZID=America/Los_Angeles:20260803T183000
DTEND;TZID=America/Los_Angeles:20260803T210000
STATUS:CONFIRMED
SUMMARY:Pallino da Corsa vs Too Perfetta
URL:/League/Schedule/3184
DESCRIPTION:Regular Season match: Pallino da Corsa vs Too Pe
 rfetta
LOCATION:Newhall Court 5
END:VEVENT
BEGIN:VEVENT
DTSTAMP:20260426T000000Z
UID:7f40804f-069c-4ae6-9e3a-6cd54fc124b9@ClaytonBocce
DTSTART;TZID=America/Los_Angeles:20260810T183000
DTEND;TZID=America/Los_Angeles:20260810T210000
STATUS:CONFIRMED
SUMMARY:Pallino da Corsa vs Bocchums
URL:/League/Schedule/3184
DESCRIPTION:Regular Season match: Pallino da Corsa vs Bocchu
 ms
LOCATION:Newhall Court 3
END:VEVENT
BEGIN:VEVENT
DTSTAMP:20260426T000000Z
UID:1cb2113d-10e6-47ab-8068-b1f27d6930d1@ClaytonBocce
DTSTART;TZID=America/Los_Angeles:20260817T183000
DTEND;TZID=America/Los_Angeles:20260817T210000
STATUS:CONFIRMED
SUMMARY:Pallino da Corsa vs Rolandelli Construction
URL:/League/Schedule/3184
DESCRIPTION:Regular Season match: Pallino da Corsa vs Roland
 elli Construction
LOCATION:Newhall Court 6
END:VEVENT
BEGIN:VEVENT
DTSTAMP:20260426T000000Z
UID:f9ae48ce-3edb-4f80-8cae-aa4960cfd10e@ClaytonBocce
DTSTART;TZID=America/Los_Angeles:20260824T183000
DTEND;TZID=America/Los_Angeles:20260824T210000
STATUS:CONFIRMED
SUMMARY:Pallino da Corsa vs Boccenators
URL:/League/Schedule/3184
DESCRIPTION:Regular Season match: Pallino da Corsa vs Boccen
 ators
LOCATION:Newhall Court 8
END:VEVENT
BEGIN:VEVENT
DTSTAMP:20260426T000000Z
UID:ae25bc87-c2ef-4710-99b5-10a2f9602b4b@ClaytonBocce
DTSTART;TZID=America/Los_Angeles:20260831T183000
DTEND;TZID=America/Los_Angeles:20260831T210000
STATUS:CONFIRMED
SUMMARY:Pallino da Corsa vs Pallino Pursuit
URL:/League/Schedule/3184
DESCRIPTION:Regular Season match: Pallino da Corsa vs Pallin
 o Pursuit
LOCATION:Newhall Court 6
END:VEVENT
END:VCALENDAR
