BEGIN:VCALENDAR
VERSION:2.0
PRODID:-//Clayton Bocce League
METHOD:PUBLISH
BEGIN:VTIMEZONE
TZID:America/Los_Angeles
X-LIC-LOCATION:America/Los_Angeles
BEGIN:DAYLIGHT
TZOFFSETFROM:-0800
TZOFFSETTO:-0700
TZNAME:PDT
DTSTART:20070311T020000
RRULE:FREQ=YEARLY;BYMONTH=3;BYDAY=2SU
END:DAYLIGHT
BEGIN:STANDARD
TZOFFSETFROM:-0700
TZOFFSETTO:-0800
TZNAME:PST
DTSTART:20071104T020000
RRULE:FREQ=YEARLY;BYMONTH=11;BYDAY=1SU
END:STANDARD
END:VTIMEZONE
BEGIN:VEVENT
DTSTAMP:20260426T000000Z
UID:ca1a6e65-3385-4ab3-ba18-4568c4d8c148@ClaytonBocce
DTSTART;TZID=America/Los_Angeles:20260427T183000
DTEND;TZID=America/Los_Angeles:20260427T210000
STATUS:CONFIRMED
SUMMARY:Bocce Amore vs Bergum 2
URL:/League/Schedule/3177
DESCRIPTION:Regular Season match: Bocce Amore vs Bergum 2
LOCATION:Newhall Court 3
END:VEVENT
BEGIN:VEVENT
DTSTAMP:20260426T000000Z
UID:fdfd41bc-f552-44b9-a1c1-710a0f17c087@ClaytonBocce
DTSTART;TZID=America/Los_Angeles:20260504T183000
DTEND;TZID=America/Los_Angeles:20260504T210000
STATUS:CONFIRMED
SUMMARY:Bocce Amore vs The Bocce Bunch
URL:/League/Schedule/3177
DESCRIPTION:Regular Season match: Bocce Amore vs The Bocce B
 unch
LOCATION:Newhall Court 7
END:VEVENT
BEGIN:VEVENT
DTSTAMP:20260426T000000Z
UID:6cc800d0-4bf0-4708-836a-5008d6f5dfc5@ClaytonBocce
DTSTART;TZID=America/Los_Angeles:20260511T183000
DTEND;TZID=America/Los_Angeles:20260511T210000
STATUS:CONFIRMED
SUMMARY:Bocce Amore vs Roll-em Pirates
URL:/League/Schedule/3177
DESCRIPTION:Regular Season match: Bocce Amore vs Roll-em Pir
 ates
LOCATION:Newhall Court 5
END:VEVENT
BEGIN:VEVENT
DTSTAMP:20260426T000000Z
UID:b12df73d-afeb-4d58-b04c-a5d32116e4b3@ClaytonBocce
DTSTART;TZID=America/Los_Angeles:20260518T183000
DTEND;TZID=America/Los_Angeles:20260518T210000
STATUS:CONFIRMED
SUMMARY:Bocce Amore vs Pasta Fazu
URL:/League/Schedule/3177
DESCRIPTION:Regular Season match: Bocce Amore vs Pasta Fazu
LOCATION:Newhall Court 4
END:VEVENT
BEGIN:VEVENT
DTSTAMP:20260426T000000Z
UID:c560bd24-e57f-4717-96b4-e08e08332ddb@ClaytonBocce
DTSTART;TZID=America/Los_Angeles:20260525T183000
DTEND;TZID=America/Los_Angeles:20260525T210000
STATUS:CONFIRMED
SUMMARY:Bocce Amore vs Ciapamuschis
URL:/League/Schedule/3177
DESCRIPTION:Regular Season match: Bocce Amore vs Ciapamuschi
 s
LOCATION:Newhall Court 6
END:VEVENT
BEGIN:VEVENT
DTSTAMP:20260426T000000Z
UID:d9f1d15d-0080-4f32-b940-c12ef72dd270@ClaytonBocce
DTSTART;TZID=America/Los_Angeles:20260601T183000
DTEND;TZID=America/Los_Angeles:20260601T210000
STATUS:CONFIRMED
SUMMARY:Bocce Amore vs Rollers
URL:/League/Schedule/3177
DESCRIPTION:Regular Season match: Bocce Amore vs Rollers
LOCATION:Newhall Court 2
END:VEVENT
BEGIN:VEVENT
DTSTAMP:20260426T000000Z
UID:cda13275-a4e7-4f73-aaff-40366c2ba0bd@ClaytonBocce
DTSTART;TZID=America/Los_Angeles:20260615T183000
DTEND;TZID=America/Los_Angeles:20260615T210000
STATUS:CONFIRMED
SUMMARY:Bocce Amore vs The Sting
URL:/League/Schedule/3177
DESCRIPTION:Regular Season match: Bocce Amore vs The Sting
LOCATION:Newhall Court 1
END:VEVENT
BEGIN:VEVENT
DTSTAMP:20260426T000000Z
UID:4576145e-9d1c-41d8-b838-10c3026db1e6@ClaytonBocce
DTSTART;TZID=America/Los_Angeles:20260622T183000
DTEND;TZID=America/Los_Angeles:20260622T210000
STATUS:CONFIRMED
SUMMARY:Bocce Amore vs Team Forza
URL:/League/Schedule/3177
DESCRIPTION:Regular Season match: Bocce Amore vs Team Forza
LOCATION:Newhall Court 8
END:VEVENT
BEGIN:VEVENT
DTSTAMP:20260426T000000Z
UID:85f53326-e949-44a2-942e-8f076b94ea36@ClaytonBocce
DTSTART;TZID=America/Los_Angeles:20260629T183000
DTEND;TZID=America/Los_Angeles:20260629T210000
STATUS:CONFIRMED
SUMMARY:Bocce Amore vs Bergum 2
URL:/League/Schedule/3177
DESCRIPTION:Regular Season match: Bocce Amore vs Bergum 2
LOCATION:Newhall Court 5
END:VEVENT
BEGIN:VEVENT
DTSTAMP:20260426T000000Z
UID:f958e849-dbf9-4a62-b1d2-5dab0dff8548@ClaytonBocce
DTSTART;TZID=America/Los_Angeles:20260713T183000
DTEND;TZID=America/Los_Angeles:20260713T210000
STATUS:CONFIRMED
SUMMARY:Bocce Amore vs The Bocce Bunch
URL:/League/Schedule/3177
DESCRIPTION:Regular Season match: Bocce Amore vs The Bocce B
 unch
LOCATION:Newhall Court 6
END:VEVENT
BEGIN:VEVENT
DTSTAMP:20260426T000000Z
UID:8b9581ef-5d9f-4915-af28-3501f3186f58@ClaytonBocce
DTSTART;TZID=America/Los_Angeles:20260720T183000
DTEND;TZID=America/Los_Angeles:20260720T210000
STATUS:CONFIRMED
SUMMARY:Bocce Amore vs Roll-em Pirates
URL:/League/Schedule/3177
DESCRIPTION:Regular Season match: Bocce Amore vs Roll-em Pir
 ates
LOCATION:Newhall Court 2
END:VEVENT
BEGIN:VEVENT
DTSTAMP:20260426T000000Z
UID:d110406e-9d02-495a-9aad-64038f891d66@ClaytonBocce
DTSTART;TZID=America/Los_Angeles:20260727T183000
DTEND;TZID=America/Los_Angeles:20260727T210000
STATUS:CONFIRMED
SUMMARY:Bocce Amore vs Pasta Fazu
URL:/League/Schedule/3177
DESCRIPTION:Regular Season match: Bocce Amore vs Pasta Fazu
LOCATION:Newhall Court 8
END:VEVENT
BEGIN:VEVENT
DTSTAMP:20260426T000000Z
UID:0e95d148-8a5b-42eb-9f0b-08dddaa36cd5@ClaytonBocce
DTSTART;TZID=America/Los_Angeles:20260803T183000
DTEND;TZID=America/Los_Angeles:20260803T210000
STATUS:CONFIRMED
SUMMARY:Bocce Amore vs Ciapamuschis
URL:/League/Schedule/3177
DESCRIPTION:Regular Season match: Bocce Amore vs Ciapamuschi
 s
LOCATION:Newhall Court 3
END:VEVENT
BEGIN:VEVENT
DTSTAMP:20260426T000000Z
UID:25d398a6-98ce-4c9c-ab59-e614f946bad0@ClaytonBocce
DTSTART;TZID=America/Los_Angeles:20260810T183000
DTEND;TZID=America/Los_Angeles:20260810T210000
STATUS:CONFIRMED
SUMMARY:Bocce Amore vs Rollers
URL:/League/Schedule/3177
DESCRIPTION:Regular Season match: Bocce Amore vs Rollers
LOCATION:Newhall Court 1
END:VEVENT
BEGIN:VEVENT
DTSTAMP:20260426T000000Z
UID:977bce3a-74df-48a9-b055-8c45c621e0fa@ClaytonBocce
DTSTART;TZID=America/Los_Angeles:20260824T183000
DTEND;TZID=America/Los_Angeles:20260824T210000
STATUS:CONFIRMED
SUMMARY:Bocce Amore vs The Sting
URL:/League/Schedule/3177
DESCRIPTION:Regular Season match: Bocce Amore vs The Sting
LOCATION:Newhall Court 7
END:VEVENT
BEGIN:VEVENT
DTSTAMP:20260426T000000Z
UID:8410dd02-f267-4c38-b119-9d1c6e9f41a3@ClaytonBocce
DTSTART;TZID=America/Los_Angeles:20260831T183000
DTEND;TZID=America/Los_Angeles:20260831T210000
STATUS:CONFIRMED
SUMMARY:Bocce Amore vs Team Forza
URL:/League/Schedule/3177
DESCRIPTION:Regular Season match: Bocce Amore vs Team Forza
LOCATION:Newhall Court 4
END:VEVENT
END:VCALENDAR
