BEGIN:VCALENDAR
VERSION:2.0
PRODID:-//Clayton Bocce League
METHOD:PUBLISH
BEGIN:VTIMEZONE
TZID:America/Los_Angeles
X-LIC-LOCATION:America/Los_Angeles
BEGIN:DAYLIGHT
TZOFFSETFROM:-0800
TZOFFSETTO:-0700
TZNAME:PDT
DTSTART:20070311T020000
RRULE:FREQ=YEARLY;BYMONTH=3;BYDAY=2SU
END:DAYLIGHT
BEGIN:STANDARD
TZOFFSETFROM:-0700
TZOFFSETTO:-0800
TZNAME:PST
DTSTART:20071104T020000
RRULE:FREQ=YEARLY;BYMONTH=11;BYDAY=1SU
END:STANDARD
END:VTIMEZONE
BEGIN:VEVENT
DTSTAMP:20260426T000000Z
UID:ca1a6e65-3385-4ab3-ba18-4568c4d8c148@ClaytonBocce
DTSTART;TZID=America/Los_Angeles:20260427T183000
DTEND;TZID=America/Los_Angeles:20260427T210000
STATUS:CONFIRMED
SUMMARY:Bergum 2 vs Bocce Amore
URL:/League/Schedule/3181
DESCRIPTION:Regular Season match: Bergum 2 vs Bocce Amore
LOCATION:Newhall Court 3
END:VEVENT
BEGIN:VEVENT
DTSTAMP:20260426T000000Z
UID:41e77060-2c36-43a2-95f3-5bb37536598a@ClaytonBocce
DTSTART;TZID=America/Los_Angeles:20260504T183000
DTEND;TZID=America/Los_Angeles:20260504T210000
STATUS:CONFIRMED
SUMMARY:Bergum 2 vs The Sting
URL:/League/Schedule/3181
DESCRIPTION:Regular Season match: Bergum 2 vs The Sting
LOCATION:Newhall Court 5
END:VEVENT
BEGIN:VEVENT
DTSTAMP:20260426T000000Z
UID:cc097850-3667-402e-bcaa-01f9bd25f763@ClaytonBocce
DTSTART;TZID=America/Los_Angeles:20260511T183000
DTEND;TZID=America/Los_Angeles:20260511T210000
STATUS:CONFIRMED
SUMMARY:Bergum 2 vs Team Forza
URL:/League/Schedule/3181
DESCRIPTION:Regular Season match: Bergum 2 vs Team Forza
LOCATION:Newhall Court 7
END:VEVENT
BEGIN:VEVENT
DTSTAMP:20260426T000000Z
UID:233e5bd2-2904-4ebe-a2d9-ed50dcf01b10@ClaytonBocce
DTSTART;TZID=America/Los_Angeles:20260525T183000
DTEND;TZID=America/Los_Angeles:20260525T210000
STATUS:CONFIRMED
SUMMARY:Bergum 2 vs The Bocce Bunch
URL:/League/Schedule/3181
DESCRIPTION:Regular Season match: Bergum 2 vs The Bocce Bunc
 h
LOCATION:Newhall Court 8
END:VEVENT
BEGIN:VEVENT
DTSTAMP:20260426T000000Z
UID:aabc33b9-c92b-4063-840b-f66345b64b91@ClaytonBocce
DTSTART;TZID=America/Los_Angeles:20260601T183000
DTEND;TZID=America/Los_Angeles:20260601T210000
STATUS:CONFIRMED
SUMMARY:Bergum 2 vs Roll-em Pirates
URL:/League/Schedule/3181
DESCRIPTION:Regular Season match: Bergum 2 vs Roll-em Pirate
 s
LOCATION:Newhall Court 4
END:VEVENT
BEGIN:VEVENT
DTSTAMP:20260426T000000Z
UID:39f4357e-4bac-4837-8edd-3e7b58d74a32@ClaytonBocce
DTSTART;TZID=America/Los_Angeles:20260608T183000
DTEND;TZID=America/Los_Angeles:20260608T210000
STATUS:CONFIRMED
SUMMARY:Bergum 2 vs Pasta Fazu
URL:/League/Schedule/3181
DESCRIPTION:Regular Season match: Bergum 2 vs Pasta Fazu
LOCATION:Newhall Court 1
END:VEVENT
BEGIN:VEVENT
DTSTAMP:20260426T000000Z
UID:56c9dd84-0130-4bba-ab94-88e183bdcf41@ClaytonBocce
DTSTART;TZID=America/Los_Angeles:20260615T183000
DTEND;TZID=America/Los_Angeles:20260615T210000
STATUS:CONFIRMED
SUMMARY:Bergum 2 vs Ciapamuschis
URL:/League/Schedule/3181
DESCRIPTION:Regular Season match: Bergum 2 vs Ciapamuschis
LOCATION:Newhall Court 2
END:VEVENT
BEGIN:VEVENT
DTSTAMP:20260426T000000Z
UID:c96579f2-c2a6-4ef9-b8be-c9d6f12f47f1@ClaytonBocce
DTSTART;TZID=America/Los_Angeles:20260622T183000
DTEND;TZID=America/Los_Angeles:20260622T210000
STATUS:CONFIRMED
SUMMARY:Bergum 2 vs Rollers
URL:/League/Schedule/3181
DESCRIPTION:Regular Season match: Bergum 2 vs Rollers
LOCATION:Newhall Court 6
END:VEVENT
BEGIN:VEVENT
DTSTAMP:20260426T000000Z
UID:85f53326-e949-44a2-942e-8f076b94ea36@ClaytonBocce
DTSTART;TZID=America/Los_Angeles:20260629T183000
DTEND;TZID=America/Los_Angeles:20260629T210000
STATUS:CONFIRMED
SUMMARY:Bergum 2 vs Bocce Amore
URL:/League/Schedule/3181
DESCRIPTION:Regular Season match: Bergum 2 vs Bocce Amore
LOCATION:Newhall Court 5
END:VEVENT
BEGIN:VEVENT
DTSTAMP:20260426T000000Z
UID:04343142-6dd9-4992-b88d-92592bc5e03b@ClaytonBocce
DTSTART;TZID=America/Los_Angeles:20260713T183000
DTEND;TZID=America/Los_Angeles:20260713T210000
STATUS:CONFIRMED
SUMMARY:Bergum 2 vs The Sting
URL:/League/Schedule/3181
DESCRIPTION:Regular Season match: Bergum 2 vs The Sting
LOCATION:Newhall Court 4
END:VEVENT
BEGIN:VEVENT
DTSTAMP:20260426T000000Z
UID:3f9b12c0-1c8c-4a62-b4c1-bb2a3e63191f@ClaytonBocce
DTSTART;TZID=America/Los_Angeles:20260720T183000
DTEND;TZID=America/Los_Angeles:20260720T210000
STATUS:CONFIRMED
SUMMARY:Bergum 2 vs Team Forza
URL:/League/Schedule/3181
DESCRIPTION:Regular Season match: Bergum 2 vs Team Forza
LOCATION:Newhall Court 3
END:VEVENT
BEGIN:VEVENT
DTSTAMP:20260426T000000Z
UID:940c81df-17ad-496c-b38c-927acd78f6f6@ClaytonBocce
DTSTART;TZID=America/Los_Angeles:20260803T183000
DTEND;TZID=America/Los_Angeles:20260803T210000
STATUS:CONFIRMED
SUMMARY:Bergum 2 vs The Bocce Bunch
URL:/League/Schedule/3181
DESCRIPTION:Regular Season match: Bergum 2 vs The Bocce Bunc
 h
LOCATION:Newhall Court 7
END:VEVENT
BEGIN:VEVENT
DTSTAMP:20260426T000000Z
UID:a2a64ed6-52b6-4386-8bdd-912b23679225@ClaytonBocce
DTSTART;TZID=America/Los_Angeles:20260810T183000
DTEND;TZID=America/Los_Angeles:20260810T210000
STATUS:CONFIRMED
SUMMARY:Bergum 2 vs Roll-em Pirates
URL:/League/Schedule/3181
DESCRIPTION:Regular Season match: Bergum 2 vs Roll-em Pirate
 s
LOCATION:Newhall Court 6
END:VEVENT
BEGIN:VEVENT
DTSTAMP:20260426T000000Z
UID:9508695d-454e-49d1-b5bb-bc461712bc67@ClaytonBocce
DTSTART;TZID=America/Los_Angeles:20260817T183000
DTEND;TZID=America/Los_Angeles:20260817T210000
STATUS:CONFIRMED
SUMMARY:Bergum 2 vs Pasta Fazu
URL:/League/Schedule/3181
DESCRIPTION:Regular Season match: Bergum 2 vs Pasta Fazu
LOCATION:Newhall Court 2
END:VEVENT
BEGIN:VEVENT
DTSTAMP:20260426T000000Z
UID:d1cf1eda-36bf-4c92-bc13-f1bc3a643d59@ClaytonBocce
DTSTART;TZID=America/Los_Angeles:20260824T183000
DTEND;TZID=America/Los_Angeles:20260824T210000
STATUS:CONFIRMED
SUMMARY:Bergum 2 vs Ciapamuschis
URL:/League/Schedule/3181
DESCRIPTION:Regular Season match: Bergum 2 vs Ciapamuschis
LOCATION:Newhall Court 4
END:VEVENT
BEGIN:VEVENT
DTSTAMP:20260426T000000Z
UID:5c27bce7-59ff-4689-9d33-f6e20a85730c@ClaytonBocce
DTSTART;TZID=America/Los_Angeles:20260831T183000
DTEND;TZID=America/Los_Angeles:20260831T210000
STATUS:CONFIRMED
SUMMARY:Bergum 2 vs Rollers
URL:/League/Schedule/3181
DESCRIPTION:Regular Season match: Bergum 2 vs Rollers
LOCATION:Newhall Court 1
END:VEVENT
END:VCALENDAR
