BEGIN:VCALENDAR
VERSION:2.0
PRODID:-//Clayton Bocce League
METHOD:PUBLISH
BEGIN:VTIMEZONE
TZID:America/Los_Angeles
X-LIC-LOCATION:America/Los_Angeles
BEGIN:DAYLIGHT
TZOFFSETFROM:-0800
TZOFFSETTO:-0700
TZNAME:PDT
DTSTART:20070311T020000
RRULE:FREQ=YEARLY;BYMONTH=3;BYDAY=2SU
END:DAYLIGHT
BEGIN:STANDARD
TZOFFSETFROM:-0700
TZOFFSETTO:-0800
TZNAME:PST
DTSTART:20071104T020000
RRULE:FREQ=YEARLY;BYMONTH=11;BYDAY=1SU
END:STANDARD
END:VTIMEZONE
BEGIN:VEVENT
DTSTAMP:20260426T000000Z
UID:a6927e90-287b-44fd-8dae-db125ed11cbe@ClaytonBocce
DTSTART;TZID=America/Los_Angeles:20260427T183000
DTEND;TZID=America/Los_Angeles:20260427T210000
STATUS:CONFIRMED
SUMMARY:Too Perfetta vs Pallino Pursuit
URL:/League/Schedule/3175
DESCRIPTION:Regular Season match: Too Perfetta vs Pallino Pu
 rsuit
LOCATION:Newhall Court 6
END:VEVENT
BEGIN:VEVENT
DTSTAMP:20260426T000000Z
UID:1ced3f60-4f90-45f5-b02b-9f808b8d7411@ClaytonBocce
DTSTART;TZID=America/Los_Angeles:20260504T183000
DTEND;TZID=America/Los_Angeles:20260504T210000
STATUS:CONFIRMED
SUMMARY:Too Perfetta vs Hard Tossing Excitement
URL:/League/Schedule/3175
DESCRIPTION:Regular Season match: Too Perfetta vs Hard Tossi
 ng Excitement
LOCATION:Newhall Court 4
END:VEVENT
BEGIN:VEVENT
DTSTAMP:20260426T000000Z
UID:517574eb-e333-4fff-92be-a819981d263b@ClaytonBocce
DTSTART;TZID=America/Los_Angeles:20260511T183000
DTEND;TZID=America/Los_Angeles:20260511T210000
STATUS:CONFIRMED
SUMMARY:Too Perfetta vs Repeat Offenders
URL:/League/Schedule/3175
DESCRIPTION:Regular Season match: Too Perfetta vs Repeat Off
 enders
LOCATION:Newhall Court 2
END:VEVENT
BEGIN:VEVENT
DTSTAMP:20260426T000000Z
UID:d02d12e6-fea2-41d4-a605-dacc5a66d579@ClaytonBocce
DTSTART;TZID=America/Los_Angeles:20260518T183000
DTEND;TZID=America/Los_Angeles:20260518T210000
STATUS:CONFIRMED
SUMMARY:Too Perfetta vs Boccelicious
URL:/League/Schedule/3175
DESCRIPTION:Regular Season match: Too Perfetta vs Boccelicio
 us
LOCATION:Newhall Court 3
END:VEVENT
BEGIN:VEVENT
DTSTAMP:20260426T000000Z
UID:2f8906cc-7ee7-422c-9c36-661b9d087451@ClaytonBocce
DTSTART;TZID=America/Los_Angeles:20260525T183000
DTEND;TZID=America/Los_Angeles:20260525T210000
STATUS:CONFIRMED
SUMMARY:Too Perfetta vs Pallino da Corsa
URL:/League/Schedule/3175
DESCRIPTION:Regular Season match: Too Perfetta vs Pallino da
  Corsa
LOCATION:Newhall Court 5
END:VEVENT
BEGIN:VEVENT
DTSTAMP:20260426T000000Z
UID:b897d759-7421-4b1a-b8f5-2aee0618ec56@ClaytonBocce
DTSTART;TZID=America/Los_Angeles:20260608T183000
DTEND;TZID=America/Los_Angeles:20260608T210000
STATUS:CONFIRMED
SUMMARY:Too Perfetta vs Bocchums
URL:/League/Schedule/3175
DESCRIPTION:Regular Season match: Too Perfetta vs Bocchums
LOCATION:Newhall Court 2
END:VEVENT
BEGIN:VEVENT
DTSTAMP:20260426T000000Z
UID:5a77d9c1-01c4-482a-9fa2-7a1a35bcf934@ClaytonBocce
DTSTART;TZID=America/Los_Angeles:20260615T183000
DTEND;TZID=America/Los_Angeles:20260615T210000
STATUS:CONFIRMED
SUMMARY:Too Perfetta vs Rolandelli Construction
URL:/League/Schedule/3175
DESCRIPTION:Regular Season match: Too Perfetta vs Rolandelli
  Construction
LOCATION:Newhall Court 8
END:VEVENT
BEGIN:VEVENT
DTSTAMP:20260426T000000Z
UID:a5738623-f985-4c1c-9d78-66843b948ea2@ClaytonBocce
DTSTART;TZID=America/Los_Angeles:20260622T183000
DTEND;TZID=America/Los_Angeles:20260622T210000
STATUS:CONFIRMED
SUMMARY:Too Perfetta vs Boccenators
URL:/League/Schedule/3175
DESCRIPTION:Regular Season match: Too Perfetta vs Boccenator
 s
LOCATION:Newhall Court 5
END:VEVENT
BEGIN:VEVENT
DTSTAMP:20260426T000000Z
UID:a20d4a2d-c4aa-4841-a809-77cf41047345@ClaytonBocce
DTSTART;TZID=America/Los_Angeles:20260629T183000
DTEND;TZID=America/Los_Angeles:20260629T210000
STATUS:CONFIRMED
SUMMARY:Too Perfetta vs Pallino Pursuit
URL:/League/Schedule/3175
DESCRIPTION:Regular Season match: Too Perfetta vs Pallino Pu
 rsuit
LOCATION:Newhall Court 3
END:VEVENT
BEGIN:VEVENT
DTSTAMP:20260426T000000Z
UID:89b6f63f-d587-4a6c-9ab0-1aa18107a8d3@ClaytonBocce
DTSTART;TZID=America/Los_Angeles:20260713T183000
DTEND;TZID=America/Los_Angeles:20260713T210000
STATUS:CONFIRMED
SUMMARY:Too Perfetta vs Hard Tossing Excitement
URL:/League/Schedule/3175
DESCRIPTION:Regular Season match: Too Perfetta vs Hard Tossi
 ng Excitement
LOCATION:Newhall Court 1
END:VEVENT
BEGIN:VEVENT
DTSTAMP:20260426T000000Z
UID:98ed10c4-efed-4f2c-a354-a9fad1bc0874@ClaytonBocce
DTSTART;TZID=America/Los_Angeles:20260720T183000
DTEND;TZID=America/Los_Angeles:20260720T210000
STATUS:CONFIRMED
SUMMARY:Too Perfetta vs Repeat Offenders
URL:/League/Schedule/3175
DESCRIPTION:Regular Season match: Too Perfetta vs Repeat Off
 enders
LOCATION:Newhall Court 8
END:VEVENT
BEGIN:VEVENT
DTSTAMP:20260426T000000Z
UID:f7ddb65d-93ec-49ff-bc61-8cb182e91408@ClaytonBocce
DTSTART;TZID=America/Los_Angeles:20260727T183000
DTEND;TZID=America/Los_Angeles:20260727T210000
STATUS:CONFIRMED
SUMMARY:Too Perfetta vs Boccelicious
URL:/League/Schedule/3175
DESCRIPTION:Regular Season match: Too Perfetta vs Boccelicio
 us
LOCATION:Newhall Court 6
END:VEVENT
BEGIN:VEVENT
DTSTAMP:20260426T000000Z
UID:b6503819-2deb-48f1-9546-5c4e559f480e@ClaytonBocce
DTSTART;TZID=America/Los_Angeles:20260803T183000
DTEND;TZID=America/Los_Angeles:20260803T210000
STATUS:CONFIRMED
SUMMARY:Too Perfetta vs Pallino da Corsa
URL:/League/Schedule/3175
DESCRIPTION:Regular Season match: Too Perfetta vs Pallino da
  Corsa
LOCATION:Newhall Court 5
END:VEVENT
BEGIN:VEVENT
DTSTAMP:20260426T000000Z
UID:8cc32485-c2e8-495c-b777-d9d30484c836@ClaytonBocce
DTSTART;TZID=America/Los_Angeles:20260817T183000
DTEND;TZID=America/Los_Angeles:20260817T210000
STATUS:CONFIRMED
SUMMARY:Too Perfetta vs Bocchums
URL:/League/Schedule/3175
DESCRIPTION:Regular Season match: Too Perfetta vs Bocchums
LOCATION:Newhall Court 4
END:VEVENT
BEGIN:VEVENT
DTSTAMP:20260426T000000Z
UID:17f83921-957a-4095-8429-d81c55f59e60@ClaytonBocce
DTSTART;TZID=America/Los_Angeles:20260824T183000
DTEND;TZID=America/Los_Angeles:20260824T210000
STATUS:CONFIRMED
SUMMARY:Too Perfetta vs Rolandelli Construction
URL:/League/Schedule/3175
DESCRIPTION:Regular Season match: Too Perfetta vs Rolandelli
  Construction
LOCATION:Newhall Court 1
END:VEVENT
BEGIN:VEVENT
DTSTAMP:20260426T000000Z
UID:1dfeba35-5a26-4f16-9e9f-6a44d771640e@ClaytonBocce
DTSTART;TZID=America/Los_Angeles:20260831T183000
DTEND;TZID=America/Los_Angeles:20260831T210000
STATUS:CONFIRMED
SUMMARY:Too Perfetta vs Boccenators
URL:/League/Schedule/3175
DESCRIPTION:Regular Season match: Too Perfetta vs Boccenator
 s
LOCATION:Newhall Court 5
END:VEVENT
END:VCALENDAR
