BEGIN:VCALENDAR
VERSION:2.0
PRODID:-//Clayton Bocce League
METHOD:PUBLISH
BEGIN:VTIMEZONE
TZID:America/Los_Angeles
X-LIC-LOCATION:America/Los_Angeles
BEGIN:DAYLIGHT
TZOFFSETFROM:-0800
TZOFFSETTO:-0700
TZNAME:PDT
DTSTART:20070311T020000
RRULE:FREQ=YEARLY;BYMONTH=3;BYDAY=2SU
END:DAYLIGHT
BEGIN:STANDARD
TZOFFSETFROM:-0700
TZOFFSETTO:-0800
TZNAME:PST
DTSTART:20071104T020000
RRULE:FREQ=YEARLY;BYMONTH=11;BYDAY=1SU
END:STANDARD
END:VTIMEZONE
BEGIN:VEVENT
DTSTAMP:20260426T000000Z
UID:a6927e90-287b-44fd-8dae-db125ed11cbe@ClaytonBocce
DTSTART;TZID=America/Los_Angeles:20260427T183000
DTEND;TZID=America/Los_Angeles:20260427T210000
STATUS:CONFIRMED
SUMMARY:Pallino Pursuit vs Too Perfetta
URL:/League/Schedule/3187
DESCRIPTION:Regular Season match: Pallino Pursuit vs Too Per
 fetta
LOCATION:Newhall Court 6
END:VEVENT
BEGIN:VEVENT
DTSTAMP:20260426T000000Z
UID:92a71331-7947-4afe-8b7d-4ad60d9230c0@ClaytonBocce
DTSTART;TZID=America/Los_Angeles:20260504T183000
DTEND;TZID=America/Los_Angeles:20260504T210000
STATUS:CONFIRMED
SUMMARY:Pallino Pursuit vs Bocchums
URL:/League/Schedule/3187
DESCRIPTION:Regular Season match: Pallino Pursuit vs Bocchum
 s
LOCATION:Newhall Court 2
END:VEVENT
BEGIN:VEVENT
DTSTAMP:20260426T000000Z
UID:40c57f54-2700-44c8-bf90-b9dc30f35a25@ClaytonBocce
DTSTART;TZID=America/Los_Angeles:20260511T183000
DTEND;TZID=America/Los_Angeles:20260511T210000
STATUS:CONFIRMED
SUMMARY:Pallino Pursuit vs Rolandelli Construction
URL:/League/Schedule/3187
DESCRIPTION:Regular Season match: Pallino Pursuit vs Rolande
 lli Construction
LOCATION:Newhall Court 4
END:VEVENT
BEGIN:VEVENT
DTSTAMP:20260426T000000Z
UID:3ff35b8e-2d9c-4997-932b-89a70d049928@ClaytonBocce
DTSTART;TZID=America/Los_Angeles:20260518T183000
DTEND;TZID=America/Los_Angeles:20260518T210000
STATUS:CONFIRMED
SUMMARY:Pallino Pursuit vs Boccenators
URL:/League/Schedule/3187
DESCRIPTION:Regular Season match: Pallino Pursuit vs Boccena
 tors
LOCATION:Newhall Court 1
END:VEVENT
BEGIN:VEVENT
DTSTAMP:20260426T000000Z
UID:2c242fc6-bd7b-45f4-8d0d-e3058d1aea97@ClaytonBocce
DTSTART;TZID=America/Los_Angeles:20260601T183000
DTEND;TZID=America/Los_Angeles:20260601T210000
STATUS:CONFIRMED
SUMMARY:Pallino Pursuit vs Hard Tossing Excitement
URL:/League/Schedule/3187
DESCRIPTION:Regular Season match: Pallino Pursuit vs Hard To
 ssing Excitement
LOCATION:Newhall Court 8
END:VEVENT
BEGIN:VEVENT
DTSTAMP:20260426T000000Z
UID:942651c3-85b0-4f41-bd5e-9348af96d2e2@ClaytonBocce
DTSTART;TZID=America/Los_Angeles:20260608T183000
DTEND;TZID=America/Los_Angeles:20260608T210000
STATUS:CONFIRMED
SUMMARY:Pallino Pursuit vs Repeat Offenders
URL:/League/Schedule/3187
DESCRIPTION:Regular Season match: Pallino Pursuit vs Repeat 
 Offenders
LOCATION:Newhall Court 3
END:VEVENT
BEGIN:VEVENT
DTSTAMP:20260426T000000Z
UID:7f25c5aa-a2cf-4400-8d1a-34461fa7223a@ClaytonBocce
DTSTART;TZID=America/Los_Angeles:20260615T183000
DTEND;TZID=America/Los_Angeles:20260615T210000
STATUS:CONFIRMED
SUMMARY:Pallino Pursuit vs Boccelicious
URL:/League/Schedule/3187
DESCRIPTION:Regular Season match: Pallino Pursuit vs Bocceli
 cious
LOCATION:Newhall Court 7
END:VEVENT
BEGIN:VEVENT
DTSTAMP:20260426T000000Z
UID:d755b040-66b5-43a3-9705-ffd25d2deda4@ClaytonBocce
DTSTART;TZID=America/Los_Angeles:20260622T183000
DTEND;TZID=America/Los_Angeles:20260622T210000
STATUS:CONFIRMED
SUMMARY:Pallino Pursuit vs Pallino da Corsa
URL:/League/Schedule/3187
DESCRIPTION:Regular Season match: Pallino Pursuit vs Pallino
  da Corsa
LOCATION:Newhall Court 4
END:VEVENT
BEGIN:VEVENT
DTSTAMP:20260426T000000Z
UID:a20d4a2d-c4aa-4841-a809-77cf41047345@ClaytonBocce
DTSTART;TZID=America/Los_Angeles:20260629T183000
DTEND;TZID=America/Los_Angeles:20260629T210000
STATUS:CONFIRMED
SUMMARY:Pallino Pursuit vs Too Perfetta
URL:/League/Schedule/3187
DESCRIPTION:Regular Season match: Pallino Pursuit vs Too Per
 fetta
LOCATION:Newhall Court 3
END:VEVENT
BEGIN:VEVENT
DTSTAMP:20260426T000000Z
UID:4a8d5b93-9433-404e-be96-b51e1098ee56@ClaytonBocce
DTSTART;TZID=America/Los_Angeles:20260713T183000
DTEND;TZID=America/Los_Angeles:20260713T210000
STATUS:CONFIRMED
SUMMARY:Pallino Pursuit vs Bocchums
URL:/League/Schedule/3187
DESCRIPTION:Regular Season match: Pallino Pursuit vs Bocchum
 s
LOCATION:Newhall Court 8
END:VEVENT
BEGIN:VEVENT
DTSTAMP:20260426T000000Z
UID:3a3e2b62-b6d9-4aba-b4ca-f34033f2ced1@ClaytonBocce
DTSTART;TZID=America/Los_Angeles:20260720T183000
DTEND;TZID=America/Los_Angeles:20260720T210000
STATUS:CONFIRMED
SUMMARY:Pallino Pursuit vs Rolandelli Construction
URL:/League/Schedule/3187
DESCRIPTION:Regular Season match: Pallino Pursuit vs Rolande
 lli Construction
LOCATION:Newhall Court 6
END:VEVENT
BEGIN:VEVENT
DTSTAMP:20260426T000000Z
UID:4a6ec5c9-3e4e-4b81-a754-5955d611c35c@ClaytonBocce
DTSTART;TZID=America/Los_Angeles:20260727T183000
DTEND;TZID=America/Los_Angeles:20260727T210000
STATUS:CONFIRMED
SUMMARY:Pallino Pursuit vs Boccenators
URL:/League/Schedule/3187
DESCRIPTION:Regular Season match: Pallino Pursuit vs Boccena
 tors
LOCATION:Newhall Court 2
END:VEVENT
BEGIN:VEVENT
DTSTAMP:20260426T000000Z
UID:7cf737cc-ba9e-40fd-947b-695266280cc5@ClaytonBocce
DTSTART;TZID=America/Los_Angeles:20260810T183000
DTEND;TZID=America/Los_Angeles:20260810T210000
STATUS:CONFIRMED
SUMMARY:Pallino Pursuit vs Hard Tossing Excitement
URL:/League/Schedule/3187
DESCRIPTION:Regular Season match: Pallino Pursuit vs Hard To
 ssing Excitement
LOCATION:Newhall Court 7
END:VEVENT
BEGIN:VEVENT
DTSTAMP:20260426T000000Z
UID:ed081938-b0b0-45d9-b920-6134f6179a5e@ClaytonBocce
DTSTART;TZID=America/Los_Angeles:20260817T183000
DTEND;TZID=America/Los_Angeles:20260817T210000
STATUS:CONFIRMED
SUMMARY:Pallino Pursuit vs Repeat Offenders
URL:/League/Schedule/3187
DESCRIPTION:Regular Season match: Pallino Pursuit vs Repeat 
 Offenders
LOCATION:Newhall Court 3
END:VEVENT
BEGIN:VEVENT
DTSTAMP:20260426T000000Z
UID:4d6f1354-e102-403e-9655-941d1f765c75@ClaytonBocce
DTSTART;TZID=America/Los_Angeles:20260824T183000
DTEND;TZID=America/Los_Angeles:20260824T210000
STATUS:CONFIRMED
SUMMARY:Pallino Pursuit vs Boccelicious
URL:/League/Schedule/3187
DESCRIPTION:Regular Season match: Pallino Pursuit vs Bocceli
 cious
LOCATION:Newhall Court 5
END:VEVENT
BEGIN:VEVENT
DTSTAMP:20260426T000000Z
UID:ae25bc87-c2ef-4710-99b5-10a2f9602b4b@ClaytonBocce
DTSTART;TZID=America/Los_Angeles:20260831T183000
DTEND;TZID=America/Los_Angeles:20260831T210000
STATUS:CONFIRMED
SUMMARY:Pallino Pursuit vs Pallino da Corsa
URL:/League/Schedule/3187
DESCRIPTION:Regular Season match: Pallino Pursuit vs Pallino
  da Corsa
LOCATION:Newhall Court 6
END:VEVENT
END:VCALENDAR
