BEGIN:VCALENDAR
VERSION:2.0
PRODID:-//Clayton Bocce League
METHOD:PUBLISH
BEGIN:VTIMEZONE
TZID:America/Los_Angeles
X-LIC-LOCATION:America/Los_Angeles
BEGIN:DAYLIGHT
TZOFFSETFROM:-0800
TZOFFSETTO:-0700
TZNAME:PDT
DTSTART:20070311T020000
RRULE:FREQ=YEARLY;BYMONTH=3;BYDAY=2SU
END:DAYLIGHT
BEGIN:STANDARD
TZOFFSETFROM:-0700
TZOFFSETTO:-0800
TZNAME:PST
DTSTART:20071104T020000
RRULE:FREQ=YEARLY;BYMONTH=11;BYDAY=1SU
END:STANDARD
END:VTIMEZONE
BEGIN:VEVENT
DTSTAMP:20260426T000000Z
UID:8ba092e8-a253-4cf8-a44b-c187dd965b61@ClaytonBocce
DTSTART;TZID=America/Los_Angeles:20260427T183000
DTEND;TZID=America/Los_Angeles:20260427T210000
STATUS:CONFIRMED
SUMMARY:Boccelicious vs Repeat Offenders
URL:/League/Schedule/3183
DESCRIPTION:Regular Season match: Boccelicious vs Repeat Off
 enders
LOCATION:Newhall Court 5
END:VEVENT
BEGIN:VEVENT
DTSTAMP:20260426T000000Z
UID:9464b126-fcec-4650-ba4c-c74927d1a8bf@ClaytonBocce
DTSTART;TZID=America/Los_Angeles:20260511T183000
DTEND;TZID=America/Los_Angeles:20260511T210000
STATUS:CONFIRMED
SUMMARY:Boccelicious vs Pallino da Corsa
URL:/League/Schedule/3183
DESCRIPTION:Regular Season match: Boccelicious vs Pallino da
  Corsa
LOCATION:Newhall Court 8
END:VEVENT
BEGIN:VEVENT
DTSTAMP:20260426T000000Z
UID:d02d12e6-fea2-41d4-a605-dacc5a66d579@ClaytonBocce
DTSTART;TZID=America/Los_Angeles:20260518T183000
DTEND;TZID=America/Los_Angeles:20260518T210000
STATUS:CONFIRMED
SUMMARY:Boccelicious vs Too Perfetta
URL:/League/Schedule/3183
DESCRIPTION:Regular Season match: Boccelicious vs Too Perfet
 ta
LOCATION:Newhall Court 3
END:VEVENT
BEGIN:VEVENT
DTSTAMP:20260426T000000Z
UID:f64ef721-0230-42fe-a221-0a2f0cef4011@ClaytonBocce
DTSTART;TZID=America/Los_Angeles:20260525T183000
DTEND;TZID=America/Los_Angeles:20260525T210000
STATUS:CONFIRMED
SUMMARY:Boccelicious vs Bocchums
URL:/League/Schedule/3183
DESCRIPTION:Regular Season match: Boccelicious vs Bocchums
LOCATION:Newhall Court 7
END:VEVENT
BEGIN:VEVENT
DTSTAMP:20260426T000000Z
UID:c65a1662-337e-493b-aa70-9e9e0c7130f2@ClaytonBocce
DTSTART;TZID=America/Los_Angeles:20260601T183000
DTEND;TZID=America/Los_Angeles:20260601T210000
STATUS:CONFIRMED
SUMMARY:Boccelicious vs Rolandelli Construction
URL:/League/Schedule/3183
DESCRIPTION:Regular Season match: Boccelicious vs Rolandelli
  Construction
LOCATION:Newhall Court 5
END:VEVENT
BEGIN:VEVENT
DTSTAMP:20260426T000000Z
UID:116e8ddb-c814-4bf7-ad3b-d09c1a82e9e6@ClaytonBocce
DTSTART;TZID=America/Los_Angeles:20260608T183000
DTEND;TZID=America/Los_Angeles:20260608T210000
STATUS:CONFIRMED
SUMMARY:Boccelicious vs Boccenators
URL:/League/Schedule/3183
DESCRIPTION:Regular Season match: Boccelicious vs Boccenator
 s
LOCATION:Newhall Court 6
END:VEVENT
BEGIN:VEVENT
DTSTAMP:20260426T000000Z
UID:7f25c5aa-a2cf-4400-8d1a-34461fa7223a@ClaytonBocce
DTSTART;TZID=America/Los_Angeles:20260615T183000
DTEND;TZID=America/Los_Angeles:20260615T210000
STATUS:CONFIRMED
SUMMARY:Boccelicious vs Pallino Pursuit
URL:/League/Schedule/3183
DESCRIPTION:Regular Season match: Boccelicious vs Pallino Pu
 rsuit
LOCATION:Newhall Court 7
END:VEVENT
BEGIN:VEVENT
DTSTAMP:20260426T000000Z
UID:6030f2da-2335-47c7-a41f-f015027f540f@ClaytonBocce
DTSTART;TZID=America/Los_Angeles:20260622T183000
DTEND;TZID=America/Los_Angeles:20260622T210000
STATUS:CONFIRMED
SUMMARY:Boccelicious vs Hard Tossing Excitement
URL:/League/Schedule/3183
DESCRIPTION:Regular Season match: Boccelicious vs Hard Tossi
 ng Excitement
LOCATION:Newhall Court 2
END:VEVENT
BEGIN:VEVENT
DTSTAMP:20260426T000000Z
UID:f4dd7a06-553b-44ac-bd1d-dfc92833e33c@ClaytonBocce
DTSTART;TZID=America/Los_Angeles:20260629T183000
DTEND;TZID=America/Los_Angeles:20260629T210000
STATUS:CONFIRMED
SUMMARY:Boccelicious vs Repeat Offenders
URL:/League/Schedule/3183
DESCRIPTION:Regular Season match: Boccelicious vs Repeat Off
 enders
LOCATION:Newhall Court 4
END:VEVENT
BEGIN:VEVENT
DTSTAMP:20260426T000000Z
UID:33461a00-246f-4e3b-a835-877b4336c18d@ClaytonBocce
DTSTART;TZID=America/Los_Angeles:20260720T183000
DTEND;TZID=America/Los_Angeles:20260720T210000
STATUS:CONFIRMED
SUMMARY:Boccelicious vs Pallino da Corsa
URL:/League/Schedule/3183
DESCRIPTION:Regular Season match: Boccelicious vs Pallino da
  Corsa
LOCATION:Newhall Court 1
END:VEVENT
BEGIN:VEVENT
DTSTAMP:20260426T000000Z
UID:f7ddb65d-93ec-49ff-bc61-8cb182e91408@ClaytonBocce
DTSTART;TZID=America/Los_Angeles:20260727T183000
DTEND;TZID=America/Los_Angeles:20260727T210000
STATUS:CONFIRMED
SUMMARY:Boccelicious vs Too Perfetta
URL:/League/Schedule/3183
DESCRIPTION:Regular Season match: Boccelicious vs Too Perfet
 ta
LOCATION:Newhall Court 6
END:VEVENT
BEGIN:VEVENT
DTSTAMP:20260426T000000Z
UID:79c5a3ff-399d-4d28-8e42-475747cc1216@ClaytonBocce
DTSTART;TZID=America/Los_Angeles:20260803T183000
DTEND;TZID=America/Los_Angeles:20260803T210000
STATUS:CONFIRMED
SUMMARY:Boccelicious vs Bocchums
URL:/League/Schedule/3183
DESCRIPTION:Regular Season match: Boccelicious vs Bocchums
LOCATION:Newhall Court 4
END:VEVENT
BEGIN:VEVENT
DTSTAMP:20260426T000000Z
UID:b694604d-c2aa-4c60-bc2a-e65b46e57f35@ClaytonBocce
DTSTART;TZID=America/Los_Angeles:20260810T183000
DTEND;TZID=America/Los_Angeles:20260810T210000
STATUS:CONFIRMED
SUMMARY:Boccelicious vs Rolandelli Construction
URL:/League/Schedule/3183
DESCRIPTION:Regular Season match: Boccelicious vs Rolandelli
  Construction
LOCATION:Newhall Court 8
END:VEVENT
BEGIN:VEVENT
DTSTAMP:20260426T000000Z
UID:e77b36fc-dc31-4c96-bb77-feb93dddb69a@ClaytonBocce
DTSTART;TZID=America/Los_Angeles:20260817T183000
DTEND;TZID=America/Los_Angeles:20260817T210000
STATUS:CONFIRMED
SUMMARY:Boccelicious vs Boccenators
URL:/League/Schedule/3183
DESCRIPTION:Regular Season match: Boccelicious vs Boccenator
 s
LOCATION:Newhall Court 7
END:VEVENT
BEGIN:VEVENT
DTSTAMP:20260426T000000Z
UID:4d6f1354-e102-403e-9655-941d1f765c75@ClaytonBocce
DTSTART;TZID=America/Los_Angeles:20260824T183000
DTEND;TZID=America/Los_Angeles:20260824T210000
STATUS:CONFIRMED
SUMMARY:Boccelicious vs Pallino Pursuit
URL:/League/Schedule/3183
DESCRIPTION:Regular Season match: Boccelicious vs Pallino Pu
 rsuit
LOCATION:Newhall Court 5
END:VEVENT
BEGIN:VEVENT
DTSTAMP:20260426T000000Z
UID:d0c9c37b-6763-4919-8629-8f946f8cae40@ClaytonBocce
DTSTART;TZID=America/Los_Angeles:20260831T183000
DTEND;TZID=America/Los_Angeles:20260831T210000
STATUS:CONFIRMED
SUMMARY:Boccelicious vs Hard Tossing Excitement
URL:/League/Schedule/3183
DESCRIPTION:Regular Season match: Boccelicious vs Hard Tossi
 ng Excitement
LOCATION:Newhall Court 3
END:VEVENT
END:VCALENDAR
