BEGIN:VCALENDAR
VERSION:2.0
PRODID:-//Clayton Bocce League
METHOD:PUBLISH
BEGIN:VTIMEZONE
TZID:America/Los_Angeles
X-LIC-LOCATION:America/Los_Angeles
BEGIN:DAYLIGHT
TZOFFSETFROM:-0800
TZOFFSETTO:-0700
TZNAME:PDT
DTSTART:20070311T020000
RRULE:FREQ=YEARLY;BYMONTH=3;BYDAY=2SU
END:DAYLIGHT
BEGIN:STANDARD
TZOFFSETFROM:-0700
TZOFFSETTO:-0800
TZNAME:PST
DTSTART:20071104T020000
RRULE:FREQ=YEARLY;BYMONTH=11;BYDAY=1SU
END:STANDARD
END:VTIMEZONE
BEGIN:VEVENT
DTSTAMP:20260426T000000Z
UID:8ba092e8-a253-4cf8-a44b-c187dd965b61@ClaytonBocce
DTSTART;TZID=America/Los_Angeles:20260427T183000
DTEND;TZID=America/Los_Angeles:20260427T210000
STATUS:CONFIRMED
SUMMARY:Repeat Offenders vs Boccelicious
URL:/League/Schedule/3176
DESCRIPTION:Regular Season match: Repeat Offenders vs Boccel
 icious
LOCATION:Newhall Court 5
END:VEVENT
BEGIN:VEVENT
DTSTAMP:20260426T000000Z
UID:8f61c50f-80b8-4efc-b952-4b83fec31795@ClaytonBocce
DTSTART;TZID=America/Los_Angeles:20260504T183000
DTEND;TZID=America/Los_Angeles:20260504T210000
STATUS:CONFIRMED
SUMMARY:Repeat Offenders vs Pallino da Corsa
URL:/League/Schedule/3176
DESCRIPTION:Regular Season match: Repeat Offenders vs Pallin
 o da Corsa
LOCATION:Newhall Court 3
END:VEVENT
BEGIN:VEVENT
DTSTAMP:20260426T000000Z
UID:517574eb-e333-4fff-92be-a819981d263b@ClaytonBocce
DTSTART;TZID=America/Los_Angeles:20260511T183000
DTEND;TZID=America/Los_Angeles:20260511T210000
STATUS:CONFIRMED
SUMMARY:Repeat Offenders vs Too Perfetta
URL:/League/Schedule/3176
DESCRIPTION:Regular Season match: Repeat Offenders vs Too Pe
 rfetta
LOCATION:Newhall Court 2
END:VEVENT
BEGIN:VEVENT
DTSTAMP:20260426T000000Z
UID:c5790bc2-b3a5-41d5-8f92-7fe32d58c361@ClaytonBocce
DTSTART;TZID=America/Los_Angeles:20260518T183000
DTEND;TZID=America/Los_Angeles:20260518T210000
STATUS:CONFIRMED
SUMMARY:Repeat Offenders vs Bocchums
URL:/League/Schedule/3176
DESCRIPTION:Regular Season match: Repeat Offenders vs Bocchu
 ms
LOCATION:Newhall Court 6
END:VEVENT
BEGIN:VEVENT
DTSTAMP:20260426T000000Z
UID:20698990-5c41-4d0d-8580-ff2d7ec54241@ClaytonBocce
DTSTART;TZID=America/Los_Angeles:20260525T183000
DTEND;TZID=America/Los_Angeles:20260525T210000
STATUS:CONFIRMED
SUMMARY:Repeat Offenders vs Rolandelli Construction
URL:/League/Schedule/3176
DESCRIPTION:Regular Season match: Repeat Offenders vs Roland
 elli Construction
LOCATION:Newhall Court 1
END:VEVENT
BEGIN:VEVENT
DTSTAMP:20260426T000000Z
UID:c7dc261d-9394-4407-9450-abdbb85d7fec@ClaytonBocce
DTSTART;TZID=America/Los_Angeles:20260601T183000
DTEND;TZID=America/Los_Angeles:20260601T210000
STATUS:CONFIRMED
SUMMARY:Repeat Offenders vs Boccenators
URL:/League/Schedule/3176
DESCRIPTION:Regular Season match: Repeat Offenders vs Boccen
 ators
LOCATION:Newhall Court 7
END:VEVENT
BEGIN:VEVENT
DTSTAMP:20260426T000000Z
UID:942651c3-85b0-4f41-bd5e-9348af96d2e2@ClaytonBocce
DTSTART;TZID=America/Los_Angeles:20260608T183000
DTEND;TZID=America/Los_Angeles:20260608T210000
STATUS:CONFIRMED
SUMMARY:Repeat Offenders vs Pallino Pursuit
URL:/League/Schedule/3176
DESCRIPTION:Regular Season match: Repeat Offenders vs Pallin
 o Pursuit
LOCATION:Newhall Court 3
END:VEVENT
BEGIN:VEVENT
DTSTAMP:20260426T000000Z
UID:12af98df-866b-49ac-9b6e-fb81911adcb8@ClaytonBocce
DTSTART;TZID=America/Los_Angeles:20260615T183000
DTEND;TZID=America/Los_Angeles:20260615T210000
STATUS:CONFIRMED
SUMMARY:Repeat Offenders vs Hard Tossing Excitement
URL:/League/Schedule/3176
DESCRIPTION:Regular Season match: Repeat Offenders vs Hard T
 ossing Excitement
LOCATION:Newhall Court 6
END:VEVENT
BEGIN:VEVENT
DTSTAMP:20260426T000000Z
UID:f4dd7a06-553b-44ac-bd1d-dfc92833e33c@ClaytonBocce
DTSTART;TZID=America/Los_Angeles:20260629T183000
DTEND;TZID=America/Los_Angeles:20260629T210000
STATUS:CONFIRMED
SUMMARY:Repeat Offenders vs Boccelicious
URL:/League/Schedule/3176
DESCRIPTION:Regular Season match: Repeat Offenders vs Boccel
 icious
LOCATION:Newhall Court 4
END:VEVENT
BEGIN:VEVENT
DTSTAMP:20260426T000000Z
UID:eff42de9-ee85-49a6-a567-48072c8d477d@ClaytonBocce
DTSTART;TZID=America/Los_Angeles:20260713T183000
DTEND;TZID=America/Los_Angeles:20260713T210000
STATUS:CONFIRMED
SUMMARY:Repeat Offenders vs Pallino da Corsa
URL:/League/Schedule/3176
DESCRIPTION:Regular Season match: Repeat Offenders vs Pallin
 o da Corsa
LOCATION:Newhall Court 2
END:VEVENT
BEGIN:VEVENT
DTSTAMP:20260426T000000Z
UID:98ed10c4-efed-4f2c-a354-a9fad1bc0874@ClaytonBocce
DTSTART;TZID=America/Los_Angeles:20260720T183000
DTEND;TZID=America/Los_Angeles:20260720T210000
STATUS:CONFIRMED
SUMMARY:Repeat Offenders vs Too Perfetta
URL:/League/Schedule/3176
DESCRIPTION:Regular Season match: Repeat Offenders vs Too Pe
 rfetta
LOCATION:Newhall Court 8
END:VEVENT
BEGIN:VEVENT
DTSTAMP:20260426T000000Z
UID:abfa6026-61b2-4a88-ba58-0b88587b3adf@ClaytonBocce
DTSTART;TZID=America/Los_Angeles:20260727T183000
DTEND;TZID=America/Los_Angeles:20260727T210000
STATUS:CONFIRMED
SUMMARY:Repeat Offenders vs Bocchums
URL:/League/Schedule/3176
DESCRIPTION:Regular Season match: Repeat Offenders vs Bocchu
 ms
LOCATION:Newhall Court 5
END:VEVENT
BEGIN:VEVENT
DTSTAMP:20260426T000000Z
UID:16c5e48c-b100-4f6f-ab65-8c2f4a453f5a@ClaytonBocce
DTSTART;TZID=America/Los_Angeles:20260803T183000
DTEND;TZID=America/Los_Angeles:20260803T210000
STATUS:CONFIRMED
SUMMARY:Repeat Offenders vs Rolandelli Construction
URL:/League/Schedule/3176
DESCRIPTION:Regular Season match: Repeat Offenders vs Roland
 elli Construction
LOCATION:Newhall Court 1
END:VEVENT
BEGIN:VEVENT
DTSTAMP:20260426T000000Z
UID:ee5489f4-b040-4f9e-8f65-039404d5ee9d@ClaytonBocce
DTSTART;TZID=America/Los_Angeles:20260810T183000
DTEND;TZID=America/Los_Angeles:20260810T210000
STATUS:CONFIRMED
SUMMARY:Repeat Offenders vs Boccenators
URL:/League/Schedule/3176
DESCRIPTION:Regular Season match: Repeat Offenders vs Boccen
 ators
LOCATION:Newhall Court 4
END:VEVENT
BEGIN:VEVENT
DTSTAMP:20260426T000000Z
UID:ed081938-b0b0-45d9-b920-6134f6179a5e@ClaytonBocce
DTSTART;TZID=America/Los_Angeles:20260817T183000
DTEND;TZID=America/Los_Angeles:20260817T210000
STATUS:CONFIRMED
SUMMARY:Repeat Offenders vs Pallino Pursuit
URL:/League/Schedule/3176
DESCRIPTION:Regular Season match: Repeat Offenders vs Pallin
 o Pursuit
LOCATION:Newhall Court 3
END:VEVENT
BEGIN:VEVENT
DTSTAMP:20260426T000000Z
UID:84933ac6-699c-436e-99a3-b0e2955c3f50@ClaytonBocce
DTSTART;TZID=America/Los_Angeles:20260824T183000
DTEND;TZID=America/Los_Angeles:20260824T210000
STATUS:CONFIRMED
SUMMARY:Repeat Offenders vs Hard Tossing Excitement
URL:/League/Schedule/3176
DESCRIPTION:Regular Season match: Repeat Offenders vs Hard T
 ossing Excitement
LOCATION:Newhall Court 2
END:VEVENT
END:VCALENDAR
