BEGIN:VCALENDAR
VERSION:2.0
PRODID:-//Clayton Bocce League
METHOD:PUBLISH
BEGIN:VTIMEZONE
TZID:America/Los_Angeles
X-LIC-LOCATION:America/Los_Angeles
BEGIN:DAYLIGHT
TZOFFSETFROM:-0800
TZOFFSETTO:-0700
TZNAME:PDT
DTSTART:20070311T020000
RRULE:FREQ=YEARLY;BYMONTH=3;BYDAY=2SU
END:DAYLIGHT
BEGIN:STANDARD
TZOFFSETFROM:-0700
TZOFFSETTO:-0800
TZNAME:PST
DTSTART:20071104T020000
RRULE:FREQ=YEARLY;BYMONTH=11;BYDAY=1SU
END:STANDARD
END:VTIMEZONE
BEGIN:VEVENT
DTSTAMP:20260426T000000Z
UID:c1e58cf8-645a-4628-a7d5-a5dc223a0282@ClaytonBocce
DTSTART;TZID=America/Los_Angeles:20260427T183000
DTEND;TZID=America/Los_Angeles:20260427T210000
STATUS:CONFIRMED
SUMMARY:Ciapamuschis vs Roll-em Pirates
URL:/League/Schedule/3188
DESCRIPTION:Regular Season match: Ciapamuschis vs Roll-em Pi
 rates
LOCATION:Newhall Court 2
END:VEVENT
BEGIN:VEVENT
DTSTAMP:20260426T000000Z
UID:f3e1fe1b-880b-4dae-a153-d20b20b3a145@ClaytonBocce
DTSTART;TZID=America/Los_Angeles:20260504T183000
DTEND;TZID=America/Los_Angeles:20260504T210000
STATUS:CONFIRMED
SUMMARY:Ciapamuschis vs Pasta Fazu
URL:/League/Schedule/3188
DESCRIPTION:Regular Season match: Ciapamuschis vs Pasta Fazu
LOCATION:Newhall Court 8
END:VEVENT
BEGIN:VEVENT
DTSTAMP:20260426T000000Z
UID:0f4f090f-b742-4c3e-8c8e-aa23cd1b5148@ClaytonBocce
DTSTART;TZID=America/Los_Angeles:20260518T183000
DTEND;TZID=America/Los_Angeles:20260518T210000
STATUS:CONFIRMED
SUMMARY:Ciapamuschis vs Rollers
URL:/League/Schedule/3188
DESCRIPTION:Regular Season match: Ciapamuschis vs Rollers
LOCATION:Newhall Court 7
END:VEVENT
BEGIN:VEVENT
DTSTAMP:20260426T000000Z
UID:c560bd24-e57f-4717-96b4-e08e08332ddb@ClaytonBocce
DTSTART;TZID=America/Los_Angeles:20260525T183000
DTEND;TZID=America/Los_Angeles:20260525T210000
STATUS:CONFIRMED
SUMMARY:Ciapamuschis vs Bocce Amore
URL:/League/Schedule/3188
DESCRIPTION:Regular Season match: Ciapamuschis vs Bocce Amor
 e
LOCATION:Newhall Court 6
END:VEVENT
BEGIN:VEVENT
DTSTAMP:20260426T000000Z
UID:c15955c4-0961-4b1a-abbc-6b8659317d59@ClaytonBocce
DTSTART;TZID=America/Los_Angeles:20260601T183000
DTEND;TZID=America/Los_Angeles:20260601T210000
STATUS:CONFIRMED
SUMMARY:Ciapamuschis vs The Sting
URL:/League/Schedule/3188
DESCRIPTION:Regular Season match: Ciapamuschis vs The Sting
LOCATION:Newhall Court 3
END:VEVENT
BEGIN:VEVENT
DTSTAMP:20260426T000000Z
UID:81d2dacb-09c6-4a4d-96e4-1b98e5b630e7@ClaytonBocce
DTSTART;TZID=America/Los_Angeles:20260608T183000
DTEND;TZID=America/Los_Angeles:20260608T210000
STATUS:CONFIRMED
SUMMARY:Ciapamuschis vs Team Forza
URL:/League/Schedule/3188
DESCRIPTION:Regular Season match: Ciapamuschis vs Team Forza
LOCATION:Newhall Court 4
END:VEVENT
BEGIN:VEVENT
DTSTAMP:20260426T000000Z
UID:56c9dd84-0130-4bba-ab94-88e183bdcf41@ClaytonBocce
DTSTART;TZID=America/Los_Angeles:20260615T183000
DTEND;TZID=America/Los_Angeles:20260615T210000
STATUS:CONFIRMED
SUMMARY:Ciapamuschis vs Bergum 2
URL:/League/Schedule/3188
DESCRIPTION:Regular Season match: Ciapamuschis vs Bergum 2
LOCATION:Newhall Court 2
END:VEVENT
BEGIN:VEVENT
DTSTAMP:20260426T000000Z
UID:6a05c5f0-3ffd-4121-9422-09da8e3a0af8@ClaytonBocce
DTSTART;TZID=America/Los_Angeles:20260622T183000
DTEND;TZID=America/Los_Angeles:20260622T210000
STATUS:CONFIRMED
SUMMARY:Ciapamuschis vs The Bocce Bunch
URL:/League/Schedule/3188
DESCRIPTION:Regular Season match: Ciapamuschis vs The Bocce 
 Bunch
LOCATION:Newhall Court 1
END:VEVENT
BEGIN:VEVENT
DTSTAMP:20260426T000000Z
UID:2ffb9737-2ee8-4fbc-aa68-4ef83cce8b41@ClaytonBocce
DTSTART;TZID=America/Los_Angeles:20260629T183000
DTEND;TZID=America/Los_Angeles:20260629T210000
STATUS:CONFIRMED
SUMMARY:Ciapamuschis vs Roll-em Pirates
URL:/League/Schedule/3188
DESCRIPTION:Regular Season match: Ciapamuschis vs Roll-em Pi
 rates
LOCATION:Newhall Court 6
END:VEVENT
BEGIN:VEVENT
DTSTAMP:20260426T000000Z
UID:831e6432-1100-4fd0-bfc1-f9ef6a6e7c0d@ClaytonBocce
DTSTART;TZID=America/Los_Angeles:20260713T183000
DTEND;TZID=America/Los_Angeles:20260713T210000
STATUS:CONFIRMED
SUMMARY:Ciapamuschis vs Pasta Fazu
URL:/League/Schedule/3188
DESCRIPTION:Regular Season match: Ciapamuschis vs Pasta Fazu
LOCATION:Newhall Court 5
END:VEVENT
BEGIN:VEVENT
DTSTAMP:20260426T000000Z
UID:496f97de-a072-45ea-8826-181684b23fb1@ClaytonBocce
DTSTART;TZID=America/Los_Angeles:20260727T183000
DTEND;TZID=America/Los_Angeles:20260727T210000
STATUS:CONFIRMED
SUMMARY:Ciapamuschis vs Rollers
URL:/League/Schedule/3188
DESCRIPTION:Regular Season match: Ciapamuschis vs Rollers
LOCATION:Newhall Court 7
END:VEVENT
BEGIN:VEVENT
DTSTAMP:20260426T000000Z
UID:0e95d148-8a5b-42eb-9f0b-08dddaa36cd5@ClaytonBocce
DTSTART;TZID=America/Los_Angeles:20260803T183000
DTEND;TZID=America/Los_Angeles:20260803T210000
STATUS:CONFIRMED
SUMMARY:Ciapamuschis vs Bocce Amore
URL:/League/Schedule/3188
DESCRIPTION:Regular Season match: Ciapamuschis vs Bocce Amor
 e
LOCATION:Newhall Court 3
END:VEVENT
BEGIN:VEVENT
DTSTAMP:20260426T000000Z
UID:714a42e8-061d-4a09-8484-14ace7e62fb5@ClaytonBocce
DTSTART;TZID=America/Los_Angeles:20260810T183000
DTEND;TZID=America/Los_Angeles:20260810T210000
STATUS:CONFIRMED
SUMMARY:Ciapamuschis vs The Sting
URL:/League/Schedule/3188
DESCRIPTION:Regular Season match: Ciapamuschis vs The Sting
LOCATION:Newhall Court 2
END:VEVENT
BEGIN:VEVENT
DTSTAMP:20260426T000000Z
UID:2c6b7880-6e27-45ad-bf4c-9f2f1d1ab449@ClaytonBocce
DTSTART;TZID=America/Los_Angeles:20260817T183000
DTEND;TZID=America/Los_Angeles:20260817T210000
STATUS:CONFIRMED
SUMMARY:Ciapamuschis vs Team Forza
URL:/League/Schedule/3188
DESCRIPTION:Regular Season match: Ciapamuschis vs Team Forza
LOCATION:Newhall Court 1
END:VEVENT
BEGIN:VEVENT
DTSTAMP:20260426T000000Z
UID:d1cf1eda-36bf-4c92-bc13-f1bc3a643d59@ClaytonBocce
DTSTART;TZID=America/Los_Angeles:20260824T183000
DTEND;TZID=America/Los_Angeles:20260824T210000
STATUS:CONFIRMED
SUMMARY:Ciapamuschis vs Bergum 2
URL:/League/Schedule/3188
DESCRIPTION:Regular Season match: Ciapamuschis vs Bergum 2
LOCATION:Newhall Court 4
END:VEVENT
BEGIN:VEVENT
DTSTAMP:20260426T000000Z
UID:924640d0-f71a-4c11-a066-e354f0454582@ClaytonBocce
DTSTART;TZID=America/Los_Angeles:20260831T183000
DTEND;TZID=America/Los_Angeles:20260831T210000
STATUS:CONFIRMED
SUMMARY:Ciapamuschis vs The Bocce Bunch
URL:/League/Schedule/3188
DESCRIPTION:Regular Season match: Ciapamuschis vs The Bocce 
 Bunch
LOCATION:Newhall Court 8
END:VEVENT
END:VCALENDAR
