BEGIN:VCALENDAR
VERSION:2.0
PRODID:-//Clayton Bocce League
METHOD:PUBLISH
BEGIN:VTIMEZONE
TZID:America/Los_Angeles
X-LIC-LOCATION:America/Los_Angeles
BEGIN:DAYLIGHT
TZOFFSETFROM:-0800
TZOFFSETTO:-0700
TZNAME:PDT
DTSTART:20070311T020000
RRULE:FREQ=YEARLY;BYMONTH=3;BYDAY=2SU
END:DAYLIGHT
BEGIN:STANDARD
TZOFFSETFROM:-0700
TZOFFSETTO:-0800
TZNAME:PST
DTSTART:20071104T020000
RRULE:FREQ=YEARLY;BYMONTH=11;BYDAY=1SU
END:STANDARD
END:VTIMEZONE
BEGIN:VEVENT
DTSTAMP:20260426T000000Z
UID:c1e58cf8-645a-4628-a7d5-a5dc223a0282@ClaytonBocce
DTSTART;TZID=America/Los_Angeles:20260427T183000
DTEND;TZID=America/Los_Angeles:20260427T210000
STATUS:CONFIRMED
SUMMARY:Roll-em Pirates vs Ciapamuschis
URL:/League/Schedule/3173
DESCRIPTION:Regular Season match: Roll-em Pirates vs Ciapamu
 schis
LOCATION:Newhall Court 2
END:VEVENT
BEGIN:VEVENT
DTSTAMP:20260426T000000Z
UID:9df78d31-5b6f-41cf-a3ea-1bf4af8cb1d7@ClaytonBocce
DTSTART;TZID=America/Los_Angeles:20260504T183000
DTEND;TZID=America/Los_Angeles:20260504T210000
STATUS:CONFIRMED
SUMMARY:Roll-em Pirates vs Rollers
URL:/League/Schedule/3173
DESCRIPTION:Regular Season match: Roll-em Pirates vs Rollers
LOCATION:Newhall Court 1
END:VEVENT
BEGIN:VEVENT
DTSTAMP:20260426T000000Z
UID:6cc800d0-4bf0-4708-836a-5008d6f5dfc5@ClaytonBocce
DTSTART;TZID=America/Los_Angeles:20260511T183000
DTEND;TZID=America/Los_Angeles:20260511T210000
STATUS:CONFIRMED
SUMMARY:Roll-em Pirates vs Bocce Amore
URL:/League/Schedule/3173
DESCRIPTION:Regular Season match: Roll-em Pirates vs Bocce A
 more
LOCATION:Newhall Court 5
END:VEVENT
BEGIN:VEVENT
DTSTAMP:20260426T000000Z
UID:92baac5c-ec70-433b-95fa-9ecfc15ce277@ClaytonBocce
DTSTART;TZID=America/Los_Angeles:20260518T183000
DTEND;TZID=America/Los_Angeles:20260518T210000
STATUS:CONFIRMED
SUMMARY:Roll-em Pirates vs The Sting
URL:/League/Schedule/3173
DESCRIPTION:Regular Season match: Roll-em Pirates vs The Sti
 ng
LOCATION:Newhall Court 8
END:VEVENT
BEGIN:VEVENT
DTSTAMP:20260426T000000Z
UID:f57be228-aa7d-4eef-a93b-fa9cd2416843@ClaytonBocce
DTSTART;TZID=America/Los_Angeles:20260525T183000
DTEND;TZID=America/Los_Angeles:20260525T210000
STATUS:CONFIRMED
SUMMARY:Roll-em Pirates vs Team Forza
URL:/League/Schedule/3173
DESCRIPTION:Regular Season match: Roll-em Pirates vs Team Fo
 rza
LOCATION:Newhall Court 3
END:VEVENT
BEGIN:VEVENT
DTSTAMP:20260426T000000Z
UID:aabc33b9-c92b-4063-840b-f66345b64b91@ClaytonBocce
DTSTART;TZID=America/Los_Angeles:20260601T183000
DTEND;TZID=America/Los_Angeles:20260601T210000
STATUS:CONFIRMED
SUMMARY:Roll-em Pirates vs Bergum 2
URL:/League/Schedule/3173
DESCRIPTION:Regular Season match: Roll-em Pirates vs Bergum 
 2
LOCATION:Newhall Court 4
END:VEVENT
BEGIN:VEVENT
DTSTAMP:20260426T000000Z
UID:7e503024-a029-4da9-81ee-31817deaab7b@ClaytonBocce
DTSTART;TZID=America/Los_Angeles:20260608T183000
DTEND;TZID=America/Los_Angeles:20260608T210000
STATUS:CONFIRMED
SUMMARY:Roll-em Pirates vs The Bocce Bunch
URL:/League/Schedule/3173
DESCRIPTION:Regular Season match: Roll-em Pirates vs The Boc
 ce Bunch
LOCATION:Newhall Court 5
END:VEVENT
BEGIN:VEVENT
DTSTAMP:20260426T000000Z
UID:8f03bfaf-46bf-4d27-8626-fd4f1ce8bb02@ClaytonBocce
DTSTART;TZID=America/Los_Angeles:20260622T183000
DTEND;TZID=America/Los_Angeles:20260622T210000
STATUS:CONFIRMED
SUMMARY:Roll-em Pirates vs Pasta Fazu
URL:/League/Schedule/3173
DESCRIPTION:Regular Season match: Roll-em Pirates vs Pasta F
 azu
LOCATION:Newhall Court 7
END:VEVENT
BEGIN:VEVENT
DTSTAMP:20260426T000000Z
UID:2ffb9737-2ee8-4fbc-aa68-4ef83cce8b41@ClaytonBocce
DTSTART;TZID=America/Los_Angeles:20260629T183000
DTEND;TZID=America/Los_Angeles:20260629T210000
STATUS:CONFIRMED
SUMMARY:Roll-em Pirates vs Ciapamuschis
URL:/League/Schedule/3173
DESCRIPTION:Regular Season match: Roll-em Pirates vs Ciapamu
 schis
LOCATION:Newhall Court 6
END:VEVENT
BEGIN:VEVENT
DTSTAMP:20260426T000000Z
UID:ccb71886-7e5c-4c1b-adb6-9d29982c80c5@ClaytonBocce
DTSTART;TZID=America/Los_Angeles:20260713T183000
DTEND;TZID=America/Los_Angeles:20260713T210000
STATUS:CONFIRMED
SUMMARY:Roll-em Pirates vs Rollers
URL:/League/Schedule/3173
DESCRIPTION:Regular Season match: Roll-em Pirates vs Rollers
LOCATION:Newhall Court 3
END:VEVENT
BEGIN:VEVENT
DTSTAMP:20260426T000000Z
UID:8b9581ef-5d9f-4915-af28-3501f3186f58@ClaytonBocce
DTSTART;TZID=America/Los_Angeles:20260720T183000
DTEND;TZID=America/Los_Angeles:20260720T210000
STATUS:CONFIRMED
SUMMARY:Roll-em Pirates vs Bocce Amore
URL:/League/Schedule/3173
DESCRIPTION:Regular Season match: Roll-em Pirates vs Bocce A
 more
LOCATION:Newhall Court 2
END:VEVENT
BEGIN:VEVENT
DTSTAMP:20260426T000000Z
UID:1d38749f-66c5-4bab-9cd4-0fd24ec23c94@ClaytonBocce
DTSTART;TZID=America/Los_Angeles:20260727T183000
DTEND;TZID=America/Los_Angeles:20260727T210000
STATUS:CONFIRMED
SUMMARY:Roll-em Pirates vs The Sting
URL:/League/Schedule/3173
DESCRIPTION:Regular Season match: Roll-em Pirates vs The Sti
 ng
LOCATION:Newhall Court 1
END:VEVENT
BEGIN:VEVENT
DTSTAMP:20260426T000000Z
UID:43c054aa-9307-4cc6-ac5f-b767513bc984@ClaytonBocce
DTSTART;TZID=America/Los_Angeles:20260803T183000
DTEND;TZID=America/Los_Angeles:20260803T210000
STATUS:CONFIRMED
SUMMARY:Roll-em Pirates vs Team Forza
URL:/League/Schedule/3173
DESCRIPTION:Regular Season match: Roll-em Pirates vs Team Fo
 rza
LOCATION:Newhall Court 2
END:VEVENT
BEGIN:VEVENT
DTSTAMP:20260426T000000Z
UID:a2a64ed6-52b6-4386-8bdd-912b23679225@ClaytonBocce
DTSTART;TZID=America/Los_Angeles:20260810T183000
DTEND;TZID=America/Los_Angeles:20260810T210000
STATUS:CONFIRMED
SUMMARY:Roll-em Pirates vs Bergum 2
URL:/League/Schedule/3173
DESCRIPTION:Regular Season match: Roll-em Pirates vs Bergum 
 2
LOCATION:Newhall Court 6
END:VEVENT
BEGIN:VEVENT
DTSTAMP:20260426T000000Z
UID:9ebe417a-5f33-4de7-b42a-b8e7363b47e1@ClaytonBocce
DTSTART;TZID=America/Los_Angeles:20260817T183000
DTEND;TZID=America/Los_Angeles:20260817T210000
STATUS:CONFIRMED
SUMMARY:Roll-em Pirates vs The Bocce Bunch
URL:/League/Schedule/3173
DESCRIPTION:Regular Season match: Roll-em Pirates vs The Boc
 ce Bunch
LOCATION:Newhall Court 5
END:VEVENT
BEGIN:VEVENT
DTSTAMP:20260426T000000Z
UID:4fa10d16-483d-4052-832a-5f4f56334b7f@ClaytonBocce
DTSTART;TZID=America/Los_Angeles:20260831T183000
DTEND;TZID=America/Los_Angeles:20260831T210000
STATUS:CONFIRMED
SUMMARY:Roll-em Pirates vs Pasta Fazu
URL:/League/Schedule/3173
DESCRIPTION:Regular Season match: Roll-em Pirates vs Pasta F
 azu
LOCATION:Newhall Court 7
END:VEVENT
END:VCALENDAR
