BEGIN:VCALENDAR
VERSION:2.0
PRODID:-//Clayton Bocce League
METHOD:PUBLISH
BEGIN:VTIMEZONE
TZID:America/Los_Angeles
X-LIC-LOCATION:America/Los_Angeles
BEGIN:DAYLIGHT
TZOFFSETFROM:-0800
TZOFFSETTO:-0700
TZNAME:PDT
DTSTART:20070311T020000
RRULE:FREQ=YEARLY;BYMONTH=3;BYDAY=2SU
END:DAYLIGHT
BEGIN:STANDARD
TZOFFSETFROM:-0700
TZOFFSETTO:-0800
TZNAME:PST
DTSTART:20071104T020000
RRULE:FREQ=YEARLY;BYMONTH=11;BYDAY=1SU
END:STANDARD
END:VTIMEZONE
BEGIN:VEVENT
DTSTAMP:20260426T000000Z
UID:a1a34daa-5ffe-4dd2-8473-bf80bd3fefcd@ClaytonBocce
DTSTART;TZID=America/Los_Angeles:20260427T183000
DTEND;TZID=America/Los_Angeles:20260427T210000
STATUS:CONFIRMED
SUMMARY:Team Forza vs The Sting
URL:/League/Schedule/3180
DESCRIPTION:Regular Season match: Team Forza vs The Sting
LOCATION:Newhall Court 1
END:VEVENT
BEGIN:VEVENT
DTSTAMP:20260426T000000Z
UID:cc097850-3667-402e-bcaa-01f9bd25f763@ClaytonBocce
DTSTART;TZID=America/Los_Angeles:20260511T183000
DTEND;TZID=America/Los_Angeles:20260511T210000
STATUS:CONFIRMED
SUMMARY:Team Forza vs Bergum 2
URL:/League/Schedule/3180
DESCRIPTION:Regular Season match: Team Forza vs Bergum 2
LOCATION:Newhall Court 7
END:VEVENT
BEGIN:VEVENT
DTSTAMP:20260426T000000Z
UID:398e2fa5-c354-487c-9171-0ae61cc3ca5f@ClaytonBocce
DTSTART;TZID=America/Los_Angeles:20260518T183000
DTEND;TZID=America/Los_Angeles:20260518T210000
STATUS:CONFIRMED
SUMMARY:Team Forza vs The Bocce Bunch
URL:/League/Schedule/3180
DESCRIPTION:Regular Season match: Team Forza vs The Bocce Bu
 nch
LOCATION:Newhall Court 2
END:VEVENT
BEGIN:VEVENT
DTSTAMP:20260426T000000Z
UID:f57be228-aa7d-4eef-a93b-fa9cd2416843@ClaytonBocce
DTSTART;TZID=America/Los_Angeles:20260525T183000
DTEND;TZID=America/Los_Angeles:20260525T210000
STATUS:CONFIRMED
SUMMARY:Team Forza vs Roll-em Pirates
URL:/League/Schedule/3180
DESCRIPTION:Regular Season match: Team Forza vs Roll-em Pira
 tes
LOCATION:Newhall Court 3
END:VEVENT
BEGIN:VEVENT
DTSTAMP:20260426T000000Z
UID:054b0a24-a6bf-4f59-885a-b8d0ac9838e4@ClaytonBocce
DTSTART;TZID=America/Los_Angeles:20260601T183000
DTEND;TZID=America/Los_Angeles:20260601T210000
STATUS:CONFIRMED
SUMMARY:Team Forza vs Pasta Fazu
URL:/League/Schedule/3180
DESCRIPTION:Regular Season match: Team Forza vs Pasta Fazu
LOCATION:Newhall Court 6
END:VEVENT
BEGIN:VEVENT
DTSTAMP:20260426T000000Z
UID:81d2dacb-09c6-4a4d-96e4-1b98e5b630e7@ClaytonBocce
DTSTART;TZID=America/Los_Angeles:20260608T183000
DTEND;TZID=America/Los_Angeles:20260608T210000
STATUS:CONFIRMED
SUMMARY:Team Forza vs Ciapamuschis
URL:/League/Schedule/3180
DESCRIPTION:Regular Season match: Team Forza vs Ciapamuschis
LOCATION:Newhall Court 4
END:VEVENT
BEGIN:VEVENT
DTSTAMP:20260426T000000Z
UID:962762e2-d90f-4159-8183-07d4d783a4c2@ClaytonBocce
DTSTART;TZID=America/Los_Angeles:20260615T183000
DTEND;TZID=America/Los_Angeles:20260615T210000
STATUS:CONFIRMED
SUMMARY:Team Forza vs Rollers
URL:/League/Schedule/3180
DESCRIPTION:Regular Season match: Team Forza vs Rollers
LOCATION:Newhall Court 5
END:VEVENT
BEGIN:VEVENT
DTSTAMP:20260426T000000Z
UID:4576145e-9d1c-41d8-b838-10c3026db1e6@ClaytonBocce
DTSTART;TZID=America/Los_Angeles:20260622T183000
DTEND;TZID=America/Los_Angeles:20260622T210000
STATUS:CONFIRMED
SUMMARY:Team Forza vs Bocce Amore
URL:/League/Schedule/3180
DESCRIPTION:Regular Season match: Team Forza vs Bocce Amore
LOCATION:Newhall Court 8
END:VEVENT
BEGIN:VEVENT
DTSTAMP:20260426T000000Z
UID:ef428b4a-40c0-4b62-b4da-a24e7d1c61c7@ClaytonBocce
DTSTART;TZID=America/Los_Angeles:20260629T183000
DTEND;TZID=America/Los_Angeles:20260629T210000
STATUS:CONFIRMED
SUMMARY:Team Forza vs The Sting
URL:/League/Schedule/3180
DESCRIPTION:Regular Season match: Team Forza vs The Sting
LOCATION:Newhall Court 7
END:VEVENT
BEGIN:VEVENT
DTSTAMP:20260426T000000Z
UID:3f9b12c0-1c8c-4a62-b4c1-bb2a3e63191f@ClaytonBocce
DTSTART;TZID=America/Los_Angeles:20260720T183000
DTEND;TZID=America/Los_Angeles:20260720T210000
STATUS:CONFIRMED
SUMMARY:Team Forza vs Bergum 2
URL:/League/Schedule/3180
DESCRIPTION:Regular Season match: Team Forza vs Bergum 2
LOCATION:Newhall Court 3
END:VEVENT
BEGIN:VEVENT
DTSTAMP:20260426T000000Z
UID:c76afa5a-d8fc-431a-a851-9d92d2179bdf@ClaytonBocce
DTSTART;TZID=America/Los_Angeles:20260727T183000
DTEND;TZID=America/Los_Angeles:20260727T210000
STATUS:CONFIRMED
SUMMARY:Team Forza vs The Bocce Bunch
URL:/League/Schedule/3180
DESCRIPTION:Regular Season match: Team Forza vs The Bocce Bu
 nch
LOCATION:Newhall Court 4
END:VEVENT
BEGIN:VEVENT
DTSTAMP:20260426T000000Z
UID:43c054aa-9307-4cc6-ac5f-b767513bc984@ClaytonBocce
DTSTART;TZID=America/Los_Angeles:20260803T183000
DTEND;TZID=America/Los_Angeles:20260803T210000
STATUS:CONFIRMED
SUMMARY:Team Forza vs Roll-em Pirates
URL:/League/Schedule/3180
DESCRIPTION:Regular Season match: Team Forza vs Roll-em Pira
 tes
LOCATION:Newhall Court 2
END:VEVENT
BEGIN:VEVENT
DTSTAMP:20260426T000000Z
UID:916b94b2-dd90-437a-9287-eac29e62d70d@ClaytonBocce
DTSTART;TZID=America/Los_Angeles:20260810T183000
DTEND;TZID=America/Los_Angeles:20260810T210000
STATUS:CONFIRMED
SUMMARY:Team Forza vs Pasta Fazu
URL:/League/Schedule/3180
DESCRIPTION:Regular Season match: Team Forza vs Pasta Fazu
LOCATION:Newhall Court 5
END:VEVENT
BEGIN:VEVENT
DTSTAMP:20260426T000000Z
UID:2c6b7880-6e27-45ad-bf4c-9f2f1d1ab449@ClaytonBocce
DTSTART;TZID=America/Los_Angeles:20260817T183000
DTEND;TZID=America/Los_Angeles:20260817T210000
STATUS:CONFIRMED
SUMMARY:Team Forza vs Ciapamuschis
URL:/League/Schedule/3180
DESCRIPTION:Regular Season match: Team Forza vs Ciapamuschis
LOCATION:Newhall Court 1
END:VEVENT
BEGIN:VEVENT
DTSTAMP:20260426T000000Z
UID:d0456db5-cae7-4eb8-8cb3-1ef90607d81b@ClaytonBocce
DTSTART;TZID=America/Los_Angeles:20260824T183000
DTEND;TZID=America/Los_Angeles:20260824T210000
STATUS:CONFIRMED
SUMMARY:Team Forza vs Rollers
URL:/League/Schedule/3180
DESCRIPTION:Regular Season match: Team Forza vs Rollers
LOCATION:Newhall Court 6
END:VEVENT
BEGIN:VEVENT
DTSTAMP:20260426T000000Z
UID:8410dd02-f267-4c38-b119-9d1c6e9f41a3@ClaytonBocce
DTSTART;TZID=America/Los_Angeles:20260831T183000
DTEND;TZID=America/Los_Angeles:20260831T210000
STATUS:CONFIRMED
SUMMARY:Team Forza vs Bocce Amore
URL:/League/Schedule/3180
DESCRIPTION:Regular Season match: Team Forza vs Bocce Amore
LOCATION:Newhall Court 4
END:VEVENT
END:VCALENDAR
