BEGIN:VCALENDAR
VERSION:2.0
PRODID:-//Clayton Bocce League
METHOD:PUBLISH
BEGIN:VTIMEZONE
TZID:America/Los_Angeles
X-LIC-LOCATION:America/Los_Angeles
BEGIN:DAYLIGHT
TZOFFSETFROM:-0800
TZOFFSETTO:-0700
TZNAME:PDT
DTSTART:20070311T020000
RRULE:FREQ=YEARLY;BYMONTH=3;BYDAY=2SU
END:DAYLIGHT
BEGIN:STANDARD
TZOFFSETFROM:-0700
TZOFFSETTO:-0800
TZNAME:PST
DTSTART:20071104T020000
RRULE:FREQ=YEARLY;BYMONTH=11;BYDAY=1SU
END:STANDARD
END:VTIMEZONE
BEGIN:VEVENT
DTSTAMP:20260426T000000Z
UID:a1a34daa-5ffe-4dd2-8473-bf80bd3fefcd@ClaytonBocce
DTSTART;TZID=America/Los_Angeles:20260427T183000
DTEND;TZID=America/Los_Angeles:20260427T210000
STATUS:CONFIRMED
SUMMARY:The Sting vs Team Forza
URL:/League/Schedule/3174
DESCRIPTION:Regular Season match: The Sting vs Team Forza
LOCATION:Newhall Court 1
END:VEVENT
BEGIN:VEVENT
DTSTAMP:20260426T000000Z
UID:41e77060-2c36-43a2-95f3-5bb37536598a@ClaytonBocce
DTSTART;TZID=America/Los_Angeles:20260504T183000
DTEND;TZID=America/Los_Angeles:20260504T210000
STATUS:CONFIRMED
SUMMARY:The Sting vs Bergum 2
URL:/League/Schedule/3174
DESCRIPTION:Regular Season match: The Sting vs Bergum 2
LOCATION:Newhall Court 5
END:VEVENT
BEGIN:VEVENT
DTSTAMP:20260426T000000Z
UID:1a8157cb-54ab-4b24-a837-e67f44c76f52@ClaytonBocce
DTSTART;TZID=America/Los_Angeles:20260511T183000
DTEND;TZID=America/Los_Angeles:20260511T210000
STATUS:CONFIRMED
SUMMARY:The Sting vs The Bocce Bunch
URL:/League/Schedule/3174
DESCRIPTION:Regular Season match: The Sting vs The Bocce Bun
 ch
LOCATION:Newhall Court 6
END:VEVENT
BEGIN:VEVENT
DTSTAMP:20260426T000000Z
UID:92baac5c-ec70-433b-95fa-9ecfc15ce277@ClaytonBocce
DTSTART;TZID=America/Los_Angeles:20260518T183000
DTEND;TZID=America/Los_Angeles:20260518T210000
STATUS:CONFIRMED
SUMMARY:The Sting vs Roll-em Pirates
URL:/League/Schedule/3174
DESCRIPTION:Regular Season match: The Sting vs Roll-em Pirat
 es
LOCATION:Newhall Court 8
END:VEVENT
BEGIN:VEVENT
DTSTAMP:20260426T000000Z
UID:4b78414b-43e4-48a7-ae4d-9d97cc6f491c@ClaytonBocce
DTSTART;TZID=America/Los_Angeles:20260525T183000
DTEND;TZID=America/Los_Angeles:20260525T210000
STATUS:CONFIRMED
SUMMARY:The Sting vs Pasta Fazu
URL:/League/Schedule/3174
DESCRIPTION:Regular Season match: The Sting vs Pasta Fazu
LOCATION:Newhall Court 2
END:VEVENT
BEGIN:VEVENT
DTSTAMP:20260426T000000Z
UID:c15955c4-0961-4b1a-abbc-6b8659317d59@ClaytonBocce
DTSTART;TZID=America/Los_Angeles:20260601T183000
DTEND;TZID=America/Los_Angeles:20260601T210000
STATUS:CONFIRMED
SUMMARY:The Sting vs Ciapamuschis
URL:/League/Schedule/3174
DESCRIPTION:Regular Season match: The Sting vs Ciapamuschis
LOCATION:Newhall Court 3
END:VEVENT
BEGIN:VEVENT
DTSTAMP:20260426T000000Z
UID:54549b5f-9019-4ad3-bad4-5a50a167ebf1@ClaytonBocce
DTSTART;TZID=America/Los_Angeles:20260608T183000
DTEND;TZID=America/Los_Angeles:20260608T210000
STATUS:CONFIRMED
SUMMARY:The Sting vs Rollers
URL:/League/Schedule/3174
DESCRIPTION:Regular Season match: The Sting vs Rollers
LOCATION:Newhall Court 8
END:VEVENT
BEGIN:VEVENT
DTSTAMP:20260426T000000Z
UID:cda13275-a4e7-4f73-aaff-40366c2ba0bd@ClaytonBocce
DTSTART;TZID=America/Los_Angeles:20260615T183000
DTEND;TZID=America/Los_Angeles:20260615T210000
STATUS:CONFIRMED
SUMMARY:The Sting vs Bocce Amore
URL:/League/Schedule/3174
DESCRIPTION:Regular Season match: The Sting vs Bocce Amore
LOCATION:Newhall Court 1
END:VEVENT
BEGIN:VEVENT
DTSTAMP:20260426T000000Z
UID:ef428b4a-40c0-4b62-b4da-a24e7d1c61c7@ClaytonBocce
DTSTART;TZID=America/Los_Angeles:20260629T183000
DTEND;TZID=America/Los_Angeles:20260629T210000
STATUS:CONFIRMED
SUMMARY:The Sting vs Team Forza
URL:/League/Schedule/3174
DESCRIPTION:Regular Season match: The Sting vs Team Forza
LOCATION:Newhall Court 7
END:VEVENT
BEGIN:VEVENT
DTSTAMP:20260426T000000Z
UID:04343142-6dd9-4992-b88d-92592bc5e03b@ClaytonBocce
DTSTART;TZID=America/Los_Angeles:20260713T183000
DTEND;TZID=America/Los_Angeles:20260713T210000
STATUS:CONFIRMED
SUMMARY:The Sting vs Bergum 2
URL:/League/Schedule/3174
DESCRIPTION:Regular Season match: The Sting vs Bergum 2
LOCATION:Newhall Court 4
END:VEVENT
BEGIN:VEVENT
DTSTAMP:20260426T000000Z
UID:258869e1-6daa-4453-a1d0-4f168b788344@ClaytonBocce
DTSTART;TZID=America/Los_Angeles:20260720T183000
DTEND;TZID=America/Los_Angeles:20260720T210000
STATUS:CONFIRMED
SUMMARY:The Sting vs The Bocce Bunch
URL:/League/Schedule/3174
DESCRIPTION:Regular Season match: The Sting vs The Bocce Bun
 ch
LOCATION:Newhall Court 5
END:VEVENT
BEGIN:VEVENT
DTSTAMP:20260426T000000Z
UID:1d38749f-66c5-4bab-9cd4-0fd24ec23c94@ClaytonBocce
DTSTART;TZID=America/Los_Angeles:20260727T183000
DTEND;TZID=America/Los_Angeles:20260727T210000
STATUS:CONFIRMED
SUMMARY:The Sting vs Roll-em Pirates
URL:/League/Schedule/3174
DESCRIPTION:Regular Season match: The Sting vs Roll-em Pirat
 es
LOCATION:Newhall Court 1
END:VEVENT
BEGIN:VEVENT
DTSTAMP:20260426T000000Z
UID:1f454b4d-4eed-4f0d-83c5-03f3dd03f9b6@ClaytonBocce
DTSTART;TZID=America/Los_Angeles:20260803T183000
DTEND;TZID=America/Los_Angeles:20260803T210000
STATUS:CONFIRMED
SUMMARY:The Sting vs Pasta Fazu
URL:/League/Schedule/3174
DESCRIPTION:Regular Season match: The Sting vs Pasta Fazu
LOCATION:Newhall Court 6
END:VEVENT
BEGIN:VEVENT
DTSTAMP:20260426T000000Z
UID:714a42e8-061d-4a09-8484-14ace7e62fb5@ClaytonBocce
DTSTART;TZID=America/Los_Angeles:20260810T183000
DTEND;TZID=America/Los_Angeles:20260810T210000
STATUS:CONFIRMED
SUMMARY:The Sting vs Ciapamuschis
URL:/League/Schedule/3174
DESCRIPTION:Regular Season match: The Sting vs Ciapamuschis
LOCATION:Newhall Court 2
END:VEVENT
BEGIN:VEVENT
DTSTAMP:20260426T000000Z
UID:2247308b-2af2-4237-8ac8-a1a5165a34ea@ClaytonBocce
DTSTART;TZID=America/Los_Angeles:20260817T183000
DTEND;TZID=America/Los_Angeles:20260817T210000
STATUS:CONFIRMED
SUMMARY:The Sting vs Rollers
URL:/League/Schedule/3174
DESCRIPTION:Regular Season match: The Sting vs Rollers
LOCATION:Newhall Court 8
END:VEVENT
BEGIN:VEVENT
DTSTAMP:20260426T000000Z
UID:977bce3a-74df-48a9-b055-8c45c621e0fa@ClaytonBocce
DTSTART;TZID=America/Los_Angeles:20260824T183000
DTEND;TZID=America/Los_Angeles:20260824T210000
STATUS:CONFIRMED
SUMMARY:The Sting vs Bocce Amore
URL:/League/Schedule/3174
DESCRIPTION:Regular Season match: The Sting vs Bocce Amore
LOCATION:Newhall Court 7
END:VEVENT
END:VCALENDAR
