BEGIN:VCALENDAR
VERSION:2.0
PRODID:-//Clayton Bocce League
METHOD:PUBLISH
BEGIN:VTIMEZONE
TZID:America/Los_Angeles
X-LIC-LOCATION:America/Los_Angeles
BEGIN:DAYLIGHT
TZOFFSETFROM:-0800
TZOFFSETTO:-0700
TZNAME:PDT
DTSTART:20070311T020000
RRULE:FREQ=YEARLY;BYMONTH=3;BYDAY=2SU
END:DAYLIGHT
BEGIN:STANDARD
TZOFFSETFROM:-0700
TZOFFSETTO:-0800
TZNAME:PST
DTSTART:20071104T020000
RRULE:FREQ=YEARLY;BYMONTH=11;BYDAY=1SU
END:STANDARD
END:VTIMEZONE
BEGIN:VEVENT
DTSTAMP:20260426T000000Z
UID:b0b48f29-c7ec-4316-ab7b-60b7f02d76b4@ClaytonBocce
DTSTART;TZID=America/Los_Angeles:20260503T180000
DTEND;TZID=America/Los_Angeles:20260503T203000
STATUS:CONFIRMED
SUMMARY:Zandonella Catering vs The Big LaBocce
URL:/League/Schedule/3172
DESCRIPTION:Regular Season match: Zandonella Catering vs The
  Big LaBocce
LOCATION:Newhall Court 8
END:VEVENT
BEGIN:VEVENT
DTSTAMP:20260426T000000Z
UID:6bb593df-c8cd-417e-af10-1908cc213168@ClaytonBocce
DTSTART;TZID=America/Los_Angeles:20260510T180000
DTEND;TZID=America/Los_Angeles:20260510T203000
STATUS:CONFIRMED
SUMMARY:Zandonella Catering vs Four Corners 76 Dogs
URL:/League/Schedule/3172
DESCRIPTION:Regular Season match: Zandonella Catering vs Fou
 r Corners 76 Dogs
LOCATION:Newhall Court 3
END:VEVENT
BEGIN:VEVENT
DTSTAMP:20260426T000000Z
UID:09cd71cc-ad01-48c0-9b1b-5517ebafd215@ClaytonBocce
DTSTART;TZID=America/Los_Angeles:20260517T180000
DTEND;TZID=America/Los_Angeles:20260517T203000
STATUS:CONFIRMED
SUMMARY:Zandonella Catering vs Court Jesters
URL:/League/Schedule/3172
DESCRIPTION:Regular Season match: Zandonella Catering vs Cou
 rt Jesters
LOCATION:Newhall Court 4
END:VEVENT
BEGIN:VEVENT
DTSTAMP:20260426T000000Z
UID:5abece25-61d1-48bd-a2f8-c0477a3224c1@ClaytonBocce
DTSTART;TZID=America/Los_Angeles:20260524T180000
DTEND;TZID=America/Los_Angeles:20260524T203000
STATUS:CONFIRMED
SUMMARY:Zandonella Catering vs Bocce Lives Matter
URL:/League/Schedule/3172
DESCRIPTION:Regular Season match: Zandonella Catering vs Boc
 ce Lives Matter
LOCATION:Newhall Court 2
END:VEVENT
BEGIN:VEVENT
DTSTAMP:20260426T000000Z
UID:cbd6c464-73ca-4dde-9b2e-6a506ea90170@ClaytonBocce
DTSTART;TZID=America/Los_Angeles:20260531T180000
DTEND;TZID=America/Los_Angeles:20260531T203000
STATUS:CONFIRMED
SUMMARY:Zandonella Catering vs Rollin' Raiders
URL:/League/Schedule/3172
DESCRIPTION:Regular Season match: Zandonella Catering vs Rol
 lin' Raiders
LOCATION:Newhall Court 6
END:VEVENT
BEGIN:VEVENT
DTSTAMP:20260426T000000Z
UID:b28691c5-f8c3-43bd-b1f0-5e7fe2b0d3ec@ClaytonBocce
DTSTART;TZID=America/Los_Angeles:20260607T180000
DTEND;TZID=America/Los_Angeles:20260607T203000
STATUS:CONFIRMED
SUMMARY:Zandonella Catering vs Wait Till Next Year
URL:/League/Schedule/3172
DESCRIPTION:Regular Season match: Zandonella Catering vs Wai
 t Till Next Year
LOCATION:Newhall Court 1
END:VEVENT
BEGIN:VEVENT
DTSTAMP:20260426T000000Z
UID:fe344a52-65af-451e-a036-649678996ecb@ClaytonBocce
DTSTART;TZID=America/Los_Angeles:20260614T180000
DTEND;TZID=America/Los_Angeles:20260614T203000
STATUS:CONFIRMED
SUMMARY:Zandonella Catering vs MISFITS
URL:/League/Schedule/3172
DESCRIPTION:Regular Season match: Zandonella Catering vs MIS
 FITS
LOCATION:Newhall Court 4
END:VEVENT
BEGIN:VEVENT
DTSTAMP:20260426T000000Z
UID:60beaf0c-a473-49a6-a127-37e5ae3d387a@ClaytonBocce
DTSTART;TZID=America/Los_Angeles:20260621T180000
DTEND;TZID=America/Los_Angeles:20260621T203000
STATUS:CONFIRMED
SUMMARY:Zandonella Catering vs Bocce Amici
URL:/League/Schedule/3172
DESCRIPTION:Regular Season match: Zandonella Catering vs Boc
 ce Amici
LOCATION:Newhall Court 7
END:VEVENT
BEGIN:VEVENT
DTSTAMP:20260426T000000Z
UID:585c791c-5727-41e1-a84a-84ada8082257@ClaytonBocce
DTSTART;TZID=America/Los_Angeles:20260712T180000
DTEND;TZID=America/Los_Angeles:20260712T203000
STATUS:CONFIRMED
SUMMARY:Zandonella Catering vs The Big LaBocce
URL:/League/Schedule/3172
DESCRIPTION:Regular Season match: Zandonella Catering vs The
  Big LaBocce
LOCATION:Newhall Court 5
END:VEVENT
BEGIN:VEVENT
DTSTAMP:20260426T000000Z
UID:025cf9ce-3b85-453a-8a42-d527b9001a6f@ClaytonBocce
DTSTART;TZID=America/Los_Angeles:20260719T180000
DTEND;TZID=America/Los_Angeles:20260719T203000
STATUS:CONFIRMED
SUMMARY:Zandonella Catering vs Four Corners 76 Dogs
URL:/League/Schedule/3172
DESCRIPTION:Regular Season match: Zandonella Catering vs Fou
 r Corners 76 Dogs
LOCATION:Newhall Court 4
END:VEVENT
BEGIN:VEVENT
DTSTAMP:20260426T000000Z
UID:6807cda3-0d15-4fe0-9412-7c342d5b91e4@ClaytonBocce
DTSTART;TZID=America/Los_Angeles:20260726T180000
DTEND;TZID=America/Los_Angeles:20260726T203000
STATUS:CONFIRMED
SUMMARY:Zandonella Catering vs Court Jesters
URL:/League/Schedule/3172
DESCRIPTION:Regular Season match: Zandonella Catering vs Cou
 rt Jesters
LOCATION:Newhall Court 8
END:VEVENT
BEGIN:VEVENT
DTSTAMP:20260426T000000Z
UID:c9d65cc6-83c8-4667-9858-a4cba83e0160@ClaytonBocce
DTSTART;TZID=America/Los_Angeles:20260802T180000
DTEND;TZID=America/Los_Angeles:20260802T203000
STATUS:CONFIRMED
SUMMARY:Zandonella Catering vs Bocce Lives Matter
URL:/League/Schedule/3172
DESCRIPTION:Regular Season match: Zandonella Catering vs Boc
 ce Lives Matter
LOCATION:Newhall Court 6
END:VEVENT
BEGIN:VEVENT
DTSTAMP:20260426T000000Z
UID:59c0ca44-924c-464d-96e7-a2d8ed51164c@ClaytonBocce
DTSTART;TZID=America/Los_Angeles:20260809T180000
DTEND;TZID=America/Los_Angeles:20260809T203000
STATUS:CONFIRMED
SUMMARY:Zandonella Catering vs Rollin' Raiders
URL:/League/Schedule/3172
DESCRIPTION:Regular Season match: Zandonella Catering vs Rol
 lin' Raiders
LOCATION:Newhall Court 5
END:VEVENT
BEGIN:VEVENT
DTSTAMP:20260426T000000Z
UID:35922889-f5b5-42b5-913d-07cbdeca811a@ClaytonBocce
DTSTART;TZID=America/Los_Angeles:20260816T180000
DTEND;TZID=America/Los_Angeles:20260816T203000
STATUS:CONFIRMED
SUMMARY:Zandonella Catering vs Wait Till Next Year
URL:/League/Schedule/3172
DESCRIPTION:Regular Season match: Zandonella Catering vs Wai
 t Till Next Year
LOCATION:Newhall Court 2
END:VEVENT
BEGIN:VEVENT
DTSTAMP:20260426T000000Z
UID:f5732c62-9c32-4abb-8f43-902c75c3e075@ClaytonBocce
DTSTART;TZID=America/Los_Angeles:20260823T180000
DTEND;TZID=America/Los_Angeles:20260823T203000
STATUS:CONFIRMED
SUMMARY:Zandonella Catering vs MISFITS
URL:/League/Schedule/3172
DESCRIPTION:Regular Season match: Zandonella Catering vs MIS
 FITS
LOCATION:Newhall Court 3
END:VEVENT
BEGIN:VEVENT
DTSTAMP:20260426T000000Z
UID:42d2084e-8e55-4c81-851b-66c55779c656@ClaytonBocce
DTSTART;TZID=America/Los_Angeles:20260830T180000
DTEND;TZID=America/Los_Angeles:20260830T203000
STATUS:CONFIRMED
SUMMARY:Zandonella Catering vs Bocce Amici
URL:/League/Schedule/3172
DESCRIPTION:Regular Season match: Zandonella Catering vs Boc
 ce Amici
LOCATION:Newhall Court 7
END:VEVENT
END:VCALENDAR
