BEGIN:VCALENDAR
VERSION:2.0
PRODID:-//Clayton Bocce League
METHOD:PUBLISH
BEGIN:VTIMEZONE
TZID:America/Los_Angeles
X-LIC-LOCATION:America/Los_Angeles
BEGIN:DAYLIGHT
TZOFFSETFROM:-0800
TZOFFSETTO:-0700
TZNAME:PDT
DTSTART:20070311T020000
RRULE:FREQ=YEARLY;BYMONTH=3;BYDAY=2SU
END:DAYLIGHT
BEGIN:STANDARD
TZOFFSETFROM:-0700
TZOFFSETTO:-0800
TZNAME:PST
DTSTART:20071104T020000
RRULE:FREQ=YEARLY;BYMONTH=11;BYDAY=1SU
END:STANDARD
END:VTIMEZONE
BEGIN:VEVENT
DTSTAMP:20260426T000000Z
UID:70566b97-10a3-466d-ad9f-14b32d6f0fcb@ClaytonBocce
DTSTART;TZID=America/Los_Angeles:20260503T180000
DTEND;TZID=America/Los_Angeles:20260503T203000
STATUS:CONFIRMED
SUMMARY:Spinners vs The Bocce Novas
URL:/League/Schedule/3167
DESCRIPTION:Regular Season match: Spinners vs The Bocce Nova
 s
LOCATION:Newhall Court 6
END:VEVENT
BEGIN:VEVENT
DTSTAMP:20260426T000000Z
UID:f1450276-6666-4b38-b689-fad7e7ad0aa9@ClaytonBocce
DTSTART;TZID=America/Los_Angeles:20260510T180000
DTEND;TZID=America/Los_Angeles:20260510T203000
STATUS:CONFIRMED
SUMMARY:Spinners vs Zip's Rollers
URL:/League/Schedule/3167
DESCRIPTION:Regular Season match: Spinners vs Zip's Rollers
LOCATION:Newhall Court 4
END:VEVENT
BEGIN:VEVENT
DTSTAMP:20260426T000000Z
UID:6dde08aa-77ef-4579-8f2a-06b0cc7fab68@ClaytonBocce
DTSTART;TZID=America/Los_Angeles:20260517T180000
DTEND;TZID=America/Los_Angeles:20260517T203000
STATUS:CONFIRMED
SUMMARY:Spinners vs Mission Imbocceball
URL:/League/Schedule/3167
DESCRIPTION:Regular Season match: Spinners vs Mission Imbocc
 eball
LOCATION:Newhall Court 5
END:VEVENT
BEGIN:VEVENT
DTSTAMP:20260426T000000Z
UID:5b8dc4c5-465b-41e7-8d10-1f9d1f155325@ClaytonBocce
DTSTART;TZID=America/Los_Angeles:20260524T180000
DTEND;TZID=America/Los_Angeles:20260524T203000
STATUS:CONFIRMED
SUMMARY:Spinners vs Bipolar Rollers
URL:/League/Schedule/3167
DESCRIPTION:Regular Season match: Spinners vs Bipolar Roller
 s
LOCATION:Newhall Court 1
END:VEVENT
BEGIN:VEVENT
DTSTAMP:20260426T000000Z
UID:d11888d3-4c42-4e8c-aacb-27cd0db87309@ClaytonBocce
DTSTART;TZID=America/Los_Angeles:20260531T180000
DTEND;TZID=America/Los_Angeles:20260531T203000
STATUS:CONFIRMED
SUMMARY:Spinners vs Evening Stars
URL:/League/Schedule/3167
DESCRIPTION:Regular Season match: Spinners vs Evening Stars
LOCATION:Newhall Court 5
END:VEVENT
BEGIN:VEVENT
DTSTAMP:20260426T000000Z
UID:8d3e35fc-8b94-41da-892a-0f40363730af@ClaytonBocce
DTSTART;TZID=America/Los_Angeles:20260607T180000
DTEND;TZID=America/Los_Angeles:20260607T203000
STATUS:CONFIRMED
SUMMARY:Spinners vs Fuhgettabocce
URL:/League/Schedule/3167
DESCRIPTION:Regular Season match: Spinners vs Fuhgettabocce
LOCATION:Newhall Court 7
END:VEVENT
BEGIN:VEVENT
DTSTAMP:20260426T000000Z
UID:1aa22795-1b1b-49c5-bab1-b339dcac1f31@ClaytonBocce
DTSTART;TZID=America/Los_Angeles:20260614T180000
DTEND;TZID=America/Los_Angeles:20260614T203000
STATUS:CONFIRMED
SUMMARY:Spinners vs Blind Squirrels
URL:/League/Schedule/3167
DESCRIPTION:Regular Season match: Spinners vs Blind Squirrel
 s
LOCATION:Newhall Court 8
END:VEVENT
BEGIN:VEVENT
DTSTAMP:20260426T000000Z
UID:4ed69019-3873-41eb-b257-7090e5ac62a7@ClaytonBocce
DTSTART;TZID=America/Los_Angeles:20260621T180000
DTEND;TZID=America/Los_Angeles:20260621T203000
STATUS:CONFIRMED
SUMMARY:Spinners vs Lazy S'rs
URL:/League/Schedule/3167
DESCRIPTION:Regular Season match: Spinners vs Lazy S'rs
LOCATION:Newhall Court 3
END:VEVENT
BEGIN:VEVENT
DTSTAMP:20260426T000000Z
UID:3e63dc7b-c5be-4c82-bfee-7926136057e1@ClaytonBocce
DTSTART;TZID=America/Los_Angeles:20260712T180000
DTEND;TZID=America/Los_Angeles:20260712T203000
STATUS:CONFIRMED
SUMMARY:Spinners vs The Bocce Novas
URL:/League/Schedule/3167
DESCRIPTION:Regular Season match: Spinners vs The Bocce Nova
 s
LOCATION:Newhall Court 7
END:VEVENT
BEGIN:VEVENT
DTSTAMP:20260426T000000Z
UID:45830d82-493e-4d14-becd-a7e531cfbc5c@ClaytonBocce
DTSTART;TZID=America/Los_Angeles:20260719T180000
DTEND;TZID=America/Los_Angeles:20260719T203000
STATUS:CONFIRMED
SUMMARY:Spinners vs Zip's Rollers
URL:/League/Schedule/3167
DESCRIPTION:Regular Season match: Spinners vs Zip's Rollers
LOCATION:Newhall Court 6
END:VEVENT
BEGIN:VEVENT
DTSTAMP:20260426T000000Z
UID:e16c659a-127b-4498-a289-54902242b137@ClaytonBocce
DTSTART;TZID=America/Los_Angeles:20260726T180000
DTEND;TZID=America/Los_Angeles:20260726T203000
STATUS:CONFIRMED
SUMMARY:Spinners vs Mission Imbocceball
URL:/League/Schedule/3167
DESCRIPTION:Regular Season match: Spinners vs Mission Imbocc
 eball
LOCATION:Newhall Court 3
END:VEVENT
BEGIN:VEVENT
DTSTAMP:20260426T000000Z
UID:25dfc669-32c1-48bc-b530-0f10240bcd85@ClaytonBocce
DTSTART;TZID=America/Los_Angeles:20260802T180000
DTEND;TZID=America/Los_Angeles:20260802T203000
STATUS:CONFIRMED
SUMMARY:Spinners vs Bipolar Rollers
URL:/League/Schedule/3167
DESCRIPTION:Regular Season match: Spinners vs Bipolar Roller
 s
LOCATION:Newhall Court 1
END:VEVENT
BEGIN:VEVENT
DTSTAMP:20260426T000000Z
UID:ed0540d7-138b-445a-b72c-fe6557b42bb6@ClaytonBocce
DTSTART;TZID=America/Los_Angeles:20260809T180000
DTEND;TZID=America/Los_Angeles:20260809T203000
STATUS:CONFIRMED
SUMMARY:Spinners vs Evening Stars
URL:/League/Schedule/3167
DESCRIPTION:Regular Season match: Spinners vs Evening Stars
LOCATION:Newhall Court 8
END:VEVENT
BEGIN:VEVENT
DTSTAMP:20260426T000000Z
UID:2ffa5471-85a4-40a2-a3f9-abecf5666285@ClaytonBocce
DTSTART;TZID=America/Los_Angeles:20260816T180000
DTEND;TZID=America/Los_Angeles:20260816T203000
STATUS:CONFIRMED
SUMMARY:Spinners vs Fuhgettabocce
URL:/League/Schedule/3167
DESCRIPTION:Regular Season match: Spinners vs Fuhgettabocce
LOCATION:Newhall Court 6
END:VEVENT
BEGIN:VEVENT
DTSTAMP:20260426T000000Z
UID:d13c420e-9ad4-40fb-94ea-fa190ef11dd8@ClaytonBocce
DTSTART;TZID=America/Los_Angeles:20260823T180000
DTEND;TZID=America/Los_Angeles:20260823T203000
STATUS:CONFIRMED
SUMMARY:Spinners vs Blind Squirrels
URL:/League/Schedule/3167
DESCRIPTION:Regular Season match: Spinners vs Blind Squirrel
 s
LOCATION:Newhall Court 1
END:VEVENT
BEGIN:VEVENT
DTSTAMP:20260426T000000Z
UID:0f0bf121-9be4-40eb-9bdc-a92e62c5a47b@ClaytonBocce
DTSTART;TZID=America/Los_Angeles:20260830T180000
DTEND;TZID=America/Los_Angeles:20260830T203000
STATUS:CONFIRMED
SUMMARY:Spinners vs Lazy S'rs
URL:/League/Schedule/3167
DESCRIPTION:Regular Season match: Spinners vs Lazy S'rs
LOCATION:Newhall Court 2
END:VEVENT
END:VCALENDAR
