BEGIN:VCALENDAR
VERSION:2.0
PRODID:-//Clayton Bocce League
METHOD:PUBLISH
BEGIN:VTIMEZONE
TZID:America/Los_Angeles
X-LIC-LOCATION:America/Los_Angeles
BEGIN:DAYLIGHT
TZOFFSETFROM:-0800
TZOFFSETTO:-0700
TZNAME:PDT
DTSTART:20070311T020000
RRULE:FREQ=YEARLY;BYMONTH=3;BYDAY=2SU
END:DAYLIGHT
BEGIN:STANDARD
TZOFFSETFROM:-0700
TZOFFSETTO:-0800
TZNAME:PST
DTSTART:20071104T020000
RRULE:FREQ=YEARLY;BYMONTH=11;BYDAY=1SU
END:STANDARD
END:VTIMEZONE
BEGIN:VEVENT
DTSTAMP:20260426T000000Z
UID:31379587-0f52-4908-9da5-d41692193366@ClaytonBocce
DTSTART;TZID=America/Los_Angeles:20260426T180000
DTEND;TZID=America/Los_Angeles:20260426T203000
STATUS:CONFIRMED
SUMMARY:The Bocce Novas vs Lazy S'rs
URL:/League/Schedule/3168
DESCRIPTION:Regular Season match: The Bocce Novas vs Lazy S'
 rs
LOCATION:Newhall Court 8
END:VEVENT
BEGIN:VEVENT
DTSTAMP:20260426T000000Z
UID:70566b97-10a3-466d-ad9f-14b32d6f0fcb@ClaytonBocce
DTSTART;TZID=America/Los_Angeles:20260503T180000
DTEND;TZID=America/Los_Angeles:20260503T203000
STATUS:CONFIRMED
SUMMARY:The Bocce Novas vs Spinners
URL:/League/Schedule/3168
DESCRIPTION:Regular Season match: The Bocce Novas vs Spinner
 s
LOCATION:Newhall Court 6
END:VEVENT
BEGIN:VEVENT
DTSTAMP:20260426T000000Z
UID:2d6c2782-0699-44e7-bb0d-0bb0ab37f46c@ClaytonBocce
DTSTART;TZID=America/Los_Angeles:20260517T180000
DTEND;TZID=America/Los_Angeles:20260517T203000
STATUS:CONFIRMED
SUMMARY:The Bocce Novas vs Zip's Rollers
URL:/League/Schedule/3168
DESCRIPTION:Regular Season match: The Bocce Novas vs Zip's R
 ollers
LOCATION:Newhall Court 1
END:VEVENT
BEGIN:VEVENT
DTSTAMP:20260426T000000Z
UID:c62fad23-3555-459b-870e-1858d403039d@ClaytonBocce
DTSTART;TZID=America/Los_Angeles:20260524T180000
DTEND;TZID=America/Los_Angeles:20260524T203000
STATUS:CONFIRMED
SUMMARY:The Bocce Novas vs Mission Imbocceball
URL:/League/Schedule/3168
DESCRIPTION:Regular Season match: The Bocce Novas vs Mission
  Imbocceball
LOCATION:Newhall Court 4
END:VEVENT
BEGIN:VEVENT
DTSTAMP:20260426T000000Z
UID:3112a033-dad2-4e8c-b24c-57b50d54754d@ClaytonBocce
DTSTART;TZID=America/Los_Angeles:20260531T180000
DTEND;TZID=America/Los_Angeles:20260531T203000
STATUS:CONFIRMED
SUMMARY:The Bocce Novas vs Bipolar Rollers
URL:/League/Schedule/3168
DESCRIPTION:Regular Season match: The Bocce Novas vs Bipolar
  Rollers
LOCATION:Newhall Court 7
END:VEVENT
BEGIN:VEVENT
DTSTAMP:20260426T000000Z
UID:764e4c44-936d-4ae6-ab83-6cb699325733@ClaytonBocce
DTSTART;TZID=America/Los_Angeles:20260607T180000
DTEND;TZID=America/Los_Angeles:20260607T203000
STATUS:CONFIRMED
SUMMARY:The Bocce Novas vs Evening Stars
URL:/League/Schedule/3168
DESCRIPTION:Regular Season match: The Bocce Novas vs Evening
  Stars
LOCATION:Newhall Court 6
END:VEVENT
BEGIN:VEVENT
DTSTAMP:20260426T000000Z
UID:d5729b2f-7123-4396-bb51-94dac3bf081e@ClaytonBocce
DTSTART;TZID=America/Los_Angeles:20260614T180000
DTEND;TZID=America/Los_Angeles:20260614T203000
STATUS:CONFIRMED
SUMMARY:The Bocce Novas vs Fuhgettabocce
URL:/League/Schedule/3168
DESCRIPTION:Regular Season match: The Bocce Novas vs Fuhgett
 abocce
LOCATION:Newhall Court 3
END:VEVENT
BEGIN:VEVENT
DTSTAMP:20260426T000000Z
UID:13b781af-af90-485b-ac89-afac7f8d8563@ClaytonBocce
DTSTART;TZID=America/Los_Angeles:20260621T180000
DTEND;TZID=America/Los_Angeles:20260621T203000
STATUS:CONFIRMED
SUMMARY:The Bocce Novas vs Blind Squirrels
URL:/League/Schedule/3168
DESCRIPTION:Regular Season match: The Bocce Novas vs Blind S
 quirrels
LOCATION:Newhall Court 5
END:VEVENT
BEGIN:VEVENT
DTSTAMP:20260426T000000Z
UID:11859bef-937e-4025-951c-222f32d88708@ClaytonBocce
DTSTART;TZID=America/Los_Angeles:20260628T180000
DTEND;TZID=America/Los_Angeles:20260628T203000
STATUS:CONFIRMED
SUMMARY:The Bocce Novas vs Lazy S'rs
URL:/League/Schedule/3168
DESCRIPTION:Regular Season match: The Bocce Novas vs Lazy S'
 rs
LOCATION:Newhall Court 1
END:VEVENT
BEGIN:VEVENT
DTSTAMP:20260426T000000Z
UID:3e63dc7b-c5be-4c82-bfee-7926136057e1@ClaytonBocce
DTSTART;TZID=America/Los_Angeles:20260712T180000
DTEND;TZID=America/Los_Angeles:20260712T203000
STATUS:CONFIRMED
SUMMARY:The Bocce Novas vs Spinners
URL:/League/Schedule/3168
DESCRIPTION:Regular Season match: The Bocce Novas vs Spinner
 s
LOCATION:Newhall Court 7
END:VEVENT
BEGIN:VEVENT
DTSTAMP:20260426T000000Z
UID:da122b05-c270-4f2e-ad32-e3857bb6d988@ClaytonBocce
DTSTART;TZID=America/Los_Angeles:20260726T180000
DTEND;TZID=America/Los_Angeles:20260726T203000
STATUS:CONFIRMED
SUMMARY:The Bocce Novas vs Zip's Rollers
URL:/League/Schedule/3168
DESCRIPTION:Regular Season match: The Bocce Novas vs Zip's R
 ollers
LOCATION:Newhall Court 2
END:VEVENT
BEGIN:VEVENT
DTSTAMP:20260426T000000Z
UID:48e6cb7e-0100-4e84-bed9-05f1248ee391@ClaytonBocce
DTSTART;TZID=America/Los_Angeles:20260802T180000
DTEND;TZID=America/Los_Angeles:20260802T203000
STATUS:CONFIRMED
SUMMARY:The Bocce Novas vs Mission Imbocceball
URL:/League/Schedule/3168
DESCRIPTION:Regular Season match: The Bocce Novas vs Mission
  Imbocceball
LOCATION:Newhall Court 8
END:VEVENT
BEGIN:VEVENT
DTSTAMP:20260426T000000Z
UID:3dbf1fce-f65e-4366-9082-bc054faf0a48@ClaytonBocce
DTSTART;TZID=America/Los_Angeles:20260809T180000
DTEND;TZID=America/Los_Angeles:20260809T203000
STATUS:CONFIRMED
SUMMARY:The Bocce Novas vs Bipolar Rollers
URL:/League/Schedule/3168
DESCRIPTION:Regular Season match: The Bocce Novas vs Bipolar
  Rollers
LOCATION:Newhall Court 4
END:VEVENT
BEGIN:VEVENT
DTSTAMP:20260426T000000Z
UID:9de3054b-7a61-40be-b5fb-db962acec7e4@ClaytonBocce
DTSTART;TZID=America/Los_Angeles:20260816T180000
DTEND;TZID=America/Los_Angeles:20260816T203000
STATUS:CONFIRMED
SUMMARY:The Bocce Novas vs Evening Stars
URL:/League/Schedule/3168
DESCRIPTION:Regular Season match: The Bocce Novas vs Evening
  Stars
LOCATION:Newhall Court 7
END:VEVENT
BEGIN:VEVENT
DTSTAMP:20260426T000000Z
UID:d744931f-9396-4a2b-b328-8c044d025ff4@ClaytonBocce
DTSTART;TZID=America/Los_Angeles:20260823T180000
DTEND;TZID=America/Los_Angeles:20260823T203000
STATUS:CONFIRMED
SUMMARY:The Bocce Novas vs Fuhgettabocce
URL:/League/Schedule/3168
DESCRIPTION:Regular Season match: The Bocce Novas vs Fuhgett
 abocce
LOCATION:Newhall Court 8
END:VEVENT
BEGIN:VEVENT
DTSTAMP:20260426T000000Z
UID:9c24b4fe-dd6b-4fef-8e41-c20ee51ae38e@ClaytonBocce
DTSTART;TZID=America/Los_Angeles:20260830T180000
DTEND;TZID=America/Los_Angeles:20260830T203000
STATUS:CONFIRMED
SUMMARY:The Bocce Novas vs Blind Squirrels
URL:/League/Schedule/3168
DESCRIPTION:Regular Season match: The Bocce Novas vs Blind S
 quirrels
LOCATION:Newhall Court 5
END:VEVENT
END:VCALENDAR
