BEGIN:VCALENDAR
VERSION:2.0
PRODID:-//Clayton Bocce League
METHOD:PUBLISH
BEGIN:VTIMEZONE
TZID:America/Los_Angeles
X-LIC-LOCATION:America/Los_Angeles
BEGIN:DAYLIGHT
TZOFFSETFROM:-0800
TZOFFSETTO:-0700
TZNAME:PDT
DTSTART:20070311T020000
RRULE:FREQ=YEARLY;BYMONTH=3;BYDAY=2SU
END:DAYLIGHT
BEGIN:STANDARD
TZOFFSETFROM:-0700
TZOFFSETTO:-0800
TZNAME:PST
DTSTART:20071104T020000
RRULE:FREQ=YEARLY;BYMONTH=11;BYDAY=1SU
END:STANDARD
END:VTIMEZONE
BEGIN:VEVENT
DTSTAMP:20260426T000000Z
UID:34bbd623-ed43-4dee-b2f2-f7c45d394280@ClaytonBocce
DTSTART;TZID=America/Los_Angeles:20260426T180000
DTEND;TZID=America/Los_Angeles:20260426T203000
STATUS:CONFIRMED
SUMMARY:MISFITS vs Four Corners 76 Dogs
URL:/League/Schedule/3161
DESCRIPTION:Regular Season match: MISFITS vs Four Corners 76
  Dogs
LOCATION:Newhall Court 4
END:VEVENT
BEGIN:VEVENT
DTSTAMP:20260426T000000Z
UID:0b40c22c-a6c3-402f-9e1e-8789c9a90678@ClaytonBocce
DTSTART;TZID=America/Los_Angeles:20260503T180000
DTEND;TZID=America/Los_Angeles:20260503T203000
STATUS:CONFIRMED
SUMMARY:MISFITS vs Court Jesters
URL:/League/Schedule/3161
DESCRIPTION:Regular Season match: MISFITS vs Court Jesters
LOCATION:Newhall Court 7
END:VEVENT
BEGIN:VEVENT
DTSTAMP:20260426T000000Z
UID:221939fd-e71a-49f3-9f28-a8140109e384@ClaytonBocce
DTSTART;TZID=America/Los_Angeles:20260510T180000
DTEND;TZID=America/Los_Angeles:20260510T203000
STATUS:CONFIRMED
SUMMARY:MISFITS vs Bocce Lives Matter
URL:/League/Schedule/3161
DESCRIPTION:Regular Season match: MISFITS vs Bocce Lives Mat
 ter
LOCATION:Newhall Court 6
END:VEVENT
BEGIN:VEVENT
DTSTAMP:20260426T000000Z
UID:c538097c-1252-443d-9ff0-c05824b856ec@ClaytonBocce
DTSTART;TZID=America/Los_Angeles:20260517T180000
DTEND;TZID=America/Los_Angeles:20260517T203000
STATUS:CONFIRMED
SUMMARY:MISFITS vs Rollin' Raiders
URL:/League/Schedule/3161
DESCRIPTION:Regular Season match: MISFITS vs Rollin' Raiders
LOCATION:Newhall Court 2
END:VEVENT
BEGIN:VEVENT
DTSTAMP:20260426T000000Z
UID:c76ce508-c26a-4a73-83ea-b3de9d089efc@ClaytonBocce
DTSTART;TZID=America/Los_Angeles:20260524T180000
DTEND;TZID=America/Los_Angeles:20260524T203000
STATUS:CONFIRMED
SUMMARY:MISFITS vs Wait Till Next Year
URL:/League/Schedule/3161
DESCRIPTION:Regular Season match: MISFITS vs Wait Till Next 
 Year
LOCATION:Newhall Court 8
END:VEVENT
BEGIN:VEVENT
DTSTAMP:20260426T000000Z
UID:455b7039-5a08-45b4-9c7d-6389833664d4@ClaytonBocce
DTSTART;TZID=America/Los_Angeles:20260607T180000
DTEND;TZID=America/Los_Angeles:20260607T203000
STATUS:CONFIRMED
SUMMARY:MISFITS vs Bocce Amici
URL:/League/Schedule/3161
DESCRIPTION:Regular Season match: MISFITS vs Bocce Amici
LOCATION:Newhall Court 5
END:VEVENT
BEGIN:VEVENT
DTSTAMP:20260426T000000Z
UID:fe344a52-65af-451e-a036-649678996ecb@ClaytonBocce
DTSTART;TZID=America/Los_Angeles:20260614T180000
DTEND;TZID=America/Los_Angeles:20260614T203000
STATUS:CONFIRMED
SUMMARY:MISFITS vs Zandonella Catering
URL:/League/Schedule/3161
DESCRIPTION:Regular Season match: MISFITS vs Zandonella Cate
 ring
LOCATION:Newhall Court 4
END:VEVENT
BEGIN:VEVENT
DTSTAMP:20260426T000000Z
UID:f681dfea-4eb7-4336-ac49-c8e564e73824@ClaytonBocce
DTSTART;TZID=America/Los_Angeles:20260621T180000
DTEND;TZID=America/Los_Angeles:20260621T203000
STATUS:CONFIRMED
SUMMARY:MISFITS vs The Big LaBocce
URL:/League/Schedule/3161
DESCRIPTION:Regular Season match: MISFITS vs The Big LaBocce
LOCATION:Newhall Court 1
END:VEVENT
BEGIN:VEVENT
DTSTAMP:20260426T000000Z
UID:5bee9f96-545c-4d44-80e5-2c747dc42785@ClaytonBocce
DTSTART;TZID=America/Los_Angeles:20260628T180000
DTEND;TZID=America/Los_Angeles:20260628T203000
STATUS:CONFIRMED
SUMMARY:MISFITS vs Four Corners 76 Dogs
URL:/League/Schedule/3161
DESCRIPTION:Regular Season match: MISFITS vs Four Corners 76
  Dogs
LOCATION:Newhall Court 2
END:VEVENT
BEGIN:VEVENT
DTSTAMP:20260426T000000Z
UID:8523e7bb-ac55-459b-b415-13259b9d2776@ClaytonBocce
DTSTART;TZID=America/Los_Angeles:20260712T180000
DTEND;TZID=America/Los_Angeles:20260712T203000
STATUS:CONFIRMED
SUMMARY:MISFITS vs Court Jesters
URL:/League/Schedule/3161
DESCRIPTION:Regular Season match: MISFITS vs Court Jesters
LOCATION:Newhall Court 6
END:VEVENT
BEGIN:VEVENT
DTSTAMP:20260426T000000Z
UID:6b9b70d1-e315-4040-8630-62d0f8396e74@ClaytonBocce
DTSTART;TZID=America/Los_Angeles:20260719T180000
DTEND;TZID=America/Los_Angeles:20260719T203000
STATUS:CONFIRMED
SUMMARY:MISFITS vs Bocce Lives Matter
URL:/League/Schedule/3161
DESCRIPTION:Regular Season match: MISFITS vs Bocce Lives Mat
 ter
LOCATION:Newhall Court 5
END:VEVENT
BEGIN:VEVENT
DTSTAMP:20260426T000000Z
UID:561e152c-154e-45eb-aa36-2632839a0f23@ClaytonBocce
DTSTART;TZID=America/Los_Angeles:20260726T180000
DTEND;TZID=America/Los_Angeles:20260726T203000
STATUS:CONFIRMED
SUMMARY:MISFITS vs Rollin' Raiders
URL:/League/Schedule/3161
DESCRIPTION:Regular Season match: MISFITS vs Rollin' Raiders
LOCATION:Newhall Court 4
END:VEVENT
BEGIN:VEVENT
DTSTAMP:20260426T000000Z
UID:0cdd7407-55b1-4a73-94f4-f5b0dae08edb@ClaytonBocce
DTSTART;TZID=America/Los_Angeles:20260802T180000
DTEND;TZID=America/Los_Angeles:20260802T203000
STATUS:CONFIRMED
SUMMARY:MISFITS vs Wait Till Next Year
URL:/League/Schedule/3161
DESCRIPTION:Regular Season match: MISFITS vs Wait Till Next 
 Year
LOCATION:Newhall Court 7
END:VEVENT
BEGIN:VEVENT
DTSTAMP:20260426T000000Z
UID:3819484b-f057-465e-8869-23930b1b82f7@ClaytonBocce
DTSTART;TZID=America/Los_Angeles:20260816T180000
DTEND;TZID=America/Los_Angeles:20260816T203000
STATUS:CONFIRMED
SUMMARY:MISFITS vs Bocce Amici
URL:/League/Schedule/3161
DESCRIPTION:Regular Season match: MISFITS vs Bocce Amici
LOCATION:Newhall Court 5
END:VEVENT
BEGIN:VEVENT
DTSTAMP:20260426T000000Z
UID:f5732c62-9c32-4abb-8f43-902c75c3e075@ClaytonBocce
DTSTART;TZID=America/Los_Angeles:20260823T180000
DTEND;TZID=America/Los_Angeles:20260823T203000
STATUS:CONFIRMED
SUMMARY:MISFITS vs Zandonella Catering
URL:/League/Schedule/3161
DESCRIPTION:Regular Season match: MISFITS vs Zandonella Cate
 ring
LOCATION:Newhall Court 3
END:VEVENT
BEGIN:VEVENT
DTSTAMP:20260426T000000Z
UID:121814f9-4e1b-4fbb-912d-a44992dc0469@ClaytonBocce
DTSTART;TZID=America/Los_Angeles:20260830T180000
DTEND;TZID=America/Los_Angeles:20260830T203000
STATUS:CONFIRMED
SUMMARY:MISFITS vs The Big LaBocce
URL:/League/Schedule/3161
DESCRIPTION:Regular Season match: MISFITS vs The Big LaBocce
LOCATION:Newhall Court 8
END:VEVENT
END:VCALENDAR
