BEGIN:VCALENDAR
VERSION:2.0
PRODID:-//Clayton Bocce League
METHOD:PUBLISH
BEGIN:VTIMEZONE
TZID:America/Los_Angeles
X-LIC-LOCATION:America/Los_Angeles
BEGIN:DAYLIGHT
TZOFFSETFROM:-0800
TZOFFSETTO:-0700
TZNAME:PDT
DTSTART:20070311T020000
RRULE:FREQ=YEARLY;BYMONTH=3;BYDAY=2SU
END:DAYLIGHT
BEGIN:STANDARD
TZOFFSETFROM:-0700
TZOFFSETTO:-0800
TZNAME:PST
DTSTART:20071104T020000
RRULE:FREQ=YEARLY;BYMONTH=11;BYDAY=1SU
END:STANDARD
END:VTIMEZONE
BEGIN:VEVENT
DTSTAMP:20260426T000000Z
UID:34bbd623-ed43-4dee-b2f2-f7c45d394280@ClaytonBocce
DTSTART;TZID=America/Los_Angeles:20260426T180000
DTEND;TZID=America/Los_Angeles:20260426T203000
STATUS:CONFIRMED
SUMMARY:Four Corners 76 Dogs vs MISFITS
URL:/League/Schedule/3171
DESCRIPTION:Regular Season match: Four Corners 76 Dogs vs MI
 SFITS
LOCATION:Newhall Court 4
END:VEVENT
BEGIN:VEVENT
DTSTAMP:20260426T000000Z
UID:5575a501-f4a6-4102-bf2b-8c8606bd08e8@ClaytonBocce
DTSTART;TZID=America/Los_Angeles:20260503T180000
DTEND;TZID=America/Los_Angeles:20260503T203000
STATUS:CONFIRMED
SUMMARY:Four Corners 76 Dogs vs Bocce Amici
URL:/League/Schedule/3171
DESCRIPTION:Regular Season match: Four Corners 76 Dogs vs Bo
 cce Amici
LOCATION:Newhall Court 1
END:VEVENT
BEGIN:VEVENT
DTSTAMP:20260426T000000Z
UID:6bb593df-c8cd-417e-af10-1908cc213168@ClaytonBocce
DTSTART;TZID=America/Los_Angeles:20260510T180000
DTEND;TZID=America/Los_Angeles:20260510T203000
STATUS:CONFIRMED
SUMMARY:Four Corners 76 Dogs vs Zandonella Catering
URL:/League/Schedule/3171
DESCRIPTION:Regular Season match: Four Corners 76 Dogs vs Za
 ndonella Catering
LOCATION:Newhall Court 3
END:VEVENT
BEGIN:VEVENT
DTSTAMP:20260426T000000Z
UID:c6fbabb2-1f7a-4e58-a513-e1f1c134b4fd@ClaytonBocce
DTSTART;TZID=America/Los_Angeles:20260517T180000
DTEND;TZID=America/Los_Angeles:20260517T203000
STATUS:CONFIRMED
SUMMARY:Four Corners 76 Dogs vs The Big LaBocce
URL:/League/Schedule/3171
DESCRIPTION:Regular Season match: Four Corners 76 Dogs vs Th
 e Big LaBocce
LOCATION:Newhall Court 7
END:VEVENT
BEGIN:VEVENT
DTSTAMP:20260426T000000Z
UID:f01cf6b7-6dc6-4519-9c91-24d4531c6a30@ClaytonBocce
DTSTART;TZID=America/Los_Angeles:20260531T180000
DTEND;TZID=America/Los_Angeles:20260531T203000
STATUS:CONFIRMED
SUMMARY:Four Corners 76 Dogs vs Court Jesters
URL:/League/Schedule/3171
DESCRIPTION:Regular Season match: Four Corners 76 Dogs vs Co
 urt Jesters
LOCATION:Newhall Court 2
END:VEVENT
BEGIN:VEVENT
DTSTAMP:20260426T000000Z
UID:2c8989e4-a3c2-4878-b078-cca4fafbd2f9@ClaytonBocce
DTSTART;TZID=America/Los_Angeles:20260607T180000
DTEND;TZID=America/Los_Angeles:20260607T203000
STATUS:CONFIRMED
SUMMARY:Four Corners 76 Dogs vs Bocce Lives Matter
URL:/League/Schedule/3171
DESCRIPTION:Regular Season match: Four Corners 76 Dogs vs Bo
 cce Lives Matter
LOCATION:Newhall Court 8
END:VEVENT
BEGIN:VEVENT
DTSTAMP:20260426T000000Z
UID:f01aa531-ee3e-4350-b53a-c2a16df6e388@ClaytonBocce
DTSTART;TZID=America/Los_Angeles:20260614T180000
DTEND;TZID=America/Los_Angeles:20260614T203000
STATUS:CONFIRMED
SUMMARY:Four Corners 76 Dogs vs Rollin' Raiders
URL:/League/Schedule/3171
DESCRIPTION:Regular Season match: Four Corners 76 Dogs vs Ro
 llin' Raiders
LOCATION:Newhall Court 5
END:VEVENT
BEGIN:VEVENT
DTSTAMP:20260426T000000Z
UID:66c2dd5d-1314-479a-898b-64c23fde688d@ClaytonBocce
DTSTART;TZID=America/Los_Angeles:20260621T180000
DTEND;TZID=America/Los_Angeles:20260621T203000
STATUS:CONFIRMED
SUMMARY:Four Corners 76 Dogs vs Wait Till Next Year
URL:/League/Schedule/3171
DESCRIPTION:Regular Season match: Four Corners 76 Dogs vs Wa
 it Till Next Year
LOCATION:Newhall Court 6
END:VEVENT
BEGIN:VEVENT
DTSTAMP:20260426T000000Z
UID:5bee9f96-545c-4d44-80e5-2c747dc42785@ClaytonBocce
DTSTART;TZID=America/Los_Angeles:20260628T180000
DTEND;TZID=America/Los_Angeles:20260628T203000
STATUS:CONFIRMED
SUMMARY:Four Corners 76 Dogs vs MISFITS
URL:/League/Schedule/3171
DESCRIPTION:Regular Season match: Four Corners 76 Dogs vs MI
 SFITS
LOCATION:Newhall Court 2
END:VEVENT
BEGIN:VEVENT
DTSTAMP:20260426T000000Z
UID:7d2079e9-aba6-4a5f-b66d-7a91eb37d670@ClaytonBocce
DTSTART;TZID=America/Los_Angeles:20260712T180000
DTEND;TZID=America/Los_Angeles:20260712T203000
STATUS:CONFIRMED
SUMMARY:Four Corners 76 Dogs vs Bocce Amici
URL:/League/Schedule/3171
DESCRIPTION:Regular Season match: Four Corners 76 Dogs vs Bo
 cce Amici
LOCATION:Newhall Court 3
END:VEVENT
BEGIN:VEVENT
DTSTAMP:20260426T000000Z
UID:025cf9ce-3b85-453a-8a42-d527b9001a6f@ClaytonBocce
DTSTART;TZID=America/Los_Angeles:20260719T180000
DTEND;TZID=America/Los_Angeles:20260719T203000
STATUS:CONFIRMED
SUMMARY:Four Corners 76 Dogs vs Zandonella Catering
URL:/League/Schedule/3171
DESCRIPTION:Regular Season match: Four Corners 76 Dogs vs Za
 ndonella Catering
LOCATION:Newhall Court 4
END:VEVENT
BEGIN:VEVENT
DTSTAMP:20260426T000000Z
UID:8379617c-a235-4577-adae-913c3b1eb9b2@ClaytonBocce
DTSTART;TZID=America/Los_Angeles:20260726T180000
DTEND;TZID=America/Los_Angeles:20260726T203000
STATUS:CONFIRMED
SUMMARY:Four Corners 76 Dogs vs The Big LaBocce
URL:/League/Schedule/3171
DESCRIPTION:Regular Season match: Four Corners 76 Dogs vs Th
 e Big LaBocce
LOCATION:Newhall Court 7
END:VEVENT
BEGIN:VEVENT
DTSTAMP:20260426T000000Z
UID:c9fde4cd-0fb7-425c-8cc8-6978aa26161e@ClaytonBocce
DTSTART;TZID=America/Los_Angeles:20260809T180000
DTEND;TZID=America/Los_Angeles:20260809T203000
STATUS:CONFIRMED
SUMMARY:Four Corners 76 Dogs vs Court Jesters
URL:/League/Schedule/3171
DESCRIPTION:Regular Season match: Four Corners 76 Dogs vs Co
 urt Jesters
LOCATION:Newhall Court 1
END:VEVENT
BEGIN:VEVENT
DTSTAMP:20260426T000000Z
UID:12777ece-d80e-4bfe-a63c-ff9cd911c273@ClaytonBocce
DTSTART;TZID=America/Los_Angeles:20260816T180000
DTEND;TZID=America/Los_Angeles:20260816T203000
STATUS:CONFIRMED
SUMMARY:Four Corners 76 Dogs vs Bocce Lives Matter
URL:/League/Schedule/3171
DESCRIPTION:Regular Season match: Four Corners 76 Dogs vs Bo
 cce Lives Matter
LOCATION:Newhall Court 8
END:VEVENT
BEGIN:VEVENT
DTSTAMP:20260426T000000Z
UID:f8699a87-5e99-48a9-8fd1-f951b2bfb1a0@ClaytonBocce
DTSTART;TZID=America/Los_Angeles:20260823T180000
DTEND;TZID=America/Los_Angeles:20260823T203000
STATUS:CONFIRMED
SUMMARY:Four Corners 76 Dogs vs Rollin' Raiders
URL:/League/Schedule/3171
DESCRIPTION:Regular Season match: Four Corners 76 Dogs vs Ro
 llin' Raiders
LOCATION:Newhall Court 6
END:VEVENT
BEGIN:VEVENT
DTSTAMP:20260426T000000Z
UID:93ed3c92-e636-4b0b-a97f-0433c698617c@ClaytonBocce
DTSTART;TZID=America/Los_Angeles:20260830T180000
DTEND;TZID=America/Los_Angeles:20260830T203000
STATUS:CONFIRMED
SUMMARY:Four Corners 76 Dogs vs Wait Till Next Year
URL:/League/Schedule/3171
DESCRIPTION:Regular Season match: Four Corners 76 Dogs vs Wa
 it Till Next Year
LOCATION:Newhall Court 1
END:VEVENT
END:VCALENDAR
