BEGIN:VCALENDAR
VERSION:2.0
PRODID:-//Clayton Bocce League
METHOD:PUBLISH
BEGIN:VTIMEZONE
TZID:America/Los_Angeles
X-LIC-LOCATION:America/Los_Angeles
BEGIN:DAYLIGHT
TZOFFSETFROM:-0800
TZOFFSETTO:-0700
TZNAME:PDT
DTSTART:20070311T020000
RRULE:FREQ=YEARLY;BYMONTH=3;BYDAY=2SU
END:DAYLIGHT
BEGIN:STANDARD
TZOFFSETFROM:-0700
TZOFFSETTO:-0800
TZNAME:PST
DTSTART:20071104T020000
RRULE:FREQ=YEARLY;BYMONTH=11;BYDAY=1SU
END:STANDARD
END:VTIMEZONE
BEGIN:VEVENT
DTSTAMP:20260426T000000Z
UID:4dbca58b-f92f-422a-8932-dbfafbf7b903@ClaytonBocce
DTSTART;TZID=America/Los_Angeles:20260426T180000
DTEND;TZID=America/Los_Angeles:20260426T203000
STATUS:CONFIRMED
SUMMARY:Court Jesters vs Wait Till Next Year
URL:/League/Schedule/3159
DESCRIPTION:Regular Season match: Court Jesters vs Wait Till
  Next Year
LOCATION:Newhall Court 3
END:VEVENT
BEGIN:VEVENT
DTSTAMP:20260426T000000Z
UID:0b40c22c-a6c3-402f-9e1e-8789c9a90678@ClaytonBocce
DTSTART;TZID=America/Los_Angeles:20260503T180000
DTEND;TZID=America/Los_Angeles:20260503T203000
STATUS:CONFIRMED
SUMMARY:Court Jesters vs MISFITS
URL:/League/Schedule/3159
DESCRIPTION:Regular Season match: Court Jesters vs MISFITS
LOCATION:Newhall Court 7
END:VEVENT
BEGIN:VEVENT
DTSTAMP:20260426T000000Z
UID:56927865-b8b0-4807-b4c6-8dc308005cdb@ClaytonBocce
DTSTART;TZID=America/Los_Angeles:20260510T180000
DTEND;TZID=America/Los_Angeles:20260510T203000
STATUS:CONFIRMED
SUMMARY:Court Jesters vs Bocce Amici
URL:/League/Schedule/3159
DESCRIPTION:Regular Season match: Court Jesters vs Bocce Ami
 ci
LOCATION:Newhall Court 5
END:VEVENT
BEGIN:VEVENT
DTSTAMP:20260426T000000Z
UID:09cd71cc-ad01-48c0-9b1b-5517ebafd215@ClaytonBocce
DTSTART;TZID=America/Los_Angeles:20260517T180000
DTEND;TZID=America/Los_Angeles:20260517T203000
STATUS:CONFIRMED
SUMMARY:Court Jesters vs Zandonella Catering
URL:/League/Schedule/3159
DESCRIPTION:Regular Season match: Court Jesters vs Zandonell
 a Catering
LOCATION:Newhall Court 4
END:VEVENT
BEGIN:VEVENT
DTSTAMP:20260426T000000Z
UID:a0807693-6f58-48c4-a9cd-2743f88f6647@ClaytonBocce
DTSTART;TZID=America/Los_Angeles:20260524T180000
DTEND;TZID=America/Los_Angeles:20260524T203000
STATUS:CONFIRMED
SUMMARY:Court Jesters vs The Big LaBocce
URL:/League/Schedule/3159
DESCRIPTION:Regular Season match: Court Jesters vs The Big L
 aBocce
LOCATION:Newhall Court 6
END:VEVENT
BEGIN:VEVENT
DTSTAMP:20260426T000000Z
UID:f01cf6b7-6dc6-4519-9c91-24d4531c6a30@ClaytonBocce
DTSTART;TZID=America/Los_Angeles:20260531T180000
DTEND;TZID=America/Los_Angeles:20260531T203000
STATUS:CONFIRMED
SUMMARY:Court Jesters vs Four Corners 76 Dogs
URL:/League/Schedule/3159
DESCRIPTION:Regular Season match: Court Jesters vs Four Corn
 ers 76 Dogs
LOCATION:Newhall Court 2
END:VEVENT
BEGIN:VEVENT
DTSTAMP:20260426T000000Z
UID:d7ad85dd-fce7-41c2-af22-d02b730f1fdb@ClaytonBocce
DTSTART;TZID=America/Los_Angeles:20260614T180000
DTEND;TZID=America/Los_Angeles:20260614T203000
STATUS:CONFIRMED
SUMMARY:Court Jesters vs Bocce Lives Matter
URL:/League/Schedule/3159
DESCRIPTION:Regular Season match: Court Jesters vs Bocce Liv
 es Matter
LOCATION:Newhall Court 1
END:VEVENT
BEGIN:VEVENT
DTSTAMP:20260426T000000Z
UID:e3b7a928-dfe9-454b-a069-e6193af4e504@ClaytonBocce
DTSTART;TZID=America/Los_Angeles:20260621T180000
DTEND;TZID=America/Los_Angeles:20260621T203000
STATUS:CONFIRMED
SUMMARY:Court Jesters vs Rollin' Raiders
URL:/League/Schedule/3159
DESCRIPTION:Regular Season match: Court Jesters vs Rollin' R
 aiders
LOCATION:Newhall Court 8
END:VEVENT
BEGIN:VEVENT
DTSTAMP:20260426T000000Z
UID:bfd315e9-99e3-4b3b-a990-b8c524a733e0@ClaytonBocce
DTSTART;TZID=America/Los_Angeles:20260628T180000
DTEND;TZID=America/Los_Angeles:20260628T203000
STATUS:CONFIRMED
SUMMARY:Court Jesters vs Wait Till Next Year
URL:/League/Schedule/3159
DESCRIPTION:Regular Season match: Court Jesters vs Wait Till
  Next Year
LOCATION:Newhall Court 5
END:VEVENT
BEGIN:VEVENT
DTSTAMP:20260426T000000Z
UID:8523e7bb-ac55-459b-b415-13259b9d2776@ClaytonBocce
DTSTART;TZID=America/Los_Angeles:20260712T180000
DTEND;TZID=America/Los_Angeles:20260712T203000
STATUS:CONFIRMED
SUMMARY:Court Jesters vs MISFITS
URL:/League/Schedule/3159
DESCRIPTION:Regular Season match: Court Jesters vs MISFITS
LOCATION:Newhall Court 6
END:VEVENT
BEGIN:VEVENT
DTSTAMP:20260426T000000Z
UID:2336306f-033a-4820-91a3-5f3caa05d5bf@ClaytonBocce
DTSTART;TZID=America/Los_Angeles:20260719T180000
DTEND;TZID=America/Los_Angeles:20260719T203000
STATUS:CONFIRMED
SUMMARY:Court Jesters vs Bocce Amici
URL:/League/Schedule/3159
DESCRIPTION:Regular Season match: Court Jesters vs Bocce Ami
 ci
LOCATION:Newhall Court 2
END:VEVENT
BEGIN:VEVENT
DTSTAMP:20260426T000000Z
UID:6807cda3-0d15-4fe0-9412-7c342d5b91e4@ClaytonBocce
DTSTART;TZID=America/Los_Angeles:20260726T180000
DTEND;TZID=America/Los_Angeles:20260726T203000
STATUS:CONFIRMED
SUMMARY:Court Jesters vs Zandonella Catering
URL:/League/Schedule/3159
DESCRIPTION:Regular Season match: Court Jesters vs Zandonell
 a Catering
LOCATION:Newhall Court 8
END:VEVENT
BEGIN:VEVENT
DTSTAMP:20260426T000000Z
UID:40df358b-7bf8-4024-9774-5d7f1a57e0cf@ClaytonBocce
DTSTART;TZID=America/Los_Angeles:20260802T180000
DTEND;TZID=America/Los_Angeles:20260802T203000
STATUS:CONFIRMED
SUMMARY:Court Jesters vs The Big LaBocce
URL:/League/Schedule/3159
DESCRIPTION:Regular Season match: Court Jesters vs The Big L
 aBocce
LOCATION:Newhall Court 3
END:VEVENT
BEGIN:VEVENT
DTSTAMP:20260426T000000Z
UID:c9fde4cd-0fb7-425c-8cc8-6978aa26161e@ClaytonBocce
DTSTART;TZID=America/Los_Angeles:20260809T180000
DTEND;TZID=America/Los_Angeles:20260809T203000
STATUS:CONFIRMED
SUMMARY:Court Jesters vs Four Corners 76 Dogs
URL:/League/Schedule/3159
DESCRIPTION:Regular Season match: Court Jesters vs Four Corn
 ers 76 Dogs
LOCATION:Newhall Court 1
END:VEVENT
BEGIN:VEVENT
DTSTAMP:20260426T000000Z
UID:8b991913-82ee-4ada-836d-ec12e5210520@ClaytonBocce
DTSTART;TZID=America/Los_Angeles:20260823T180000
DTEND;TZID=America/Los_Angeles:20260823T203000
STATUS:CONFIRMED
SUMMARY:Court Jesters vs Bocce Lives Matter
URL:/League/Schedule/3159
DESCRIPTION:Regular Season match: Court Jesters vs Bocce Liv
 es Matter
LOCATION:Newhall Court 7
END:VEVENT
BEGIN:VEVENT
DTSTAMP:20260426T000000Z
UID:b4380fde-4a2e-43b0-98e3-2aae90cd635e@ClaytonBocce
DTSTART;TZID=America/Los_Angeles:20260830T180000
DTEND;TZID=America/Los_Angeles:20260830T203000
STATUS:CONFIRMED
SUMMARY:Court Jesters vs Rollin' Raiders
URL:/League/Schedule/3159
DESCRIPTION:Regular Season match: Court Jesters vs Rollin' R
 aiders
LOCATION:Newhall Court 4
END:VEVENT
END:VCALENDAR
