BEGIN:VCALENDAR
VERSION:2.0
PRODID:-//Clayton Bocce League
METHOD:PUBLISH
BEGIN:VTIMEZONE
TZID:America/Los_Angeles
X-LIC-LOCATION:America/Los_Angeles
BEGIN:DAYLIGHT
TZOFFSETFROM:-0800
TZOFFSETTO:-0700
TZNAME:PDT
DTSTART:20070311T020000
RRULE:FREQ=YEARLY;BYMONTH=3;BYDAY=2SU
END:DAYLIGHT
BEGIN:STANDARD
TZOFFSETFROM:-0700
TZOFFSETTO:-0800
TZNAME:PST
DTSTART:20071104T020000
RRULE:FREQ=YEARLY;BYMONTH=11;BYDAY=1SU
END:STANDARD
END:VTIMEZONE
BEGIN:VEVENT
DTSTAMP:20260426T000000Z
UID:4dbca58b-f92f-422a-8932-dbfafbf7b903@ClaytonBocce
DTSTART;TZID=America/Los_Angeles:20260426T180000
DTEND;TZID=America/Los_Angeles:20260426T203000
STATUS:CONFIRMED
SUMMARY:Wait Till Next Year vs Court Jesters
URL:/League/Schedule/3163
DESCRIPTION:Regular Season match: Wait Till Next Year vs Cou
 rt Jesters
LOCATION:Newhall Court 3
END:VEVENT
BEGIN:VEVENT
DTSTAMP:20260426T000000Z
UID:8d78cbdb-36b1-40cd-8b17-d094d8c3e5b0@ClaytonBocce
DTSTART;TZID=America/Los_Angeles:20260503T180000
DTEND;TZID=America/Los_Angeles:20260503T203000
STATUS:CONFIRMED
SUMMARY:Wait Till Next Year vs Bocce Lives Matter
URL:/League/Schedule/3163
DESCRIPTION:Regular Season match: Wait Till Next Year vs Boc
 ce Lives Matter
LOCATION:Newhall Court 5
END:VEVENT
BEGIN:VEVENT
DTSTAMP:20260426T000000Z
UID:c384fa6a-1051-4fbb-b39d-b167640604e4@ClaytonBocce
DTSTART;TZID=America/Los_Angeles:20260510T180000
DTEND;TZID=America/Los_Angeles:20260510T203000
STATUS:CONFIRMED
SUMMARY:Wait Till Next Year vs Rollin' Raiders
URL:/League/Schedule/3163
DESCRIPTION:Regular Season match: Wait Till Next Year vs Rol
 lin' Raiders
LOCATION:Newhall Court 7
END:VEVENT
BEGIN:VEVENT
DTSTAMP:20260426T000000Z
UID:c76ce508-c26a-4a73-83ea-b3de9d089efc@ClaytonBocce
DTSTART;TZID=America/Los_Angeles:20260524T180000
DTEND;TZID=America/Los_Angeles:20260524T203000
STATUS:CONFIRMED
SUMMARY:Wait Till Next Year vs MISFITS
URL:/League/Schedule/3163
DESCRIPTION:Regular Season match: Wait Till Next Year vs MIS
 FITS
LOCATION:Newhall Court 8
END:VEVENT
BEGIN:VEVENT
DTSTAMP:20260426T000000Z
UID:d220adb3-f528-4437-876e-52808528543d@ClaytonBocce
DTSTART;TZID=America/Los_Angeles:20260531T180000
DTEND;TZID=America/Los_Angeles:20260531T203000
STATUS:CONFIRMED
SUMMARY:Wait Till Next Year vs Bocce Amici
URL:/League/Schedule/3163
DESCRIPTION:Regular Season match: Wait Till Next Year vs Boc
 ce Amici
LOCATION:Newhall Court 4
END:VEVENT
BEGIN:VEVENT
DTSTAMP:20260426T000000Z
UID:b28691c5-f8c3-43bd-b1f0-5e7fe2b0d3ec@ClaytonBocce
DTSTART;TZID=America/Los_Angeles:20260607T180000
DTEND;TZID=America/Los_Angeles:20260607T203000
STATUS:CONFIRMED
SUMMARY:Wait Till Next Year vs Zandonella Catering
URL:/League/Schedule/3163
DESCRIPTION:Regular Season match: Wait Till Next Year vs Zan
 donella Catering
LOCATION:Newhall Court 1
END:VEVENT
BEGIN:VEVENT
DTSTAMP:20260426T000000Z
UID:58fa2372-48dd-462d-a906-29181ebe0b5f@ClaytonBocce
DTSTART;TZID=America/Los_Angeles:20260614T180000
DTEND;TZID=America/Los_Angeles:20260614T203000
STATUS:CONFIRMED
SUMMARY:Wait Till Next Year vs The Big LaBocce
URL:/League/Schedule/3163
DESCRIPTION:Regular Season match: Wait Till Next Year vs The
  Big LaBocce
LOCATION:Newhall Court 2
END:VEVENT
BEGIN:VEVENT
DTSTAMP:20260426T000000Z
UID:66c2dd5d-1314-479a-898b-64c23fde688d@ClaytonBocce
DTSTART;TZID=America/Los_Angeles:20260621T180000
DTEND;TZID=America/Los_Angeles:20260621T203000
STATUS:CONFIRMED
SUMMARY:Wait Till Next Year vs Four Corners 76 Dogs
URL:/League/Schedule/3163
DESCRIPTION:Regular Season match: Wait Till Next Year vs Fou
 r Corners 76 Dogs
LOCATION:Newhall Court 6
END:VEVENT
BEGIN:VEVENT
DTSTAMP:20260426T000000Z
UID:bfd315e9-99e3-4b3b-a990-b8c524a733e0@ClaytonBocce
DTSTART;TZID=America/Los_Angeles:20260628T180000
DTEND;TZID=America/Los_Angeles:20260628T203000
STATUS:CONFIRMED
SUMMARY:Wait Till Next Year vs Court Jesters
URL:/League/Schedule/3163
DESCRIPTION:Regular Season match: Wait Till Next Year vs Cou
 rt Jesters
LOCATION:Newhall Court 5
END:VEVENT
BEGIN:VEVENT
DTSTAMP:20260426T000000Z
UID:c47d576a-057f-4cf1-9485-b21e69981786@ClaytonBocce
DTSTART;TZID=America/Los_Angeles:20260712T180000
DTEND;TZID=America/Los_Angeles:20260712T203000
STATUS:CONFIRMED
SUMMARY:Wait Till Next Year vs Bocce Lives Matter
URL:/League/Schedule/3163
DESCRIPTION:Regular Season match: Wait Till Next Year vs Boc
 ce Lives Matter
LOCATION:Newhall Court 4
END:VEVENT
BEGIN:VEVENT
DTSTAMP:20260426T000000Z
UID:34e78050-6023-44a3-ac4b-bb114ec6c176@ClaytonBocce
DTSTART;TZID=America/Los_Angeles:20260719T180000
DTEND;TZID=America/Los_Angeles:20260719T203000
STATUS:CONFIRMED
SUMMARY:Wait Till Next Year vs Rollin' Raiders
URL:/League/Schedule/3163
DESCRIPTION:Regular Season match: Wait Till Next Year vs Rol
 lin' Raiders
LOCATION:Newhall Court 3
END:VEVENT
BEGIN:VEVENT
DTSTAMP:20260426T000000Z
UID:0cdd7407-55b1-4a73-94f4-f5b0dae08edb@ClaytonBocce
DTSTART;TZID=America/Los_Angeles:20260802T180000
DTEND;TZID=America/Los_Angeles:20260802T203000
STATUS:CONFIRMED
SUMMARY:Wait Till Next Year vs MISFITS
URL:/League/Schedule/3163
DESCRIPTION:Regular Season match: Wait Till Next Year vs MIS
 FITS
LOCATION:Newhall Court 7
END:VEVENT
BEGIN:VEVENT
DTSTAMP:20260426T000000Z
UID:97a55617-25d3-40e6-b859-0ed64da9f937@ClaytonBocce
DTSTART;TZID=America/Los_Angeles:20260809T180000
DTEND;TZID=America/Los_Angeles:20260809T203000
STATUS:CONFIRMED
SUMMARY:Wait Till Next Year vs Bocce Amici
URL:/League/Schedule/3163
DESCRIPTION:Regular Season match: Wait Till Next Year vs Boc
 ce Amici
LOCATION:Newhall Court 6
END:VEVENT
BEGIN:VEVENT
DTSTAMP:20260426T000000Z
UID:35922889-f5b5-42b5-913d-07cbdeca811a@ClaytonBocce
DTSTART;TZID=America/Los_Angeles:20260816T180000
DTEND;TZID=America/Los_Angeles:20260816T203000
STATUS:CONFIRMED
SUMMARY:Wait Till Next Year vs Zandonella Catering
URL:/League/Schedule/3163
DESCRIPTION:Regular Season match: Wait Till Next Year vs Zan
 donella Catering
LOCATION:Newhall Court 2
END:VEVENT
BEGIN:VEVENT
DTSTAMP:20260426T000000Z
UID:1dc501ef-0f28-4e36-9cfd-cf381e611cd2@ClaytonBocce
DTSTART;TZID=America/Los_Angeles:20260823T180000
DTEND;TZID=America/Los_Angeles:20260823T203000
STATUS:CONFIRMED
SUMMARY:Wait Till Next Year vs The Big LaBocce
URL:/League/Schedule/3163
DESCRIPTION:Regular Season match: Wait Till Next Year vs The
  Big LaBocce
LOCATION:Newhall Court 4
END:VEVENT
BEGIN:VEVENT
DTSTAMP:20260426T000000Z
UID:93ed3c92-e636-4b0b-a97f-0433c698617c@ClaytonBocce
DTSTART;TZID=America/Los_Angeles:20260830T180000
DTEND;TZID=America/Los_Angeles:20260830T203000
STATUS:CONFIRMED
SUMMARY:Wait Till Next Year vs Four Corners 76 Dogs
URL:/League/Schedule/3163
DESCRIPTION:Regular Season match: Wait Till Next Year vs Fou
 r Corners 76 Dogs
LOCATION:Newhall Court 1
END:VEVENT
END:VCALENDAR
