BEGIN:VCALENDAR
VERSION:2.0
PRODID:-//Clayton Bocce League
METHOD:PUBLISH
BEGIN:VTIMEZONE
TZID:America/Los_Angeles
X-LIC-LOCATION:America/Los_Angeles
BEGIN:DAYLIGHT
TZOFFSETFROM:-0800
TZOFFSETTO:-0700
TZNAME:PDT
DTSTART:20070311T020000
RRULE:FREQ=YEARLY;BYMONTH=3;BYDAY=2SU
END:DAYLIGHT
BEGIN:STANDARD
TZOFFSETFROM:-0700
TZOFFSETTO:-0800
TZNAME:PST
DTSTART:20071104T020000
RRULE:FREQ=YEARLY;BYMONTH=11;BYDAY=1SU
END:STANDARD
END:VTIMEZONE
BEGIN:VEVENT
DTSTAMP:20260426T000000Z
UID:44021233-1f0d-4894-adc8-251a3b6ecec7@ClaytonBocce
DTSTART;TZID=America/Los_Angeles:20260426T180000
DTEND;TZID=America/Los_Angeles:20260426T203000
STATUS:CONFIRMED
SUMMARY:The Big LaBocce vs Bocce Amici
URL:/League/Schedule/3170
DESCRIPTION:Regular Season match: The Big LaBocce vs Bocce A
 mici
LOCATION:Newhall Court 2
END:VEVENT
BEGIN:VEVENT
DTSTAMP:20260426T000000Z
UID:b0b48f29-c7ec-4316-ab7b-60b7f02d76b4@ClaytonBocce
DTSTART;TZID=America/Los_Angeles:20260503T180000
DTEND;TZID=America/Los_Angeles:20260503T203000
STATUS:CONFIRMED
SUMMARY:The Big LaBocce vs Zandonella Catering
URL:/League/Schedule/3170
DESCRIPTION:Regular Season match: The Big LaBocce vs Zandone
 lla Catering
LOCATION:Newhall Court 8
END:VEVENT
BEGIN:VEVENT
DTSTAMP:20260426T000000Z
UID:c6fbabb2-1f7a-4e58-a513-e1f1c134b4fd@ClaytonBocce
DTSTART;TZID=America/Los_Angeles:20260517T180000
DTEND;TZID=America/Los_Angeles:20260517T203000
STATUS:CONFIRMED
SUMMARY:The Big LaBocce vs Four Corners 76 Dogs
URL:/League/Schedule/3170
DESCRIPTION:Regular Season match: The Big LaBocce vs Four Co
 rners 76 Dogs
LOCATION:Newhall Court 7
END:VEVENT
BEGIN:VEVENT
DTSTAMP:20260426T000000Z
UID:a0807693-6f58-48c4-a9cd-2743f88f6647@ClaytonBocce
DTSTART;TZID=America/Los_Angeles:20260524T180000
DTEND;TZID=America/Los_Angeles:20260524T203000
STATUS:CONFIRMED
SUMMARY:The Big LaBocce vs Court Jesters
URL:/League/Schedule/3170
DESCRIPTION:Regular Season match: The Big LaBocce vs Court J
 esters
LOCATION:Newhall Court 6
END:VEVENT
BEGIN:VEVENT
DTSTAMP:20260426T000000Z
UID:fed8c9a6-4289-4d46-868f-135e18487b2c@ClaytonBocce
DTSTART;TZID=America/Los_Angeles:20260531T180000
DTEND;TZID=America/Los_Angeles:20260531T203000
STATUS:CONFIRMED
SUMMARY:The Big LaBocce vs Bocce Lives Matter
URL:/League/Schedule/3170
DESCRIPTION:Regular Season match: The Big LaBocce vs Bocce L
 ives Matter
LOCATION:Newhall Court 3
END:VEVENT
BEGIN:VEVENT
DTSTAMP:20260426T000000Z
UID:6e5b9ed4-a3bf-4796-a040-62343b35f832@ClaytonBocce
DTSTART;TZID=America/Los_Angeles:20260607T180000
DTEND;TZID=America/Los_Angeles:20260607T203000
STATUS:CONFIRMED
SUMMARY:The Big LaBocce vs Rollin' Raiders
URL:/League/Schedule/3170
DESCRIPTION:Regular Season match: The Big LaBocce vs Rollin'
  Raiders
LOCATION:Newhall Court 4
END:VEVENT
BEGIN:VEVENT
DTSTAMP:20260426T000000Z
UID:58fa2372-48dd-462d-a906-29181ebe0b5f@ClaytonBocce
DTSTART;TZID=America/Los_Angeles:20260614T180000
DTEND;TZID=America/Los_Angeles:20260614T203000
STATUS:CONFIRMED
SUMMARY:The Big LaBocce vs Wait Till Next Year
URL:/League/Schedule/3170
DESCRIPTION:Regular Season match: The Big LaBocce vs Wait Ti
 ll Next Year
LOCATION:Newhall Court 2
END:VEVENT
BEGIN:VEVENT
DTSTAMP:20260426T000000Z
UID:f681dfea-4eb7-4336-ac49-c8e564e73824@ClaytonBocce
DTSTART;TZID=America/Los_Angeles:20260621T180000
DTEND;TZID=America/Los_Angeles:20260621T203000
STATUS:CONFIRMED
SUMMARY:The Big LaBocce vs MISFITS
URL:/League/Schedule/3170
DESCRIPTION:Regular Season match: The Big LaBocce vs MISFITS
LOCATION:Newhall Court 1
END:VEVENT
BEGIN:VEVENT
DTSTAMP:20260426T000000Z
UID:63c11db0-5c67-4abb-8be1-12c99cc35412@ClaytonBocce
DTSTART;TZID=America/Los_Angeles:20260628T180000
DTEND;TZID=America/Los_Angeles:20260628T203000
STATUS:CONFIRMED
SUMMARY:The Big LaBocce vs Bocce Amici
URL:/League/Schedule/3170
DESCRIPTION:Regular Season match: The Big LaBocce vs Bocce A
 mici
LOCATION:Newhall Court 6
END:VEVENT
BEGIN:VEVENT
DTSTAMP:20260426T000000Z
UID:585c791c-5727-41e1-a84a-84ada8082257@ClaytonBocce
DTSTART;TZID=America/Los_Angeles:20260712T180000
DTEND;TZID=America/Los_Angeles:20260712T203000
STATUS:CONFIRMED
SUMMARY:The Big LaBocce vs Zandonella Catering
URL:/League/Schedule/3170
DESCRIPTION:Regular Season match: The Big LaBocce vs Zandone
 lla Catering
LOCATION:Newhall Court 5
END:VEVENT
BEGIN:VEVENT
DTSTAMP:20260426T000000Z
UID:8379617c-a235-4577-adae-913c3b1eb9b2@ClaytonBocce
DTSTART;TZID=America/Los_Angeles:20260726T180000
DTEND;TZID=America/Los_Angeles:20260726T203000
STATUS:CONFIRMED
SUMMARY:The Big LaBocce vs Four Corners 76 Dogs
URL:/League/Schedule/3170
DESCRIPTION:Regular Season match: The Big LaBocce vs Four Co
 rners 76 Dogs
LOCATION:Newhall Court 7
END:VEVENT
BEGIN:VEVENT
DTSTAMP:20260426T000000Z
UID:40df358b-7bf8-4024-9774-5d7f1a57e0cf@ClaytonBocce
DTSTART;TZID=America/Los_Angeles:20260802T180000
DTEND;TZID=America/Los_Angeles:20260802T203000
STATUS:CONFIRMED
SUMMARY:The Big LaBocce vs Court Jesters
URL:/League/Schedule/3170
DESCRIPTION:Regular Season match: The Big LaBocce vs Court J
 esters
LOCATION:Newhall Court 3
END:VEVENT
BEGIN:VEVENT
DTSTAMP:20260426T000000Z
UID:75c5f2f9-ffb1-445c-9cad-3ef534d7f3f4@ClaytonBocce
DTSTART;TZID=America/Los_Angeles:20260809T180000
DTEND;TZID=America/Los_Angeles:20260809T203000
STATUS:CONFIRMED
SUMMARY:The Big LaBocce vs Bocce Lives Matter
URL:/League/Schedule/3170
DESCRIPTION:Regular Season match: The Big LaBocce vs Bocce L
 ives Matter
LOCATION:Newhall Court 2
END:VEVENT
BEGIN:VEVENT
DTSTAMP:20260426T000000Z
UID:f166c2d2-d9aa-4056-a2ca-44b39607ea6d@ClaytonBocce
DTSTART;TZID=America/Los_Angeles:20260816T180000
DTEND;TZID=America/Los_Angeles:20260816T203000
STATUS:CONFIRMED
SUMMARY:The Big LaBocce vs Rollin' Raiders
URL:/League/Schedule/3170
DESCRIPTION:Regular Season match: The Big LaBocce vs Rollin'
  Raiders
LOCATION:Newhall Court 1
END:VEVENT
BEGIN:VEVENT
DTSTAMP:20260426T000000Z
UID:1dc501ef-0f28-4e36-9cfd-cf381e611cd2@ClaytonBocce
DTSTART;TZID=America/Los_Angeles:20260823T180000
DTEND;TZID=America/Los_Angeles:20260823T203000
STATUS:CONFIRMED
SUMMARY:The Big LaBocce vs Wait Till Next Year
URL:/League/Schedule/3170
DESCRIPTION:Regular Season match: The Big LaBocce vs Wait Ti
 ll Next Year
LOCATION:Newhall Court 4
END:VEVENT
BEGIN:VEVENT
DTSTAMP:20260426T000000Z
UID:121814f9-4e1b-4fbb-912d-a44992dc0469@ClaytonBocce
DTSTART;TZID=America/Los_Angeles:20260830T180000
DTEND;TZID=America/Los_Angeles:20260830T203000
STATUS:CONFIRMED
SUMMARY:The Big LaBocce vs MISFITS
URL:/League/Schedule/3170
DESCRIPTION:Regular Season match: The Big LaBocce vs MISFITS
LOCATION:Newhall Court 8
END:VEVENT
END:VCALENDAR
