BEGIN:VCALENDAR
VERSION:2.0
PRODID:-//Clayton Bocce League
METHOD:PUBLISH
BEGIN:VTIMEZONE
TZID:America/Los_Angeles
X-LIC-LOCATION:America/Los_Angeles
BEGIN:DAYLIGHT
TZOFFSETFROM:-0800
TZOFFSETTO:-0700
TZNAME:PDT
DTSTART:20070311T020000
RRULE:FREQ=YEARLY;BYMONTH=3;BYDAY=2SU
END:DAYLIGHT
BEGIN:STANDARD
TZOFFSETFROM:-0700
TZOFFSETTO:-0800
TZNAME:PST
DTSTART:20071104T020000
RRULE:FREQ=YEARLY;BYMONTH=11;BYDAY=1SU
END:STANDARD
END:VTIMEZONE
BEGIN:VEVENT
DTSTAMP:20260426T000000Z
UID:44021233-1f0d-4894-adc8-251a3b6ecec7@ClaytonBocce
DTSTART;TZID=America/Los_Angeles:20260426T180000
DTEND;TZID=America/Los_Angeles:20260426T203000
STATUS:CONFIRMED
SUMMARY:Bocce Amici vs The Big LaBocce
URL:/League/Schedule/3155
DESCRIPTION:Regular Season match: Bocce Amici vs The Big LaB
 occe
LOCATION:Newhall Court 2
END:VEVENT
BEGIN:VEVENT
DTSTAMP:20260426T000000Z
UID:5575a501-f4a6-4102-bf2b-8c8606bd08e8@ClaytonBocce
DTSTART;TZID=America/Los_Angeles:20260503T180000
DTEND;TZID=America/Los_Angeles:20260503T203000
STATUS:CONFIRMED
SUMMARY:Bocce Amici vs Four Corners 76 Dogs
URL:/League/Schedule/3155
DESCRIPTION:Regular Season match: Bocce Amici vs Four Corner
 s 76 Dogs
LOCATION:Newhall Court 1
END:VEVENT
BEGIN:VEVENT
DTSTAMP:20260426T000000Z
UID:56927865-b8b0-4807-b4c6-8dc308005cdb@ClaytonBocce
DTSTART;TZID=America/Los_Angeles:20260510T180000
DTEND;TZID=America/Los_Angeles:20260510T203000
STATUS:CONFIRMED
SUMMARY:Bocce Amici vs Court Jesters
URL:/League/Schedule/3155
DESCRIPTION:Regular Season match: Bocce Amici vs Court Jeste
 rs
LOCATION:Newhall Court 5
END:VEVENT
BEGIN:VEVENT
DTSTAMP:20260426T000000Z
UID:e12512ce-dbe7-4778-a2a8-da5947162181@ClaytonBocce
DTSTART;TZID=America/Los_Angeles:20260517T180000
DTEND;TZID=America/Los_Angeles:20260517T203000
STATUS:CONFIRMED
SUMMARY:Bocce Amici vs Bocce Lives Matter
URL:/League/Schedule/3155
DESCRIPTION:Regular Season match: Bocce Amici vs Bocce Lives
  Matter
LOCATION:Newhall Court 8
END:VEVENT
BEGIN:VEVENT
DTSTAMP:20260426T000000Z
UID:c46a0178-47e6-4932-bf26-ad94335fcbc7@ClaytonBocce
DTSTART;TZID=America/Los_Angeles:20260524T180000
DTEND;TZID=America/Los_Angeles:20260524T203000
STATUS:CONFIRMED
SUMMARY:Bocce Amici vs Rollin' Raiders
URL:/League/Schedule/3155
DESCRIPTION:Regular Season match: Bocce Amici vs Rollin' Rai
 ders
LOCATION:Newhall Court 3
END:VEVENT
BEGIN:VEVENT
DTSTAMP:20260426T000000Z
UID:d220adb3-f528-4437-876e-52808528543d@ClaytonBocce
DTSTART;TZID=America/Los_Angeles:20260531T180000
DTEND;TZID=America/Los_Angeles:20260531T203000
STATUS:CONFIRMED
SUMMARY:Bocce Amici vs Wait Till Next Year
URL:/League/Schedule/3155
DESCRIPTION:Regular Season match: Bocce Amici vs Wait Till N
 ext Year
LOCATION:Newhall Court 4
END:VEVENT
BEGIN:VEVENT
DTSTAMP:20260426T000000Z
UID:455b7039-5a08-45b4-9c7d-6389833664d4@ClaytonBocce
DTSTART;TZID=America/Los_Angeles:20260607T180000
DTEND;TZID=America/Los_Angeles:20260607T203000
STATUS:CONFIRMED
SUMMARY:Bocce Amici vs MISFITS
URL:/League/Schedule/3155
DESCRIPTION:Regular Season match: Bocce Amici vs MISFITS
LOCATION:Newhall Court 5
END:VEVENT
BEGIN:VEVENT
DTSTAMP:20260426T000000Z
UID:60beaf0c-a473-49a6-a127-37e5ae3d387a@ClaytonBocce
DTSTART;TZID=America/Los_Angeles:20260621T180000
DTEND;TZID=America/Los_Angeles:20260621T203000
STATUS:CONFIRMED
SUMMARY:Bocce Amici vs Zandonella Catering
URL:/League/Schedule/3155
DESCRIPTION:Regular Season match: Bocce Amici vs Zandonella 
 Catering
LOCATION:Newhall Court 7
END:VEVENT
BEGIN:VEVENT
DTSTAMP:20260426T000000Z
UID:63c11db0-5c67-4abb-8be1-12c99cc35412@ClaytonBocce
DTSTART;TZID=America/Los_Angeles:20260628T180000
DTEND;TZID=America/Los_Angeles:20260628T203000
STATUS:CONFIRMED
SUMMARY:Bocce Amici vs The Big LaBocce
URL:/League/Schedule/3155
DESCRIPTION:Regular Season match: Bocce Amici vs The Big LaB
 occe
LOCATION:Newhall Court 6
END:VEVENT
BEGIN:VEVENT
DTSTAMP:20260426T000000Z
UID:7d2079e9-aba6-4a5f-b66d-7a91eb37d670@ClaytonBocce
DTSTART;TZID=America/Los_Angeles:20260712T180000
DTEND;TZID=America/Los_Angeles:20260712T203000
STATUS:CONFIRMED
SUMMARY:Bocce Amici vs Four Corners 76 Dogs
URL:/League/Schedule/3155
DESCRIPTION:Regular Season match: Bocce Amici vs Four Corner
 s 76 Dogs
LOCATION:Newhall Court 3
END:VEVENT
BEGIN:VEVENT
DTSTAMP:20260426T000000Z
UID:2336306f-033a-4820-91a3-5f3caa05d5bf@ClaytonBocce
DTSTART;TZID=America/Los_Angeles:20260719T180000
DTEND;TZID=America/Los_Angeles:20260719T203000
STATUS:CONFIRMED
SUMMARY:Bocce Amici vs Court Jesters
URL:/League/Schedule/3155
DESCRIPTION:Regular Season match: Bocce Amici vs Court Jeste
 rs
LOCATION:Newhall Court 2
END:VEVENT
BEGIN:VEVENT
DTSTAMP:20260426T000000Z
UID:50ea4efa-279d-415c-afc2-c08df9d244c4@ClaytonBocce
DTSTART;TZID=America/Los_Angeles:20260726T180000
DTEND;TZID=America/Los_Angeles:20260726T203000
STATUS:CONFIRMED
SUMMARY:Bocce Amici vs Bocce Lives Matter
URL:/League/Schedule/3155
DESCRIPTION:Regular Season match: Bocce Amici vs Bocce Lives
  Matter
LOCATION:Newhall Court 1
END:VEVENT
BEGIN:VEVENT
DTSTAMP:20260426T000000Z
UID:3dac5a32-95cb-4e12-9d14-dea065c8137e@ClaytonBocce
DTSTART;TZID=America/Los_Angeles:20260802T180000
DTEND;TZID=America/Los_Angeles:20260802T203000
STATUS:CONFIRMED
SUMMARY:Bocce Amici vs Rollin' Raiders
URL:/League/Schedule/3155
DESCRIPTION:Regular Season match: Bocce Amici vs Rollin' Rai
 ders
LOCATION:Newhall Court 2
END:VEVENT
BEGIN:VEVENT
DTSTAMP:20260426T000000Z
UID:97a55617-25d3-40e6-b859-0ed64da9f937@ClaytonBocce
DTSTART;TZID=America/Los_Angeles:20260809T180000
DTEND;TZID=America/Los_Angeles:20260809T203000
STATUS:CONFIRMED
SUMMARY:Bocce Amici vs Wait Till Next Year
URL:/League/Schedule/3155
DESCRIPTION:Regular Season match: Bocce Amici vs Wait Till N
 ext Year
LOCATION:Newhall Court 6
END:VEVENT
BEGIN:VEVENT
DTSTAMP:20260426T000000Z
UID:3819484b-f057-465e-8869-23930b1b82f7@ClaytonBocce
DTSTART;TZID=America/Los_Angeles:20260816T180000
DTEND;TZID=America/Los_Angeles:20260816T203000
STATUS:CONFIRMED
SUMMARY:Bocce Amici vs MISFITS
URL:/League/Schedule/3155
DESCRIPTION:Regular Season match: Bocce Amici vs MISFITS
LOCATION:Newhall Court 5
END:VEVENT
BEGIN:VEVENT
DTSTAMP:20260426T000000Z
UID:42d2084e-8e55-4c81-851b-66c55779c656@ClaytonBocce
DTSTART;TZID=America/Los_Angeles:20260830T180000
DTEND;TZID=America/Los_Angeles:20260830T203000
STATUS:CONFIRMED
SUMMARY:Bocce Amici vs Zandonella Catering
URL:/League/Schedule/3155
DESCRIPTION:Regular Season match: Bocce Amici vs Zandonella 
 Catering
LOCATION:Newhall Court 7
END:VEVENT
END:VCALENDAR
