BEGIN:VCALENDAR
VERSION:2.0
PRODID:-//Clayton Bocce League
METHOD:PUBLISH
BEGIN:VTIMEZONE
TZID:America/Los_Angeles
X-LIC-LOCATION:America/Los_Angeles
BEGIN:DAYLIGHT
TZOFFSETFROM:-0800
TZOFFSETTO:-0700
TZNAME:PDT
DTSTART:20070311T020000
RRULE:FREQ=YEARLY;BYMONTH=3;BYDAY=2SU
END:DAYLIGHT
BEGIN:STANDARD
TZOFFSETFROM:-0700
TZOFFSETTO:-0800
TZNAME:PST
DTSTART:20071104T020000
RRULE:FREQ=YEARLY;BYMONTH=11;BYDAY=1SU
END:STANDARD
END:VTIMEZONE
BEGIN:VEVENT
DTSTAMP:20260426T000000Z
UID:548b6d0c-4ba5-47d7-803f-033bf517ad5b@ClaytonBocce
DTSTART;TZID=America/Los_Angeles:20260426T180000
DTEND;TZID=America/Los_Angeles:20260426T203000
STATUS:CONFIRMED
SUMMARY:Rollin' Raiders vs Bocce Lives Matter
URL:/League/Schedule/3162
DESCRIPTION:Regular Season match: Rollin' Raiders vs Bocce L
 ives Matter
LOCATION:Newhall Court 1
END:VEVENT
BEGIN:VEVENT
DTSTAMP:20260426T000000Z
UID:c384fa6a-1051-4fbb-b39d-b167640604e4@ClaytonBocce
DTSTART;TZID=America/Los_Angeles:20260510T180000
DTEND;TZID=America/Los_Angeles:20260510T203000
STATUS:CONFIRMED
SUMMARY:Rollin' Raiders vs Wait Till Next Year
URL:/League/Schedule/3162
DESCRIPTION:Regular Season match: Rollin' Raiders vs Wait Ti
 ll Next Year
LOCATION:Newhall Court 7
END:VEVENT
BEGIN:VEVENT
DTSTAMP:20260426T000000Z
UID:c538097c-1252-443d-9ff0-c05824b856ec@ClaytonBocce
DTSTART;TZID=America/Los_Angeles:20260517T180000
DTEND;TZID=America/Los_Angeles:20260517T203000
STATUS:CONFIRMED
SUMMARY:Rollin' Raiders vs MISFITS
URL:/League/Schedule/3162
DESCRIPTION:Regular Season match: Rollin' Raiders vs MISFITS
LOCATION:Newhall Court 2
END:VEVENT
BEGIN:VEVENT
DTSTAMP:20260426T000000Z
UID:c46a0178-47e6-4932-bf26-ad94335fcbc7@ClaytonBocce
DTSTART;TZID=America/Los_Angeles:20260524T180000
DTEND;TZID=America/Los_Angeles:20260524T203000
STATUS:CONFIRMED
SUMMARY:Rollin' Raiders vs Bocce Amici
URL:/League/Schedule/3162
DESCRIPTION:Regular Season match: Rollin' Raiders vs Bocce A
 mici
LOCATION:Newhall Court 3
END:VEVENT
BEGIN:VEVENT
DTSTAMP:20260426T000000Z
UID:cbd6c464-73ca-4dde-9b2e-6a506ea90170@ClaytonBocce
DTSTART;TZID=America/Los_Angeles:20260531T180000
DTEND;TZID=America/Los_Angeles:20260531T203000
STATUS:CONFIRMED
SUMMARY:Rollin' Raiders vs Zandonella Catering
URL:/League/Schedule/3162
DESCRIPTION:Regular Season match: Rollin' Raiders vs Zandone
 lla Catering
LOCATION:Newhall Court 6
END:VEVENT
BEGIN:VEVENT
DTSTAMP:20260426T000000Z
UID:6e5b9ed4-a3bf-4796-a040-62343b35f832@ClaytonBocce
DTSTART;TZID=America/Los_Angeles:20260607T180000
DTEND;TZID=America/Los_Angeles:20260607T203000
STATUS:CONFIRMED
SUMMARY:Rollin' Raiders vs The Big LaBocce
URL:/League/Schedule/3162
DESCRIPTION:Regular Season match: Rollin' Raiders vs The Big
  LaBocce
LOCATION:Newhall Court 4
END:VEVENT
BEGIN:VEVENT
DTSTAMP:20260426T000000Z
UID:f01aa531-ee3e-4350-b53a-c2a16df6e388@ClaytonBocce
DTSTART;TZID=America/Los_Angeles:20260614T180000
DTEND;TZID=America/Los_Angeles:20260614T203000
STATUS:CONFIRMED
SUMMARY:Rollin' Raiders vs Four Corners 76 Dogs
URL:/League/Schedule/3162
DESCRIPTION:Regular Season match: Rollin' Raiders vs Four Co
 rners 76 Dogs
LOCATION:Newhall Court 5
END:VEVENT
BEGIN:VEVENT
DTSTAMP:20260426T000000Z
UID:e3b7a928-dfe9-454b-a069-e6193af4e504@ClaytonBocce
DTSTART;TZID=America/Los_Angeles:20260621T180000
DTEND;TZID=America/Los_Angeles:20260621T203000
STATUS:CONFIRMED
SUMMARY:Rollin' Raiders vs Court Jesters
URL:/League/Schedule/3162
DESCRIPTION:Regular Season match: Rollin' Raiders vs Court J
 esters
LOCATION:Newhall Court 8
END:VEVENT
BEGIN:VEVENT
DTSTAMP:20260426T000000Z
UID:924895d4-c7cc-4378-9ce7-d4e8854c9951@ClaytonBocce
DTSTART;TZID=America/Los_Angeles:20260628T180000
DTEND;TZID=America/Los_Angeles:20260628T203000
STATUS:CONFIRMED
SUMMARY:Rollin' Raiders vs Bocce Lives Matter
URL:/League/Schedule/3162
DESCRIPTION:Regular Season match: Rollin' Raiders vs Bocce L
 ives Matter
LOCATION:Newhall Court 7
END:VEVENT
BEGIN:VEVENT
DTSTAMP:20260426T000000Z
UID:34e78050-6023-44a3-ac4b-bb114ec6c176@ClaytonBocce
DTSTART;TZID=America/Los_Angeles:20260719T180000
DTEND;TZID=America/Los_Angeles:20260719T203000
STATUS:CONFIRMED
SUMMARY:Rollin' Raiders vs Wait Till Next Year
URL:/League/Schedule/3162
DESCRIPTION:Regular Season match: Rollin' Raiders vs Wait Ti
 ll Next Year
LOCATION:Newhall Court 3
END:VEVENT
BEGIN:VEVENT
DTSTAMP:20260426T000000Z
UID:561e152c-154e-45eb-aa36-2632839a0f23@ClaytonBocce
DTSTART;TZID=America/Los_Angeles:20260726T180000
DTEND;TZID=America/Los_Angeles:20260726T203000
STATUS:CONFIRMED
SUMMARY:Rollin' Raiders vs MISFITS
URL:/League/Schedule/3162
DESCRIPTION:Regular Season match: Rollin' Raiders vs MISFITS
LOCATION:Newhall Court 4
END:VEVENT
BEGIN:VEVENT
DTSTAMP:20260426T000000Z
UID:3dac5a32-95cb-4e12-9d14-dea065c8137e@ClaytonBocce
DTSTART;TZID=America/Los_Angeles:20260802T180000
DTEND;TZID=America/Los_Angeles:20260802T203000
STATUS:CONFIRMED
SUMMARY:Rollin' Raiders vs Bocce Amici
URL:/League/Schedule/3162
DESCRIPTION:Regular Season match: Rollin' Raiders vs Bocce A
 mici
LOCATION:Newhall Court 2
END:VEVENT
BEGIN:VEVENT
DTSTAMP:20260426T000000Z
UID:59c0ca44-924c-464d-96e7-a2d8ed51164c@ClaytonBocce
DTSTART;TZID=America/Los_Angeles:20260809T180000
DTEND;TZID=America/Los_Angeles:20260809T203000
STATUS:CONFIRMED
SUMMARY:Rollin' Raiders vs Zandonella Catering
URL:/League/Schedule/3162
DESCRIPTION:Regular Season match: Rollin' Raiders vs Zandone
 lla Catering
LOCATION:Newhall Court 5
END:VEVENT
BEGIN:VEVENT
DTSTAMP:20260426T000000Z
UID:f166c2d2-d9aa-4056-a2ca-44b39607ea6d@ClaytonBocce
DTSTART;TZID=America/Los_Angeles:20260816T180000
DTEND;TZID=America/Los_Angeles:20260816T203000
STATUS:CONFIRMED
SUMMARY:Rollin' Raiders vs The Big LaBocce
URL:/League/Schedule/3162
DESCRIPTION:Regular Season match: Rollin' Raiders vs The Big
  LaBocce
LOCATION:Newhall Court 1
END:VEVENT
BEGIN:VEVENT
DTSTAMP:20260426T000000Z
UID:f8699a87-5e99-48a9-8fd1-f951b2bfb1a0@ClaytonBocce
DTSTART;TZID=America/Los_Angeles:20260823T180000
DTEND;TZID=America/Los_Angeles:20260823T203000
STATUS:CONFIRMED
SUMMARY:Rollin' Raiders vs Four Corners 76 Dogs
URL:/League/Schedule/3162
DESCRIPTION:Regular Season match: Rollin' Raiders vs Four Co
 rners 76 Dogs
LOCATION:Newhall Court 6
END:VEVENT
BEGIN:VEVENT
DTSTAMP:20260426T000000Z
UID:b4380fde-4a2e-43b0-98e3-2aae90cd635e@ClaytonBocce
DTSTART;TZID=America/Los_Angeles:20260830T180000
DTEND;TZID=America/Los_Angeles:20260830T203000
STATUS:CONFIRMED
SUMMARY:Rollin' Raiders vs Court Jesters
URL:/League/Schedule/3162
DESCRIPTION:Regular Season match: Rollin' Raiders vs Court J
 esters
LOCATION:Newhall Court 4
END:VEVENT
END:VCALENDAR
