BEGIN:VCALENDAR
VERSION:2.0
PRODID:-//Clayton Bocce League
METHOD:PUBLISH
BEGIN:VTIMEZONE
TZID:America/Los_Angeles
X-LIC-LOCATION:America/Los_Angeles
BEGIN:DAYLIGHT
TZOFFSETFROM:-0800
TZOFFSETTO:-0700
TZNAME:PDT
DTSTART:20070311T020000
RRULE:FREQ=YEARLY;BYMONTH=3;BYDAY=2SU
END:DAYLIGHT
BEGIN:STANDARD
TZOFFSETFROM:-0700
TZOFFSETTO:-0800
TZNAME:PST
DTSTART:20071104T020000
RRULE:FREQ=YEARLY;BYMONTH=11;BYDAY=1SU
END:STANDARD
END:VTIMEZONE
BEGIN:VEVENT
DTSTAMP:20260426T000000Z
UID:548b6d0c-4ba5-47d7-803f-033bf517ad5b@ClaytonBocce
DTSTART;TZID=America/Los_Angeles:20260426T180000
DTEND;TZID=America/Los_Angeles:20260426T203000
STATUS:CONFIRMED
SUMMARY:Bocce Lives Matter vs Rollin' Raiders
URL:/League/Schedule/3156
DESCRIPTION:Regular Season match: Bocce Lives Matter vs Roll
 in' Raiders
LOCATION:Newhall Court 1
END:VEVENT
BEGIN:VEVENT
DTSTAMP:20260426T000000Z
UID:8d78cbdb-36b1-40cd-8b17-d094d8c3e5b0@ClaytonBocce
DTSTART;TZID=America/Los_Angeles:20260503T180000
DTEND;TZID=America/Los_Angeles:20260503T203000
STATUS:CONFIRMED
SUMMARY:Bocce Lives Matter vs Wait Till Next Year
URL:/League/Schedule/3156
DESCRIPTION:Regular Season match: Bocce Lives Matter vs Wait
  Till Next Year
LOCATION:Newhall Court 5
END:VEVENT
BEGIN:VEVENT
DTSTAMP:20260426T000000Z
UID:221939fd-e71a-49f3-9f28-a8140109e384@ClaytonBocce
DTSTART;TZID=America/Los_Angeles:20260510T180000
DTEND;TZID=America/Los_Angeles:20260510T203000
STATUS:CONFIRMED
SUMMARY:Bocce Lives Matter vs MISFITS
URL:/League/Schedule/3156
DESCRIPTION:Regular Season match: Bocce Lives Matter vs MISF
 ITS
LOCATION:Newhall Court 6
END:VEVENT
BEGIN:VEVENT
DTSTAMP:20260426T000000Z
UID:e12512ce-dbe7-4778-a2a8-da5947162181@ClaytonBocce
DTSTART;TZID=America/Los_Angeles:20260517T180000
DTEND;TZID=America/Los_Angeles:20260517T203000
STATUS:CONFIRMED
SUMMARY:Bocce Lives Matter vs Bocce Amici
URL:/League/Schedule/3156
DESCRIPTION:Regular Season match: Bocce Lives Matter vs Bocc
 e Amici
LOCATION:Newhall Court 8
END:VEVENT
BEGIN:VEVENT
DTSTAMP:20260426T000000Z
UID:5abece25-61d1-48bd-a2f8-c0477a3224c1@ClaytonBocce
DTSTART;TZID=America/Los_Angeles:20260524T180000
DTEND;TZID=America/Los_Angeles:20260524T203000
STATUS:CONFIRMED
SUMMARY:Bocce Lives Matter vs Zandonella Catering
URL:/League/Schedule/3156
DESCRIPTION:Regular Season match: Bocce Lives Matter vs Zand
 onella Catering
LOCATION:Newhall Court 2
END:VEVENT
BEGIN:VEVENT
DTSTAMP:20260426T000000Z
UID:fed8c9a6-4289-4d46-868f-135e18487b2c@ClaytonBocce
DTSTART;TZID=America/Los_Angeles:20260531T180000
DTEND;TZID=America/Los_Angeles:20260531T203000
STATUS:CONFIRMED
SUMMARY:Bocce Lives Matter vs The Big LaBocce
URL:/League/Schedule/3156
DESCRIPTION:Regular Season match: Bocce Lives Matter vs The 
 Big LaBocce
LOCATION:Newhall Court 3
END:VEVENT
BEGIN:VEVENT
DTSTAMP:20260426T000000Z
UID:2c8989e4-a3c2-4878-b078-cca4fafbd2f9@ClaytonBocce
DTSTART;TZID=America/Los_Angeles:20260607T180000
DTEND;TZID=America/Los_Angeles:20260607T203000
STATUS:CONFIRMED
SUMMARY:Bocce Lives Matter vs Four Corners 76 Dogs
URL:/League/Schedule/3156
DESCRIPTION:Regular Season match: Bocce Lives Matter vs Four
  Corners 76 Dogs
LOCATION:Newhall Court 8
END:VEVENT
BEGIN:VEVENT
DTSTAMP:20260426T000000Z
UID:d7ad85dd-fce7-41c2-af22-d02b730f1fdb@ClaytonBocce
DTSTART;TZID=America/Los_Angeles:20260614T180000
DTEND;TZID=America/Los_Angeles:20260614T203000
STATUS:CONFIRMED
SUMMARY:Bocce Lives Matter vs Court Jesters
URL:/League/Schedule/3156
DESCRIPTION:Regular Season match: Bocce Lives Matter vs Cour
 t Jesters
LOCATION:Newhall Court 1
END:VEVENT
BEGIN:VEVENT
DTSTAMP:20260426T000000Z
UID:924895d4-c7cc-4378-9ce7-d4e8854c9951@ClaytonBocce
DTSTART;TZID=America/Los_Angeles:20260628T180000
DTEND;TZID=America/Los_Angeles:20260628T203000
STATUS:CONFIRMED
SUMMARY:Bocce Lives Matter vs Rollin' Raiders
URL:/League/Schedule/3156
DESCRIPTION:Regular Season match: Bocce Lives Matter vs Roll
 in' Raiders
LOCATION:Newhall Court 7
END:VEVENT
BEGIN:VEVENT
DTSTAMP:20260426T000000Z
UID:c47d576a-057f-4cf1-9485-b21e69981786@ClaytonBocce
DTSTART;TZID=America/Los_Angeles:20260712T180000
DTEND;TZID=America/Los_Angeles:20260712T203000
STATUS:CONFIRMED
SUMMARY:Bocce Lives Matter vs Wait Till Next Year
URL:/League/Schedule/3156
DESCRIPTION:Regular Season match: Bocce Lives Matter vs Wait
  Till Next Year
LOCATION:Newhall Court 4
END:VEVENT
BEGIN:VEVENT
DTSTAMP:20260426T000000Z
UID:6b9b70d1-e315-4040-8630-62d0f8396e74@ClaytonBocce
DTSTART;TZID=America/Los_Angeles:20260719T180000
DTEND;TZID=America/Los_Angeles:20260719T203000
STATUS:CONFIRMED
SUMMARY:Bocce Lives Matter vs MISFITS
URL:/League/Schedule/3156
DESCRIPTION:Regular Season match: Bocce Lives Matter vs MISF
 ITS
LOCATION:Newhall Court 5
END:VEVENT
BEGIN:VEVENT
DTSTAMP:20260426T000000Z
UID:50ea4efa-279d-415c-afc2-c08df9d244c4@ClaytonBocce
DTSTART;TZID=America/Los_Angeles:20260726T180000
DTEND;TZID=America/Los_Angeles:20260726T203000
STATUS:CONFIRMED
SUMMARY:Bocce Lives Matter vs Bocce Amici
URL:/League/Schedule/3156
DESCRIPTION:Regular Season match: Bocce Lives Matter vs Bocc
 e Amici
LOCATION:Newhall Court 1
END:VEVENT
BEGIN:VEVENT
DTSTAMP:20260426T000000Z
UID:c9d65cc6-83c8-4667-9858-a4cba83e0160@ClaytonBocce
DTSTART;TZID=America/Los_Angeles:20260802T180000
DTEND;TZID=America/Los_Angeles:20260802T203000
STATUS:CONFIRMED
SUMMARY:Bocce Lives Matter vs Zandonella Catering
URL:/League/Schedule/3156
DESCRIPTION:Regular Season match: Bocce Lives Matter vs Zand
 onella Catering
LOCATION:Newhall Court 6
END:VEVENT
BEGIN:VEVENT
DTSTAMP:20260426T000000Z
UID:75c5f2f9-ffb1-445c-9cad-3ef534d7f3f4@ClaytonBocce
DTSTART;TZID=America/Los_Angeles:20260809T180000
DTEND;TZID=America/Los_Angeles:20260809T203000
STATUS:CONFIRMED
SUMMARY:Bocce Lives Matter vs The Big LaBocce
URL:/League/Schedule/3156
DESCRIPTION:Regular Season match: Bocce Lives Matter vs The 
 Big LaBocce
LOCATION:Newhall Court 2
END:VEVENT
BEGIN:VEVENT
DTSTAMP:20260426T000000Z
UID:12777ece-d80e-4bfe-a63c-ff9cd911c273@ClaytonBocce
DTSTART;TZID=America/Los_Angeles:20260816T180000
DTEND;TZID=America/Los_Angeles:20260816T203000
STATUS:CONFIRMED
SUMMARY:Bocce Lives Matter vs Four Corners 76 Dogs
URL:/League/Schedule/3156
DESCRIPTION:Regular Season match: Bocce Lives Matter vs Four
  Corners 76 Dogs
LOCATION:Newhall Court 8
END:VEVENT
BEGIN:VEVENT
DTSTAMP:20260426T000000Z
UID:8b991913-82ee-4ada-836d-ec12e5210520@ClaytonBocce
DTSTART;TZID=America/Los_Angeles:20260823T180000
DTEND;TZID=America/Los_Angeles:20260823T203000
STATUS:CONFIRMED
SUMMARY:Bocce Lives Matter vs Court Jesters
URL:/League/Schedule/3156
DESCRIPTION:Regular Season match: Bocce Lives Matter vs Cour
 t Jesters
LOCATION:Newhall Court 7
END:VEVENT
END:VCALENDAR
