BEGIN:VCALENDAR
VERSION:2.0
PRODID:-//Clayton Bocce League
METHOD:PUBLISH
BEGIN:VTIMEZONE
TZID:America/Los_Angeles
X-LIC-LOCATION:America/Los_Angeles
BEGIN:DAYLIGHT
TZOFFSETFROM:-0800
TZOFFSETTO:-0700
TZNAME:PDT
DTSTART:20070311T020000
RRULE:FREQ=YEARLY;BYMONTH=3;BYDAY=2SU
END:DAYLIGHT
BEGIN:STANDARD
TZOFFSETFROM:-0700
TZOFFSETTO:-0800
TZNAME:PST
DTSTART:20071104T020000
RRULE:FREQ=YEARLY;BYMONTH=11;BYDAY=1SU
END:STANDARD
END:VTIMEZONE
BEGIN:VEVENT
DTSTAMP:20251104T000000Z
UID:fbad245b-0108-44f8-acda-70e04e8e6fb0@ClaytonBocce
DTSTART;TZID=America/Los_Angeles:20260318T183000
DTEND;TZID=America/Los_Angeles:20260318T210000
STATUS:CONFIRMED
SUMMARY:Advance Auto vs 4th Qrt
URL:/League/Schedule/2831
DESCRIPTION:Playoff match: Advance Auto vs 4th Qrt
LOCATION:CCIBA TBD
END:VEVENT
BEGIN:VEVENT
DTSTAMP:20251104T000000Z
UID:4cb29f3e-53e6-4421-b726-83b6f0cc65d2@ClaytonBocce
DTSTART;TZID=America/Los_Angeles:20260319T183000
DTEND;TZID=America/Los_Angeles:20260319T210000
STATUS:CONFIRMED
SUMMARY:Advance Auto vs Bravo Bocce
URL:/League/Schedule/2831
DESCRIPTION:Playoff match: Advance Auto vs Bravo Bocce
LOCATION:CCIBA TBD
END:VEVENT
BEGIN:VEVENT
DTSTAMP:20251104T000000Z
UID:35cbefd6-37f0-4450-9180-867cc4309c6c@ClaytonBocce
DTSTART;TZID=America/Los_Angeles:20260320T183000
DTEND;TZID=America/Los_Angeles:20260320T210000
STATUS:CONFIRMED
SUMMARY:Advance Auto vs Wild Bunch
URL:/League/Schedule/2831
DESCRIPTION:Playoff match: Advance Auto vs Wild Bunch
LOCATION:CCIBA TBD
END:VEVENT
END:VCALENDAR
