BEGIN:VCALENDAR
VERSION:2.0
PRODID:-//Clayton Bocce League
METHOD:PUBLISH
BEGIN:VTIMEZONE
TZID:America/Los_Angeles
X-LIC-LOCATION:America/Los_Angeles
BEGIN:DAYLIGHT
TZOFFSETFROM:-0800
TZOFFSETTO:-0700
TZNAME:PDT
DTSTART:20070311T020000
RRULE:FREQ=YEARLY;BYMONTH=3;BYDAY=2SU
END:DAYLIGHT
BEGIN:STANDARD
TZOFFSETFROM:-0700
TZOFFSETTO:-0800
TZNAME:PST
DTSTART:20071104T020000
RRULE:FREQ=YEARLY;BYMONTH=11;BYDAY=1SU
END:STANDARD
END:VTIMEZONE
BEGIN:VEVENT
DTSTAMP:20251107T000000Z
UID:d2f5aeb1-534d-4e19-99cc-7f26fc91d997@ClaytonBocce
DTSTART;TZID=America/Los_Angeles:20251107T183000
DTEND;TZID=America/Los_Angeles:20251107T210000
STATUS:CONFIRMED
SUMMARY:Mr Telephone Man vs Central Addition
URL:/League/Schedule/2863
DESCRIPTION:Regular Season match: Mr Telephone Man vs Centra
 l Addition
LOCATION:CCIBA Court 6
END:VEVENT
BEGIN:VEVENT
DTSTAMP:20251107T000000Z
UID:e25d2a46-8562-41dd-be31-fb1c1a049f36@ClaytonBocce
DTSTART;TZID=America/Los_Angeles:20251114T183000
DTEND;TZID=America/Los_Angeles:20251114T210000
STATUS:CONFIRMED
SUMMARY:Mr Telephone Man vs So Perfetta
URL:/League/Schedule/2863
DESCRIPTION:Regular Season match: Mr Telephone Man vs So Per
 fetta
LOCATION:CCIBA Court 3
END:VEVENT
BEGIN:VEVENT
DTSTAMP:20251107T000000Z
UID:a7f36c34-5d12-4f8a-8087-471586f6a060@ClaytonBocce
DTSTART;TZID=America/Los_Angeles:20251205T183000
DTEND;TZID=America/Los_Angeles:20251205T210000
STATUS:CONFIRMED
SUMMARY:Mr Telephone Man vs Blessed by 1
URL:/League/Schedule/2863
DESCRIPTION:Regular Season match: Mr Telephone Man vs Blesse
 d by 1
LOCATION:CCIBA Court 5
END:VEVENT
BEGIN:VEVENT
DTSTAMP:20251107T000000Z
UID:e5ef4056-61bf-469a-946c-182a79d6b0cb@ClaytonBocce
DTSTART;TZID=America/Los_Angeles:20251212T183000
DTEND;TZID=America/Los_Angeles:20251212T210000
STATUS:CONFIRMED
SUMMARY:Mr Telephone Man vs Livin' La Bocce Loca
URL:/League/Schedule/2863
DESCRIPTION:Regular Season match: Mr Telephone Man vs Livin'
  La Bocce Loca
LOCATION:CCIBA Court 2
END:VEVENT
BEGIN:VEVENT
DTSTAMP:20251107T000000Z
UID:01db7fe9-9bb3-4773-9346-0ee796d0f938@ClaytonBocce
DTSTART;TZID=America/Los_Angeles:20251219T183000
DTEND;TZID=America/Los_Angeles:20251219T210000
STATUS:CONFIRMED
SUMMARY:Mr Telephone Man vs Rolling Thunder
URL:/League/Schedule/2863
DESCRIPTION:Regular Season match: Mr Telephone Man vs Rollin
 g Thunder
LOCATION:CCIBA Court 4
END:VEVENT
BEGIN:VEVENT
DTSTAMP:20251107T000000Z
UID:d533f094-44ad-472a-829d-1c1ece81924d@ClaytonBocce
DTSTART;TZID=America/Los_Angeles:20260116T183000
DTEND;TZID=America/Los_Angeles:20260116T210000
STATUS:CONFIRMED
SUMMARY:Mr Telephone Man vs No Bueno Bocce
URL:/League/Schedule/2863
DESCRIPTION:Regular Season match: Mr Telephone Man vs No Bue
 no Bocce
LOCATION:CCIBA Court 1
END:VEVENT
BEGIN:VEVENT
DTSTAMP:20251107T000000Z
UID:3fe8ac3f-19b1-473f-b432-6e065647d1bc@ClaytonBocce
DTSTART;TZID=America/Los_Angeles:20260123T183000
DTEND;TZID=America/Los_Angeles:20260123T210000
STATUS:CONFIRMED
SUMMARY:Mr Telephone Man vs FuhgeddaBocce
URL:/League/Schedule/2863
DESCRIPTION:Regular Season match: Mr Telephone Man vs Fuhged
 daBocce
LOCATION:CCIBA Court 3
END:VEVENT
BEGIN:VEVENT
DTSTAMP:20251107T000000Z
UID:29971ecf-6126-4f7e-8c07-3de48219cf4b@ClaytonBocce
DTSTART;TZID=America/Los_Angeles:20260130T183000
DTEND;TZID=America/Los_Angeles:20260130T210000
STATUS:CONFIRMED
SUMMARY:Mr Telephone Man vs Untouchaballs
URL:/League/Schedule/2863
DESCRIPTION:Regular Season match: Mr Telephone Man vs Untouc
 haballs
LOCATION:CCIBA Court 4
END:VEVENT
BEGIN:VEVENT
DTSTAMP:20251107T000000Z
UID:f114be5a-e897-4e4e-aff2-1fde92892eaa@ClaytonBocce
DTSTART;TZID=America/Los_Angeles:20260206T183000
DTEND;TZID=America/Los_Angeles:20260206T210000
STATUS:CONFIRMED
SUMMARY:Mr Telephone Man vs Buncha Ballers
URL:/League/Schedule/2863
DESCRIPTION:Regular Season match: Mr Telephone Man vs Buncha
  Ballers
LOCATION:CCIBA Court 5
END:VEVENT
BEGIN:VEVENT
DTSTAMP:20251107T000000Z
UID:bec75c2b-fa8b-4ffa-b86a-729e5b5a1df1@ClaytonBocce
DTSTART;TZID=America/Los_Angeles:20260213T183000
DTEND;TZID=America/Los_Angeles:20260213T210000
STATUS:CONFIRMED
SUMMARY:Mr Telephone Man vs Bocce Friends
URL:/League/Schedule/2863
DESCRIPTION:Regular Season match: Mr Telephone Man vs Bocce 
 Friends
LOCATION:CCIBA Court 6
END:VEVENT
END:VCALENDAR
