BEGIN:VCALENDAR
VERSION:2.0
PRODID:-//Clayton Bocce League
METHOD:PUBLISH
BEGIN:VTIMEZONE
TZID:America/Los_Angeles
X-LIC-LOCATION:America/Los_Angeles
BEGIN:DAYLIGHT
TZOFFSETFROM:-0800
TZOFFSETTO:-0700
TZNAME:PDT
DTSTART:20070311T020000
RRULE:FREQ=YEARLY;BYMONTH=3;BYDAY=2SU
END:DAYLIGHT
BEGIN:STANDARD
TZOFFSETFROM:-0700
TZOFFSETTO:-0800
TZNAME:PST
DTSTART:20071104T020000
RRULE:FREQ=YEARLY;BYMONTH=11;BYDAY=1SU
END:STANDARD
END:VTIMEZONE
BEGIN:VEVENT
DTSTAMP:20251107T000000Z
UID:d2f5aeb1-534d-4e19-99cc-7f26fc91d997@ClaytonBocce
DTSTART;TZID=America/Los_Angeles:20251107T183000
DTEND;TZID=America/Los_Angeles:20251107T210000
STATUS:CONFIRMED
SUMMARY:Central Addition vs Mr Telephone Man
URL:/League/Schedule/2857
DESCRIPTION:Regular Season match: Central Addition vs Mr Tel
 ephone Man
LOCATION:CCIBA Court 6
END:VEVENT
BEGIN:VEVENT
DTSTAMP:20251107T000000Z
UID:157b9664-918b-4576-b94e-2d302824a1e3@ClaytonBocce
DTSTART;TZID=America/Los_Angeles:20251114T183000
DTEND;TZID=America/Los_Angeles:20251114T210000
STATUS:CONFIRMED
SUMMARY:Central Addition vs Bocce Friends
URL:/League/Schedule/2857
DESCRIPTION:Regular Season match: Central Addition vs Bocce 
 Friends
LOCATION:CCIBA Court 4
END:VEVENT
BEGIN:VEVENT
DTSTAMP:20251107T000000Z
UID:38c79163-89f1-4bdc-9fba-5bcc0b9e505a@ClaytonBocce
DTSTART;TZID=America/Los_Angeles:20251205T183000
DTEND;TZID=America/Los_Angeles:20251205T210000
STATUS:CONFIRMED
SUMMARY:Central Addition vs So Perfetta
URL:/League/Schedule/2857
DESCRIPTION:Regular Season match: Central Addition vs So Per
 fetta
LOCATION:CCIBA Court 2
END:VEVENT
BEGIN:VEVENT
DTSTAMP:20251107T000000Z
UID:90b5d6fd-9ebf-41af-b2d4-498a6e2e7ae1@ClaytonBocce
DTSTART;TZID=America/Los_Angeles:20251212T183000
DTEND;TZID=America/Los_Angeles:20251212T210000
STATUS:CONFIRMED
SUMMARY:Central Addition vs Blessed by 1
URL:/League/Schedule/2857
DESCRIPTION:Regular Season match: Central Addition vs Blesse
 d by 1
LOCATION:CCIBA Court 3
END:VEVENT
BEGIN:VEVENT
DTSTAMP:20251107T000000Z
UID:1adcd790-42d8-412e-9e39-15dbb740333c@ClaytonBocce
DTSTART;TZID=America/Los_Angeles:20251219T183000
DTEND;TZID=America/Los_Angeles:20251219T210000
STATUS:CONFIRMED
SUMMARY:Central Addition vs Livin' La Bocce Loca
URL:/League/Schedule/2857
DESCRIPTION:Regular Season match: Central Addition vs Livin'
  La Bocce Loca
LOCATION:CCIBA Court 6
END:VEVENT
BEGIN:VEVENT
DTSTAMP:20251107T000000Z
UID:ae7e0c6c-2d3c-43cd-807b-4bb2aca36c86@ClaytonBocce
DTSTART;TZID=America/Los_Angeles:20260109T183000
DTEND;TZID=America/Los_Angeles:20260109T210000
STATUS:CONFIRMED
SUMMARY:Central Addition vs Rolling Thunder
URL:/League/Schedule/2857
DESCRIPTION:Regular Season match: Central Addition vs Rollin
 g Thunder
LOCATION:CCIBA Court 1
END:VEVENT
BEGIN:VEVENT
DTSTAMP:20251107T000000Z
UID:a63849e3-b767-4c69-bc40-08b3c63fd7d2@ClaytonBocce
DTSTART;TZID=America/Los_Angeles:20260123T183000
DTEND;TZID=America/Los_Angeles:20260123T210000
STATUS:CONFIRMED
SUMMARY:Central Addition vs No Bueno Bocce
URL:/League/Schedule/2857
DESCRIPTION:Regular Season match: Central Addition vs No Bue
 no Bocce
LOCATION:CCIBA Court 4
END:VEVENT
BEGIN:VEVENT
DTSTAMP:20251107T000000Z
UID:69580204-39cd-40aa-aa2c-ddbd88e44c98@ClaytonBocce
DTSTART;TZID=America/Los_Angeles:20260130T183000
DTEND;TZID=America/Los_Angeles:20260130T210000
STATUS:CONFIRMED
SUMMARY:Central Addition vs FuhgeddaBocce
URL:/League/Schedule/2857
DESCRIPTION:Regular Season match: Central Addition vs Fuhged
 daBocce
LOCATION:CCIBA Court 5
END:VEVENT
BEGIN:VEVENT
DTSTAMP:20251107T000000Z
UID:2584942f-8d24-41e2-8704-de637c08cc81@ClaytonBocce
DTSTART;TZID=America/Los_Angeles:20260206T183000
DTEND;TZID=America/Los_Angeles:20260206T210000
STATUS:CONFIRMED
SUMMARY:Central Addition vs Untouchaballs
URL:/League/Schedule/2857
DESCRIPTION:Regular Season match: Central Addition vs Untouc
 haballs
LOCATION:CCIBA Court 2
END:VEVENT
BEGIN:VEVENT
DTSTAMP:20251107T000000Z
UID:b2e48604-3823-486a-b501-1bb8f3ad55ae@ClaytonBocce
DTSTART;TZID=America/Los_Angeles:20260213T183000
DTEND;TZID=America/Los_Angeles:20260213T210000
STATUS:CONFIRMED
SUMMARY:Central Addition vs Buncha Ballers
URL:/League/Schedule/2857
DESCRIPTION:Regular Season match: Central Addition vs Buncha
  Ballers
LOCATION:CCIBA Court 1
END:VEVENT
END:VCALENDAR
