BEGIN:VCALENDAR
VERSION:2.0
PRODID:-//Clayton Bocce League
METHOD:PUBLISH
BEGIN:VTIMEZONE
TZID:America/Los_Angeles
X-LIC-LOCATION:America/Los_Angeles
BEGIN:DAYLIGHT
TZOFFSETFROM:-0800
TZOFFSETTO:-0700
TZNAME:PDT
DTSTART:20070311T020000
RRULE:FREQ=YEARLY;BYMONTH=3;BYDAY=2SU
END:DAYLIGHT
BEGIN:STANDARD
TZOFFSETFROM:-0700
TZOFFSETTO:-0800
TZNAME:PST
DTSTART:20071104T020000
RRULE:FREQ=YEARLY;BYMONTH=11;BYDAY=1SU
END:STANDARD
END:VTIMEZONE
BEGIN:VEVENT
DTSTAMP:20251107T000000Z
UID:7963bc9a-174b-4cd2-a9e7-e69da2200838@ClaytonBocce
DTSTART;TZID=America/Los_Angeles:20251107T183000
DTEND;TZID=America/Los_Angeles:20251107T210000
STATUS:CONFIRMED
SUMMARY:No Bueno Bocce vs Rolling Thunder
URL:/League/Schedule/2865
DESCRIPTION:Regular Season match: No Bueno Bocce vs Rolling 
 Thunder
LOCATION:CCIBA Court 5
END:VEVENT
BEGIN:VEVENT
DTSTAMP:20251107T000000Z
UID:b4beb8e0-a931-4d95-874c-8da8725836f5@ClaytonBocce
DTSTART;TZID=America/Los_Angeles:20251205T183000
DTEND;TZID=America/Los_Angeles:20251205T210000
STATUS:CONFIRMED
SUMMARY:No Bueno Bocce vs Bocce Friends
URL:/League/Schedule/2865
DESCRIPTION:Regular Season match: No Bueno Bocce vs Bocce Fr
 iends
LOCATION:CCIBA Court 6
END:VEVENT
BEGIN:VEVENT
DTSTAMP:20251107T000000Z
UID:c2bcd032-dce2-4d8d-9ba6-7aaaafb21f5e@ClaytonBocce
DTSTART;TZID=America/Los_Angeles:20251212T183000
DTEND;TZID=America/Los_Angeles:20251212T210000
STATUS:CONFIRMED
SUMMARY:No Bueno Bocce vs FuhgeddaBocce
URL:/League/Schedule/2865
DESCRIPTION:Regular Season match: No Bueno Bocce vs Fuhgedda
 Bocce
LOCATION:CCIBA Court 4
END:VEVENT
BEGIN:VEVENT
DTSTAMP:20251107T000000Z
UID:77c01436-f9a2-4c9c-ab16-915eef5a1266@ClaytonBocce
DTSTART;TZID=America/Los_Angeles:20251219T183000
DTEND;TZID=America/Los_Angeles:20251219T210000
STATUS:CONFIRMED
SUMMARY:No Bueno Bocce vs Untouchaballs
URL:/League/Schedule/2865
DESCRIPTION:Regular Season match: No Bueno Bocce vs Untoucha
 balls
LOCATION:CCIBA Court 1
END:VEVENT
BEGIN:VEVENT
DTSTAMP:20251107T000000Z
UID:de239871-d0ff-462c-ad0c-13f187614f0a@ClaytonBocce
DTSTART;TZID=America/Los_Angeles:20260109T183000
DTEND;TZID=America/Los_Angeles:20260109T210000
STATUS:CONFIRMED
SUMMARY:No Bueno Bocce vs Buncha Ballers
URL:/League/Schedule/2865
DESCRIPTION:Regular Season match: No Bueno Bocce vs Buncha B
 allers
LOCATION:CCIBA Court 3
END:VEVENT
BEGIN:VEVENT
DTSTAMP:20251107T000000Z
UID:d533f094-44ad-472a-829d-1c1ece81924d@ClaytonBocce
DTSTART;TZID=America/Los_Angeles:20260116T183000
DTEND;TZID=America/Los_Angeles:20260116T210000
STATUS:CONFIRMED
SUMMARY:No Bueno Bocce vs Mr Telephone Man
URL:/League/Schedule/2865
DESCRIPTION:Regular Season match: No Bueno Bocce vs Mr Telep
 hone Man
LOCATION:CCIBA Court 1
END:VEVENT
BEGIN:VEVENT
DTSTAMP:20251107T000000Z
UID:a63849e3-b767-4c69-bc40-08b3c63fd7d2@ClaytonBocce
DTSTART;TZID=America/Los_Angeles:20260123T183000
DTEND;TZID=America/Los_Angeles:20260123T210000
STATUS:CONFIRMED
SUMMARY:No Bueno Bocce vs Central Addition
URL:/League/Schedule/2865
DESCRIPTION:Regular Season match: No Bueno Bocce vs Central 
 Addition
LOCATION:CCIBA Court 4
END:VEVENT
BEGIN:VEVENT
DTSTAMP:20251107T000000Z
UID:8e9e7ec4-5ac7-48c1-af38-89cefb080b15@ClaytonBocce
DTSTART;TZID=America/Los_Angeles:20260130T183000
DTEND;TZID=America/Los_Angeles:20260130T210000
STATUS:CONFIRMED
SUMMARY:No Bueno Bocce vs So Perfetta
URL:/League/Schedule/2865
DESCRIPTION:Regular Season match: No Bueno Bocce vs So Perfe
 tta
LOCATION:CCIBA Court 6
END:VEVENT
BEGIN:VEVENT
DTSTAMP:20251107T000000Z
UID:a284075c-6f62-494b-aa76-3e8c0b81375d@ClaytonBocce
DTSTART;TZID=America/Los_Angeles:20260206T183000
DTEND;TZID=America/Los_Angeles:20260206T210000
STATUS:CONFIRMED
SUMMARY:No Bueno Bocce vs Blessed by 1
URL:/League/Schedule/2865
DESCRIPTION:Regular Season match: No Bueno Bocce vs Blessed 
 by 1
LOCATION:CCIBA Court 3
END:VEVENT
BEGIN:VEVENT
DTSTAMP:20251107T000000Z
UID:edd362b0-874a-47e4-917a-e4134a8e778b@ClaytonBocce
DTSTART;TZID=America/Los_Angeles:20260213T183000
DTEND;TZID=America/Los_Angeles:20260213T210000
STATUS:CONFIRMED
SUMMARY:No Bueno Bocce vs Livin' La Bocce Loca
URL:/League/Schedule/2865
DESCRIPTION:Regular Season match: No Bueno Bocce vs Livin' L
 a Bocce Loca
LOCATION:CCIBA Court 2
END:VEVENT
END:VCALENDAR
