BEGIN:VCALENDAR
VERSION:2.0
PRODID:-//Clayton Bocce League
METHOD:PUBLISH
BEGIN:VTIMEZONE
TZID:America/Los_Angeles
X-LIC-LOCATION:America/Los_Angeles
BEGIN:DAYLIGHT
TZOFFSETFROM:-0800
TZOFFSETTO:-0700
TZNAME:PDT
DTSTART:20070311T020000
RRULE:FREQ=YEARLY;BYMONTH=3;BYDAY=2SU
END:DAYLIGHT
BEGIN:STANDARD
TZOFFSETFROM:-0700
TZOFFSETTO:-0800
TZNAME:PST
DTSTART:20071104T020000
RRULE:FREQ=YEARLY;BYMONTH=11;BYDAY=1SU
END:STANDARD
END:VTIMEZONE
BEGIN:VEVENT
DTSTAMP:20251107T000000Z
UID:7963bc9a-174b-4cd2-a9e7-e69da2200838@ClaytonBocce
DTSTART;TZID=America/Los_Angeles:20251107T183000
DTEND;TZID=America/Los_Angeles:20251107T210000
STATUS:CONFIRMED
SUMMARY:Rolling Thunder vs No Bueno Bocce
URL:/League/Schedule/2862
DESCRIPTION:Regular Season match: Rolling Thunder vs No Buen
 o Bocce
LOCATION:CCIBA Court 5
END:VEVENT
BEGIN:VEVENT
DTSTAMP:20251107T000000Z
UID:96c9e249-15a8-4338-85ea-cd649624ddca@ClaytonBocce
DTSTART;TZID=America/Los_Angeles:20251114T183000
DTEND;TZID=America/Los_Angeles:20251114T210000
STATUS:CONFIRMED
SUMMARY:Rolling Thunder vs FuhgeddaBocce
URL:/League/Schedule/2862
DESCRIPTION:Regular Season match: Rolling Thunder vs Fuhgedd
 aBocce
LOCATION:CCIBA Court 6
END:VEVENT
BEGIN:VEVENT
DTSTAMP:20251107T000000Z
UID:2e15db71-7629-4afd-ad02-addc6f516205@ClaytonBocce
DTSTART;TZID=America/Los_Angeles:20251205T183000
DTEND;TZID=America/Los_Angeles:20251205T210000
STATUS:CONFIRMED
SUMMARY:Rolling Thunder vs Untouchaballs
URL:/League/Schedule/2862
DESCRIPTION:Regular Season match: Rolling Thunder vs Untouch
 aballs
LOCATION:CCIBA Court 3
END:VEVENT
BEGIN:VEVENT
DTSTAMP:20251107T000000Z
UID:52b4f9a5-a393-4e01-98e8-770b45663681@ClaytonBocce
DTSTART;TZID=America/Los_Angeles:20251212T183000
DTEND;TZID=America/Los_Angeles:20251212T210000
STATUS:CONFIRMED
SUMMARY:Rolling Thunder vs Buncha Ballers
URL:/League/Schedule/2862
DESCRIPTION:Regular Season match: Rolling Thunder vs Buncha 
 Ballers
LOCATION:CCIBA Court 6
END:VEVENT
BEGIN:VEVENT
DTSTAMP:20251107T000000Z
UID:01db7fe9-9bb3-4773-9346-0ee796d0f938@ClaytonBocce
DTSTART;TZID=America/Los_Angeles:20251219T183000
DTEND;TZID=America/Los_Angeles:20251219T210000
STATUS:CONFIRMED
SUMMARY:Rolling Thunder vs Mr Telephone Man
URL:/League/Schedule/2862
DESCRIPTION:Regular Season match: Rolling Thunder vs Mr Tele
 phone Man
LOCATION:CCIBA Court 4
END:VEVENT
BEGIN:VEVENT
DTSTAMP:20251107T000000Z
UID:ae7e0c6c-2d3c-43cd-807b-4bb2aca36c86@ClaytonBocce
DTSTART;TZID=America/Los_Angeles:20260109T183000
DTEND;TZID=America/Los_Angeles:20260109T210000
STATUS:CONFIRMED
SUMMARY:Rolling Thunder vs Central Addition
URL:/League/Schedule/2862
DESCRIPTION:Regular Season match: Rolling Thunder vs Central
  Addition
LOCATION:CCIBA Court 1
END:VEVENT
BEGIN:VEVENT
DTSTAMP:20251107T000000Z
UID:6bbf8c15-9f32-46f8-8b9b-a0d6bbf066fe@ClaytonBocce
DTSTART;TZID=America/Los_Angeles:20260116T183000
DTEND;TZID=America/Los_Angeles:20260116T210000
STATUS:CONFIRMED
SUMMARY:Rolling Thunder vs So Perfetta
URL:/League/Schedule/2862
DESCRIPTION:Regular Season match: Rolling Thunder vs So Perf
 etta
LOCATION:CCIBA Court 5
END:VEVENT
BEGIN:VEVENT
DTSTAMP:20251107T000000Z
UID:cfd7cf54-2119-4be8-9a8d-ee8bf3b7cf60@ClaytonBocce
DTSTART;TZID=America/Los_Angeles:20260123T183000
DTEND;TZID=America/Los_Angeles:20260123T210000
STATUS:CONFIRMED
SUMMARY:Rolling Thunder vs Blessed by 1
URL:/League/Schedule/2862
DESCRIPTION:Regular Season match: Rolling Thunder vs Blessed
  by 1
LOCATION:CCIBA Court 2
END:VEVENT
BEGIN:VEVENT
DTSTAMP:20251107T000000Z
UID:3115175d-d357-4e79-bc03-50a4c8f5cfcb@ClaytonBocce
DTSTART;TZID=America/Los_Angeles:20260130T183000
DTEND;TZID=America/Los_Angeles:20260130T210000
STATUS:CONFIRMED
SUMMARY:Rolling Thunder vs Livin' La Bocce Loca
URL:/League/Schedule/2862
DESCRIPTION:Regular Season match: Rolling Thunder vs Livin' 
 La Bocce Loca
LOCATION:CCIBA Court 1
END:VEVENT
BEGIN:VEVENT
DTSTAMP:20251107T000000Z
UID:f783f055-7457-4d56-b2ba-280de7e74f7d@ClaytonBocce
DTSTART;TZID=America/Los_Angeles:20260206T183000
DTEND;TZID=America/Los_Angeles:20260206T210000
STATUS:CONFIRMED
SUMMARY:Rolling Thunder vs Bocce Friends
URL:/League/Schedule/2862
DESCRIPTION:Regular Season match: Rolling Thunder vs Bocce F
 riends
LOCATION:CCIBA Court 4
END:VEVENT
END:VCALENDAR
