BEGIN:VCALENDAR
VERSION:2.0
PRODID:-//Clayton Bocce League
METHOD:PUBLISH
BEGIN:VTIMEZONE
TZID:America/Los_Angeles
X-LIC-LOCATION:America/Los_Angeles
BEGIN:DAYLIGHT
TZOFFSETFROM:-0800
TZOFFSETTO:-0700
TZNAME:PDT
DTSTART:20070311T020000
RRULE:FREQ=YEARLY;BYMONTH=3;BYDAY=2SU
END:DAYLIGHT
BEGIN:STANDARD
TZOFFSETFROM:-0700
TZOFFSETTO:-0800
TZNAME:PST
DTSTART:20071104T020000
RRULE:FREQ=YEARLY;BYMONTH=11;BYDAY=1SU
END:STANDARD
END:VTIMEZONE
BEGIN:VEVENT
DTSTAMP:20251107T000000Z
UID:622dabf9-fcd3-421c-85d3-cf99f73ed74c@ClaytonBocce
DTSTART;TZID=America/Los_Angeles:20251107T183000
DTEND;TZID=America/Los_Angeles:20251107T210000
STATUS:CONFIRMED
SUMMARY:FuhgeddaBocce vs Livin' La Bocce Loca
URL:/League/Schedule/2866
DESCRIPTION:Regular Season match: FuhgeddaBocce vs Livin' La
  Bocce Loca
LOCATION:CCIBA Court 3
END:VEVENT
BEGIN:VEVENT
DTSTAMP:20251107T000000Z
UID:96c9e249-15a8-4338-85ea-cd649624ddca@ClaytonBocce
DTSTART;TZID=America/Los_Angeles:20251114T183000
DTEND;TZID=America/Los_Angeles:20251114T210000
STATUS:CONFIRMED
SUMMARY:FuhgeddaBocce vs Rolling Thunder
URL:/League/Schedule/2866
DESCRIPTION:Regular Season match: FuhgeddaBocce vs Rolling T
 hunder
LOCATION:CCIBA Court 6
END:VEVENT
BEGIN:VEVENT
DTSTAMP:20251107T000000Z
UID:c2bcd032-dce2-4d8d-9ba6-7aaaafb21f5e@ClaytonBocce
DTSTART;TZID=America/Los_Angeles:20251212T183000
DTEND;TZID=America/Los_Angeles:20251212T210000
STATUS:CONFIRMED
SUMMARY:FuhgeddaBocce vs No Bueno Bocce
URL:/League/Schedule/2866
DESCRIPTION:Regular Season match: FuhgeddaBocce vs No Bueno 
 Bocce
LOCATION:CCIBA Court 4
END:VEVENT
BEGIN:VEVENT
DTSTAMP:20251107T000000Z
UID:341f6479-1ec1-4b4b-9d57-510031130154@ClaytonBocce
DTSTART;TZID=America/Los_Angeles:20251219T183000
DTEND;TZID=America/Los_Angeles:20251219T210000
STATUS:CONFIRMED
SUMMARY:FuhgeddaBocce vs Bocce Friends
URL:/League/Schedule/2866
DESCRIPTION:Regular Season match: FuhgeddaBocce vs Bocce Fri
 ends
LOCATION:CCIBA Court 2
END:VEVENT
BEGIN:VEVENT
DTSTAMP:20251107T000000Z
UID:a8fd53e6-0b4a-416d-9ddf-32bc2b9996c7@ClaytonBocce
DTSTART;TZID=America/Los_Angeles:20260109T183000
DTEND;TZID=America/Los_Angeles:20260109T210000
STATUS:CONFIRMED
SUMMARY:FuhgeddaBocce vs Untouchaballs
URL:/League/Schedule/2866
DESCRIPTION:Regular Season match: FuhgeddaBocce vs Untouchab
 alls
LOCATION:CCIBA Court 5
END:VEVENT
BEGIN:VEVENT
DTSTAMP:20251107T000000Z
UID:1c705838-5ad4-4480-b998-04cb97a817f0@ClaytonBocce
DTSTART;TZID=America/Los_Angeles:20260116T183000
DTEND;TZID=America/Los_Angeles:20260116T210000
STATUS:CONFIRMED
SUMMARY:FuhgeddaBocce vs Buncha Ballers
URL:/League/Schedule/2866
DESCRIPTION:Regular Season match: FuhgeddaBocce vs Buncha Ba
 llers
LOCATION:CCIBA Court 2
END:VEVENT
BEGIN:VEVENT
DTSTAMP:20251107T000000Z
UID:3fe8ac3f-19b1-473f-b432-6e065647d1bc@ClaytonBocce
DTSTART;TZID=America/Los_Angeles:20260123T183000
DTEND;TZID=America/Los_Angeles:20260123T210000
STATUS:CONFIRMED
SUMMARY:FuhgeddaBocce vs Mr Telephone Man
URL:/League/Schedule/2866
DESCRIPTION:Regular Season match: FuhgeddaBocce vs Mr Teleph
 one Man
LOCATION:CCIBA Court 3
END:VEVENT
BEGIN:VEVENT
DTSTAMP:20251107T000000Z
UID:69580204-39cd-40aa-aa2c-ddbd88e44c98@ClaytonBocce
DTSTART;TZID=America/Los_Angeles:20260130T183000
DTEND;TZID=America/Los_Angeles:20260130T210000
STATUS:CONFIRMED
SUMMARY:FuhgeddaBocce vs Central Addition
URL:/League/Schedule/2866
DESCRIPTION:Regular Season match: FuhgeddaBocce vs Central A
 ddition
LOCATION:CCIBA Court 5
END:VEVENT
BEGIN:VEVENT
DTSTAMP:20251107T000000Z
UID:1b8bc73c-0f67-4acb-8b2e-51fa62182521@ClaytonBocce
DTSTART;TZID=America/Los_Angeles:20260206T183000
DTEND;TZID=America/Los_Angeles:20260206T210000
STATUS:CONFIRMED
SUMMARY:FuhgeddaBocce vs So Perfetta
URL:/League/Schedule/2866
DESCRIPTION:Regular Season match: FuhgeddaBocce vs So Perfet
 ta
LOCATION:CCIBA Court 1
END:VEVENT
BEGIN:VEVENT
DTSTAMP:20251107T000000Z
UID:1f3fadbb-3af4-42bb-aead-012d0b0ee0ed@ClaytonBocce
DTSTART;TZID=America/Los_Angeles:20260213T183000
DTEND;TZID=America/Los_Angeles:20260213T210000
STATUS:CONFIRMED
SUMMARY:FuhgeddaBocce vs Blessed by 1
URL:/League/Schedule/2866
DESCRIPTION:Regular Season match: FuhgeddaBocce vs Blessed b
 y 1
LOCATION:CCIBA Court 4
END:VEVENT
END:VCALENDAR
