BEGIN:VCALENDAR
VERSION:2.0
PRODID:-//Clayton Bocce League
METHOD:PUBLISH
BEGIN:VTIMEZONE
TZID:America/Los_Angeles
X-LIC-LOCATION:America/Los_Angeles
BEGIN:DAYLIGHT
TZOFFSETFROM:-0800
TZOFFSETTO:-0700
TZNAME:PDT
DTSTART:20070311T020000
RRULE:FREQ=YEARLY;BYMONTH=3;BYDAY=2SU
END:DAYLIGHT
BEGIN:STANDARD
TZOFFSETFROM:-0700
TZOFFSETTO:-0800
TZNAME:PST
DTSTART:20071104T020000
RRULE:FREQ=YEARLY;BYMONTH=11;BYDAY=1SU
END:STANDARD
END:VTIMEZONE
BEGIN:VEVENT
DTSTAMP:20251107T000000Z
UID:622dabf9-fcd3-421c-85d3-cf99f73ed74c@ClaytonBocce
DTSTART;TZID=America/Los_Angeles:20251107T183000
DTEND;TZID=America/Los_Angeles:20251107T210000
STATUS:CONFIRMED
SUMMARY:Livin' La Bocce Loca vs FuhgeddaBocce
URL:/League/Schedule/2861
DESCRIPTION:Regular Season match: Livin' La Bocce Loca vs Fu
 hgeddaBocce
LOCATION:CCIBA Court 3
END:VEVENT
BEGIN:VEVENT
DTSTAMP:20251107T000000Z
UID:30a45876-bd69-493f-8275-277dbbff8be3@ClaytonBocce
DTSTART;TZID=America/Los_Angeles:20251114T183000
DTEND;TZID=America/Los_Angeles:20251114T210000
STATUS:CONFIRMED
SUMMARY:Livin' La Bocce Loca vs Untouchaballs
URL:/League/Schedule/2861
DESCRIPTION:Regular Season match: Livin' La Bocce Loca vs Un
 touchaballs
LOCATION:CCIBA Court 5
END:VEVENT
BEGIN:VEVENT
DTSTAMP:20251107T000000Z
UID:95ac3f71-1fe5-4791-a7ee-7be287567a58@ClaytonBocce
DTSTART;TZID=America/Los_Angeles:20251205T183000
DTEND;TZID=America/Los_Angeles:20251205T210000
STATUS:CONFIRMED
SUMMARY:Livin' La Bocce Loca vs Buncha Ballers
URL:/League/Schedule/2861
DESCRIPTION:Regular Season match: Livin' La Bocce Loca vs Bu
 ncha Ballers
LOCATION:CCIBA Court 4
END:VEVENT
BEGIN:VEVENT
DTSTAMP:20251107T000000Z
UID:e5ef4056-61bf-469a-946c-182a79d6b0cb@ClaytonBocce
DTSTART;TZID=America/Los_Angeles:20251212T183000
DTEND;TZID=America/Los_Angeles:20251212T210000
STATUS:CONFIRMED
SUMMARY:Livin' La Bocce Loca vs Mr Telephone Man
URL:/League/Schedule/2861
DESCRIPTION:Regular Season match: Livin' La Bocce Loca vs Mr
  Telephone Man
LOCATION:CCIBA Court 2
END:VEVENT
BEGIN:VEVENT
DTSTAMP:20251107T000000Z
UID:1adcd790-42d8-412e-9e39-15dbb740333c@ClaytonBocce
DTSTART;TZID=America/Los_Angeles:20251219T183000
DTEND;TZID=America/Los_Angeles:20251219T210000
STATUS:CONFIRMED
SUMMARY:Livin' La Bocce Loca vs Central Addition
URL:/League/Schedule/2861
DESCRIPTION:Regular Season match: Livin' La Bocce Loca vs Ce
 ntral Addition
LOCATION:CCIBA Court 6
END:VEVENT
BEGIN:VEVENT
DTSTAMP:20251107T000000Z
UID:225821a6-4858-4b8f-96b3-33ca87871d9d@ClaytonBocce
DTSTART;TZID=America/Los_Angeles:20260109T183000
DTEND;TZID=America/Los_Angeles:20260109T210000
STATUS:CONFIRMED
SUMMARY:Livin' La Bocce Loca vs So Perfetta
URL:/League/Schedule/2861
DESCRIPTION:Regular Season match: Livin' La Bocce Loca vs So
  Perfetta
LOCATION:CCIBA Court 2
END:VEVENT
BEGIN:VEVENT
DTSTAMP:20251107T000000Z
UID:f4734942-be11-43e6-b3b4-7f58853873e7@ClaytonBocce
DTSTART;TZID=America/Los_Angeles:20260116T183000
DTEND;TZID=America/Los_Angeles:20260116T210000
STATUS:CONFIRMED
SUMMARY:Livin' La Bocce Loca vs Blessed by 1
URL:/League/Schedule/2861
DESCRIPTION:Regular Season match: Livin' La Bocce Loca vs Bl
 essed by 1
LOCATION:CCIBA Court 6
END:VEVENT
BEGIN:VEVENT
DTSTAMP:20251107T000000Z
UID:d7cb44f1-17f7-4d38-8e4b-7d000d7000d5@ClaytonBocce
DTSTART;TZID=America/Los_Angeles:20260123T183000
DTEND;TZID=America/Los_Angeles:20260123T210000
STATUS:CONFIRMED
SUMMARY:Livin' La Bocce Loca vs Bocce Friends
URL:/League/Schedule/2861
DESCRIPTION:Regular Season match: Livin' La Bocce Loca vs Bo
 cce Friends
LOCATION:CCIBA Court 5
END:VEVENT
BEGIN:VEVENT
DTSTAMP:20251107T000000Z
UID:3115175d-d357-4e79-bc03-50a4c8f5cfcb@ClaytonBocce
DTSTART;TZID=America/Los_Angeles:20260130T183000
DTEND;TZID=America/Los_Angeles:20260130T210000
STATUS:CONFIRMED
SUMMARY:Livin' La Bocce Loca vs Rolling Thunder
URL:/League/Schedule/2861
DESCRIPTION:Regular Season match: Livin' La Bocce Loca vs Ro
 lling Thunder
LOCATION:CCIBA Court 1
END:VEVENT
BEGIN:VEVENT
DTSTAMP:20251107T000000Z
UID:edd362b0-874a-47e4-917a-e4134a8e778b@ClaytonBocce
DTSTART;TZID=America/Los_Angeles:20260213T183000
DTEND;TZID=America/Los_Angeles:20260213T210000
STATUS:CONFIRMED
SUMMARY:Livin' La Bocce Loca vs No Bueno Bocce
URL:/League/Schedule/2861
DESCRIPTION:Regular Season match: Livin' La Bocce Loca vs No
  Bueno Bocce
LOCATION:CCIBA Court 2
END:VEVENT
END:VCALENDAR
