BEGIN:VCALENDAR
VERSION:2.0
PRODID:-//Clayton Bocce League
METHOD:PUBLISH
BEGIN:VTIMEZONE
TZID:America/Los_Angeles
X-LIC-LOCATION:America/Los_Angeles
BEGIN:DAYLIGHT
TZOFFSETFROM:-0800
TZOFFSETTO:-0700
TZNAME:PDT
DTSTART:20070311T020000
RRULE:FREQ=YEARLY;BYMONTH=3;BYDAY=2SU
END:DAYLIGHT
BEGIN:STANDARD
TZOFFSETFROM:-0700
TZOFFSETTO:-0800
TZNAME:PST
DTSTART:20071104T020000
RRULE:FREQ=YEARLY;BYMONTH=11;BYDAY=1SU
END:STANDARD
END:VTIMEZONE
BEGIN:VEVENT
DTSTAMP:20251107T000000Z
UID:e10906ea-cdf0-4f07-8e1e-918f1e982f92@ClaytonBocce
DTSTART;TZID=America/Los_Angeles:20251107T183000
DTEND;TZID=America/Los_Angeles:20251107T210000
STATUS:CONFIRMED
SUMMARY:So Perfetta vs Buncha Ballers
URL:/League/Schedule/2860
DESCRIPTION:Regular Season match: So Perfetta vs Buncha Ball
 ers
LOCATION:CCIBA Court 4
END:VEVENT
BEGIN:VEVENT
DTSTAMP:20251107T000000Z
UID:e25d2a46-8562-41dd-be31-fb1c1a049f36@ClaytonBocce
DTSTART;TZID=America/Los_Angeles:20251114T183000
DTEND;TZID=America/Los_Angeles:20251114T210000
STATUS:CONFIRMED
SUMMARY:So Perfetta vs Mr Telephone Man
URL:/League/Schedule/2860
DESCRIPTION:Regular Season match: So Perfetta vs Mr Telephon
 e Man
LOCATION:CCIBA Court 3
END:VEVENT
BEGIN:VEVENT
DTSTAMP:20251107T000000Z
UID:38c79163-89f1-4bdc-9fba-5bcc0b9e505a@ClaytonBocce
DTSTART;TZID=America/Los_Angeles:20251205T183000
DTEND;TZID=America/Los_Angeles:20251205T210000
STATUS:CONFIRMED
SUMMARY:So Perfetta vs Central Addition
URL:/League/Schedule/2860
DESCRIPTION:Regular Season match: So Perfetta vs Central Add
 ition
LOCATION:CCIBA Court 2
END:VEVENT
BEGIN:VEVENT
DTSTAMP:20251107T000000Z
UID:d904eda7-d800-4054-bb00-42a597ff1f1f@ClaytonBocce
DTSTART;TZID=America/Los_Angeles:20251212T183000
DTEND;TZID=America/Los_Angeles:20251212T210000
STATUS:CONFIRMED
SUMMARY:So Perfetta vs Bocce Friends
URL:/League/Schedule/2860
DESCRIPTION:Regular Season match: So Perfetta vs Bocce Frien
 ds
LOCATION:CCIBA Court 1
END:VEVENT
BEGIN:VEVENT
DTSTAMP:20251107T000000Z
UID:1373cac3-d93c-460a-9dcd-c7587820da29@ClaytonBocce
DTSTART;TZID=America/Los_Angeles:20251219T183000
DTEND;TZID=America/Los_Angeles:20251219T210000
STATUS:CONFIRMED
SUMMARY:So Perfetta vs Blessed by 1
URL:/League/Schedule/2860
DESCRIPTION:Regular Season match: So Perfetta vs Blessed by 
 1
LOCATION:CCIBA Court 5
END:VEVENT
BEGIN:VEVENT
DTSTAMP:20251107T000000Z
UID:225821a6-4858-4b8f-96b3-33ca87871d9d@ClaytonBocce
DTSTART;TZID=America/Los_Angeles:20260109T183000
DTEND;TZID=America/Los_Angeles:20260109T210000
STATUS:CONFIRMED
SUMMARY:So Perfetta vs Livin' La Bocce Loca
URL:/League/Schedule/2860
DESCRIPTION:Regular Season match: So Perfetta vs Livin' La B
 occe Loca
LOCATION:CCIBA Court 2
END:VEVENT
BEGIN:VEVENT
DTSTAMP:20251107T000000Z
UID:6bbf8c15-9f32-46f8-8b9b-a0d6bbf066fe@ClaytonBocce
DTSTART;TZID=America/Los_Angeles:20260116T183000
DTEND;TZID=America/Los_Angeles:20260116T210000
STATUS:CONFIRMED
SUMMARY:So Perfetta vs Rolling Thunder
URL:/League/Schedule/2860
DESCRIPTION:Regular Season match: So Perfetta vs Rolling Thu
 nder
LOCATION:CCIBA Court 5
END:VEVENT
BEGIN:VEVENT
DTSTAMP:20251107T000000Z
UID:8e9e7ec4-5ac7-48c1-af38-89cefb080b15@ClaytonBocce
DTSTART;TZID=America/Los_Angeles:20260130T183000
DTEND;TZID=America/Los_Angeles:20260130T210000
STATUS:CONFIRMED
SUMMARY:So Perfetta vs No Bueno Bocce
URL:/League/Schedule/2860
DESCRIPTION:Regular Season match: So Perfetta vs No Bueno Bo
 cce
LOCATION:CCIBA Court 6
END:VEVENT
BEGIN:VEVENT
DTSTAMP:20251107T000000Z
UID:1b8bc73c-0f67-4acb-8b2e-51fa62182521@ClaytonBocce
DTSTART;TZID=America/Los_Angeles:20260206T183000
DTEND;TZID=America/Los_Angeles:20260206T210000
STATUS:CONFIRMED
SUMMARY:So Perfetta vs FuhgeddaBocce
URL:/League/Schedule/2860
DESCRIPTION:Regular Season match: So Perfetta vs FuhgeddaBoc
 ce
LOCATION:CCIBA Court 1
END:VEVENT
BEGIN:VEVENT
DTSTAMP:20251107T000000Z
UID:3e6c03b0-7a69-4c37-96c7-a1e3fa4f8b57@ClaytonBocce
DTSTART;TZID=America/Los_Angeles:20260213T183000
DTEND;TZID=America/Los_Angeles:20260213T210000
STATUS:CONFIRMED
SUMMARY:So Perfetta vs Untouchaballs
URL:/League/Schedule/2860
DESCRIPTION:Regular Season match: So Perfetta vs Untouchabal
 ls
LOCATION:CCIBA Court 5
END:VEVENT
END:VCALENDAR
