BEGIN:VCALENDAR
VERSION:2.0
PRODID:-//Clayton Bocce League
METHOD:PUBLISH
BEGIN:VTIMEZONE
TZID:America/Los_Angeles
X-LIC-LOCATION:America/Los_Angeles
BEGIN:DAYLIGHT
TZOFFSETFROM:-0800
TZOFFSETTO:-0700
TZNAME:PDT
DTSTART:20070311T020000
RRULE:FREQ=YEARLY;BYMONTH=3;BYDAY=2SU
END:DAYLIGHT
BEGIN:STANDARD
TZOFFSETFROM:-0700
TZOFFSETTO:-0800
TZNAME:PST
DTSTART:20071104T020000
RRULE:FREQ=YEARLY;BYMONTH=11;BYDAY=1SU
END:STANDARD
END:VTIMEZONE
BEGIN:VEVENT
DTSTAMP:20251107T000000Z
UID:e10906ea-cdf0-4f07-8e1e-918f1e982f92@ClaytonBocce
DTSTART;TZID=America/Los_Angeles:20251107T183000
DTEND;TZID=America/Los_Angeles:20251107T210000
STATUS:CONFIRMED
SUMMARY:Buncha Ballers vs So Perfetta
URL:/League/Schedule/2859
DESCRIPTION:Regular Season match: Buncha Ballers vs So Perfe
 tta
LOCATION:CCIBA Court 4
END:VEVENT
BEGIN:VEVENT
DTSTAMP:20251107T000000Z
UID:8a135047-0a61-490b-872c-e03b3c412afa@ClaytonBocce
DTSTART;TZID=America/Los_Angeles:20251114T183000
DTEND;TZID=America/Los_Angeles:20251114T210000
STATUS:CONFIRMED
SUMMARY:Buncha Ballers vs Blessed by 1
URL:/League/Schedule/2859
DESCRIPTION:Regular Season match: Buncha Ballers vs Blessed 
 by 1
LOCATION:CCIBA Court 1
END:VEVENT
BEGIN:VEVENT
DTSTAMP:20251107T000000Z
UID:95ac3f71-1fe5-4791-a7ee-7be287567a58@ClaytonBocce
DTSTART;TZID=America/Los_Angeles:20251205T183000
DTEND;TZID=America/Los_Angeles:20251205T210000
STATUS:CONFIRMED
SUMMARY:Buncha Ballers vs Livin' La Bocce Loca
URL:/League/Schedule/2859
DESCRIPTION:Regular Season match: Buncha Ballers vs Livin' L
 a Bocce Loca
LOCATION:CCIBA Court 4
END:VEVENT
BEGIN:VEVENT
DTSTAMP:20251107T000000Z
UID:52b4f9a5-a393-4e01-98e8-770b45663681@ClaytonBocce
DTSTART;TZID=America/Los_Angeles:20251212T183000
DTEND;TZID=America/Los_Angeles:20251212T210000
STATUS:CONFIRMED
SUMMARY:Buncha Ballers vs Rolling Thunder
URL:/League/Schedule/2859
DESCRIPTION:Regular Season match: Buncha Ballers vs Rolling 
 Thunder
LOCATION:CCIBA Court 6
END:VEVENT
BEGIN:VEVENT
DTSTAMP:20251107T000000Z
UID:de239871-d0ff-462c-ad0c-13f187614f0a@ClaytonBocce
DTSTART;TZID=America/Los_Angeles:20260109T183000
DTEND;TZID=America/Los_Angeles:20260109T210000
STATUS:CONFIRMED
SUMMARY:Buncha Ballers vs No Bueno Bocce
URL:/League/Schedule/2859
DESCRIPTION:Regular Season match: Buncha Ballers vs No Bueno
  Bocce
LOCATION:CCIBA Court 3
END:VEVENT
BEGIN:VEVENT
DTSTAMP:20251107T000000Z
UID:1c705838-5ad4-4480-b998-04cb97a817f0@ClaytonBocce
DTSTART;TZID=America/Los_Angeles:20260116T183000
DTEND;TZID=America/Los_Angeles:20260116T210000
STATUS:CONFIRMED
SUMMARY:Buncha Ballers vs FuhgeddaBocce
URL:/League/Schedule/2859
DESCRIPTION:Regular Season match: Buncha Ballers vs Fuhgedda
 Bocce
LOCATION:CCIBA Court 2
END:VEVENT
BEGIN:VEVENT
DTSTAMP:20251107T000000Z
UID:6f69ccb4-17a9-41c0-851b-b94954003f4f@ClaytonBocce
DTSTART;TZID=America/Los_Angeles:20260123T183000
DTEND;TZID=America/Los_Angeles:20260123T210000
STATUS:CONFIRMED
SUMMARY:Buncha Ballers vs Untouchaballs
URL:/League/Schedule/2859
DESCRIPTION:Regular Season match: Buncha Ballers vs Untoucha
 balls
LOCATION:CCIBA Court 6
END:VEVENT
BEGIN:VEVENT
DTSTAMP:20251107T000000Z
UID:00654634-cb70-4e62-9980-7b6b2dce6081@ClaytonBocce
DTSTART;TZID=America/Los_Angeles:20260130T183000
DTEND;TZID=America/Los_Angeles:20260130T210000
STATUS:CONFIRMED
SUMMARY:Buncha Ballers vs Bocce Friends
URL:/League/Schedule/2859
DESCRIPTION:Regular Season match: Buncha Ballers vs Bocce Fr
 iends
LOCATION:CCIBA Court 3
END:VEVENT
BEGIN:VEVENT
DTSTAMP:20251107T000000Z
UID:f114be5a-e897-4e4e-aff2-1fde92892eaa@ClaytonBocce
DTSTART;TZID=America/Los_Angeles:20260206T183000
DTEND;TZID=America/Los_Angeles:20260206T210000
STATUS:CONFIRMED
SUMMARY:Buncha Ballers vs Mr Telephone Man
URL:/League/Schedule/2859
DESCRIPTION:Regular Season match: Buncha Ballers vs Mr Telep
 hone Man
LOCATION:CCIBA Court 5
END:VEVENT
BEGIN:VEVENT
DTSTAMP:20251107T000000Z
UID:b2e48604-3823-486a-b501-1bb8f3ad55ae@ClaytonBocce
DTSTART;TZID=America/Los_Angeles:20260213T183000
DTEND;TZID=America/Los_Angeles:20260213T210000
STATUS:CONFIRMED
SUMMARY:Buncha Ballers vs Central Addition
URL:/League/Schedule/2859
DESCRIPTION:Regular Season match: Buncha Ballers vs Central 
 Addition
LOCATION:CCIBA Court 1
END:VEVENT
END:VCALENDAR
