BEGIN:VCALENDAR
VERSION:2.0
PRODID:-//Clayton Bocce League
METHOD:PUBLISH
BEGIN:VTIMEZONE
TZID:America/Los_Angeles
X-LIC-LOCATION:America/Los_Angeles
BEGIN:DAYLIGHT
TZOFFSETFROM:-0800
TZOFFSETTO:-0700
TZNAME:PDT
DTSTART:20070311T020000
RRULE:FREQ=YEARLY;BYMONTH=3;BYDAY=2SU
END:DAYLIGHT
BEGIN:STANDARD
TZOFFSETFROM:-0700
TZOFFSETTO:-0800
TZNAME:PST
DTSTART:20071104T020000
RRULE:FREQ=YEARLY;BYMONTH=11;BYDAY=1SU
END:STANDARD
END:VTIMEZONE
BEGIN:VEVENT
DTSTAMP:20251107T000000Z
UID:157b9664-918b-4576-b94e-2d302824a1e3@ClaytonBocce
DTSTART;TZID=America/Los_Angeles:20251114T183000
DTEND;TZID=America/Los_Angeles:20251114T210000
STATUS:CONFIRMED
SUMMARY:Bocce Friends vs Central Addition
URL:/League/Schedule/2858
DESCRIPTION:Regular Season match: Bocce Friends vs Central A
 ddition
LOCATION:CCIBA Court 4
END:VEVENT
BEGIN:VEVENT
DTSTAMP:20251107T000000Z
UID:b4beb8e0-a931-4d95-874c-8da8725836f5@ClaytonBocce
DTSTART;TZID=America/Los_Angeles:20251205T183000
DTEND;TZID=America/Los_Angeles:20251205T210000
STATUS:CONFIRMED
SUMMARY:Bocce Friends vs No Bueno Bocce
URL:/League/Schedule/2858
DESCRIPTION:Regular Season match: Bocce Friends vs No Bueno 
 Bocce
LOCATION:CCIBA Court 6
END:VEVENT
BEGIN:VEVENT
DTSTAMP:20251107T000000Z
UID:d904eda7-d800-4054-bb00-42a597ff1f1f@ClaytonBocce
DTSTART;TZID=America/Los_Angeles:20251212T183000
DTEND;TZID=America/Los_Angeles:20251212T210000
STATUS:CONFIRMED
SUMMARY:Bocce Friends vs So Perfetta
URL:/League/Schedule/2858
DESCRIPTION:Regular Season match: Bocce Friends vs So Perfet
 ta
LOCATION:CCIBA Court 1
END:VEVENT
BEGIN:VEVENT
DTSTAMP:20251107T000000Z
UID:341f6479-1ec1-4b4b-9d57-510031130154@ClaytonBocce
DTSTART;TZID=America/Los_Angeles:20251219T183000
DTEND;TZID=America/Los_Angeles:20251219T210000
STATUS:CONFIRMED
SUMMARY:Bocce Friends vs FuhgeddaBocce
URL:/League/Schedule/2858
DESCRIPTION:Regular Season match: Bocce Friends vs FuhgeddaB
 occe
LOCATION:CCIBA Court 2
END:VEVENT
BEGIN:VEVENT
DTSTAMP:20251107T000000Z
UID:e5cf1b84-7135-45ec-8147-fc15fd89b6a4@ClaytonBocce
DTSTART;TZID=America/Los_Angeles:20260109T183000
DTEND;TZID=America/Los_Angeles:20260109T210000
STATUS:CONFIRMED
SUMMARY:Bocce Friends vs Blessed by 1
URL:/League/Schedule/2858
DESCRIPTION:Regular Season match: Bocce Friends vs Blessed b
 y 1
LOCATION:CCIBA Court 4
END:VEVENT
BEGIN:VEVENT
DTSTAMP:20251107T000000Z
UID:835962fa-a211-410b-ac76-0f76a81430f0@ClaytonBocce
DTSTART;TZID=America/Los_Angeles:20260116T183000
DTEND;TZID=America/Los_Angeles:20260116T210000
STATUS:CONFIRMED
SUMMARY:Bocce Friends vs Untouchaballs
URL:/League/Schedule/2858
DESCRIPTION:Regular Season match: Bocce Friends vs Untouchab
 alls
LOCATION:CCIBA Court 3
END:VEVENT
BEGIN:VEVENT
DTSTAMP:20251107T000000Z
UID:d7cb44f1-17f7-4d38-8e4b-7d000d7000d5@ClaytonBocce
DTSTART;TZID=America/Los_Angeles:20260123T183000
DTEND;TZID=America/Los_Angeles:20260123T210000
STATUS:CONFIRMED
SUMMARY:Bocce Friends vs Livin' La Bocce Loca
URL:/League/Schedule/2858
DESCRIPTION:Regular Season match: Bocce Friends vs Livin' La
  Bocce Loca
LOCATION:CCIBA Court 5
END:VEVENT
BEGIN:VEVENT
DTSTAMP:20251107T000000Z
UID:00654634-cb70-4e62-9980-7b6b2dce6081@ClaytonBocce
DTSTART;TZID=America/Los_Angeles:20260130T183000
DTEND;TZID=America/Los_Angeles:20260130T210000
STATUS:CONFIRMED
SUMMARY:Bocce Friends vs Buncha Ballers
URL:/League/Schedule/2858
DESCRIPTION:Regular Season match: Bocce Friends vs Buncha Ba
 llers
LOCATION:CCIBA Court 3
END:VEVENT
BEGIN:VEVENT
DTSTAMP:20251107T000000Z
UID:f783f055-7457-4d56-b2ba-280de7e74f7d@ClaytonBocce
DTSTART;TZID=America/Los_Angeles:20260206T183000
DTEND;TZID=America/Los_Angeles:20260206T210000
STATUS:CONFIRMED
SUMMARY:Bocce Friends vs Rolling Thunder
URL:/League/Schedule/2858
DESCRIPTION:Regular Season match: Bocce Friends vs Rolling T
 hunder
LOCATION:CCIBA Court 4
END:VEVENT
BEGIN:VEVENT
DTSTAMP:20251107T000000Z
UID:bec75c2b-fa8b-4ffa-b86a-729e5b5a1df1@ClaytonBocce
DTSTART;TZID=America/Los_Angeles:20260213T183000
DTEND;TZID=America/Los_Angeles:20260213T210000
STATUS:CONFIRMED
SUMMARY:Bocce Friends vs Mr Telephone Man
URL:/League/Schedule/2858
DESCRIPTION:Regular Season match: Bocce Friends vs Mr Teleph
 one Man
LOCATION:CCIBA Court 6
END:VEVENT
END:VCALENDAR
