BEGIN:VCALENDAR
VERSION:2.0
PRODID:-//Clayton Bocce League
METHOD:PUBLISH
BEGIN:VTIMEZONE
TZID:America/Los_Angeles
X-LIC-LOCATION:America/Los_Angeles
BEGIN:DAYLIGHT
TZOFFSETFROM:-0800
TZOFFSETTO:-0700
TZNAME:PDT
DTSTART:20070311T020000
RRULE:FREQ=YEARLY;BYMONTH=3;BYDAY=2SU
END:DAYLIGHT
BEGIN:STANDARD
TZOFFSETFROM:-0700
TZOFFSETTO:-0800
TZNAME:PST
DTSTART:20071104T020000
RRULE:FREQ=YEARLY;BYMONTH=11;BYDAY=1SU
END:STANDARD
END:VTIMEZONE
BEGIN:VEVENT
DTSTAMP:20251107T000000Z
UID:d851af91-b6f5-498c-8d2f-784d8b389173@ClaytonBocce
DTSTART;TZID=America/Los_Angeles:20251107T183000
DTEND;TZID=America/Los_Angeles:20251107T210000
STATUS:CONFIRMED
SUMMARY:Untouchaballs vs Blessed by 1
URL:/League/Schedule/2867
DESCRIPTION:Regular Season match: Untouchaballs vs Blessed b
 y 1
LOCATION:CCIBA Court 2
END:VEVENT
BEGIN:VEVENT
DTSTAMP:20251107T000000Z
UID:30a45876-bd69-493f-8275-277dbbff8be3@ClaytonBocce
DTSTART;TZID=America/Los_Angeles:20251114T183000
DTEND;TZID=America/Los_Angeles:20251114T210000
STATUS:CONFIRMED
SUMMARY:Untouchaballs vs Livin' La Bocce Loca
URL:/League/Schedule/2867
DESCRIPTION:Regular Season match: Untouchaballs vs Livin' La
  Bocce Loca
LOCATION:CCIBA Court 5
END:VEVENT
BEGIN:VEVENT
DTSTAMP:20251107T000000Z
UID:2e15db71-7629-4afd-ad02-addc6f516205@ClaytonBocce
DTSTART;TZID=America/Los_Angeles:20251205T183000
DTEND;TZID=America/Los_Angeles:20251205T210000
STATUS:CONFIRMED
SUMMARY:Untouchaballs vs Rolling Thunder
URL:/League/Schedule/2867
DESCRIPTION:Regular Season match: Untouchaballs vs Rolling T
 hunder
LOCATION:CCIBA Court 3
END:VEVENT
BEGIN:VEVENT
DTSTAMP:20251107T000000Z
UID:77c01436-f9a2-4c9c-ab16-915eef5a1266@ClaytonBocce
DTSTART;TZID=America/Los_Angeles:20251219T183000
DTEND;TZID=America/Los_Angeles:20251219T210000
STATUS:CONFIRMED
SUMMARY:Untouchaballs vs No Bueno Bocce
URL:/League/Schedule/2867
DESCRIPTION:Regular Season match: Untouchaballs vs No Bueno 
 Bocce
LOCATION:CCIBA Court 1
END:VEVENT
BEGIN:VEVENT
DTSTAMP:20251107T000000Z
UID:a8fd53e6-0b4a-416d-9ddf-32bc2b9996c7@ClaytonBocce
DTSTART;TZID=America/Los_Angeles:20260109T183000
DTEND;TZID=America/Los_Angeles:20260109T210000
STATUS:CONFIRMED
SUMMARY:Untouchaballs vs FuhgeddaBocce
URL:/League/Schedule/2867
DESCRIPTION:Regular Season match: Untouchaballs vs FuhgeddaB
 occe
LOCATION:CCIBA Court 5
END:VEVENT
BEGIN:VEVENT
DTSTAMP:20251107T000000Z
UID:835962fa-a211-410b-ac76-0f76a81430f0@ClaytonBocce
DTSTART;TZID=America/Los_Angeles:20260116T183000
DTEND;TZID=America/Los_Angeles:20260116T210000
STATUS:CONFIRMED
SUMMARY:Untouchaballs vs Bocce Friends
URL:/League/Schedule/2867
DESCRIPTION:Regular Season match: Untouchaballs vs Bocce Fri
 ends
LOCATION:CCIBA Court 3
END:VEVENT
BEGIN:VEVENT
DTSTAMP:20251107T000000Z
UID:6f69ccb4-17a9-41c0-851b-b94954003f4f@ClaytonBocce
DTSTART;TZID=America/Los_Angeles:20260123T183000
DTEND;TZID=America/Los_Angeles:20260123T210000
STATUS:CONFIRMED
SUMMARY:Untouchaballs vs Buncha Ballers
URL:/League/Schedule/2867
DESCRIPTION:Regular Season match: Untouchaballs vs Buncha Ba
 llers
LOCATION:CCIBA Court 6
END:VEVENT
BEGIN:VEVENT
DTSTAMP:20251107T000000Z
UID:29971ecf-6126-4f7e-8c07-3de48219cf4b@ClaytonBocce
DTSTART;TZID=America/Los_Angeles:20260130T183000
DTEND;TZID=America/Los_Angeles:20260130T210000
STATUS:CONFIRMED
SUMMARY:Untouchaballs vs Mr Telephone Man
URL:/League/Schedule/2867
DESCRIPTION:Regular Season match: Untouchaballs vs Mr Teleph
 one Man
LOCATION:CCIBA Court 4
END:VEVENT
BEGIN:VEVENT
DTSTAMP:20251107T000000Z
UID:2584942f-8d24-41e2-8704-de637c08cc81@ClaytonBocce
DTSTART;TZID=America/Los_Angeles:20260206T183000
DTEND;TZID=America/Los_Angeles:20260206T210000
STATUS:CONFIRMED
SUMMARY:Untouchaballs vs Central Addition
URL:/League/Schedule/2867
DESCRIPTION:Regular Season match: Untouchaballs vs Central A
 ddition
LOCATION:CCIBA Court 2
END:VEVENT
BEGIN:VEVENT
DTSTAMP:20251107T000000Z
UID:3e6c03b0-7a69-4c37-96c7-a1e3fa4f8b57@ClaytonBocce
DTSTART;TZID=America/Los_Angeles:20260213T183000
DTEND;TZID=America/Los_Angeles:20260213T210000
STATUS:CONFIRMED
SUMMARY:Untouchaballs vs So Perfetta
URL:/League/Schedule/2867
DESCRIPTION:Regular Season match: Untouchaballs vs So Perfet
 ta
LOCATION:CCIBA Court 5
END:VEVENT
END:VCALENDAR
