BEGIN:VCALENDAR
VERSION:2.0
PRODID:-//Clayton Bocce League
METHOD:PUBLISH
BEGIN:VTIMEZONE
TZID:America/Los_Angeles
X-LIC-LOCATION:America/Los_Angeles
BEGIN:DAYLIGHT
TZOFFSETFROM:-0800
TZOFFSETTO:-0700
TZNAME:PDT
DTSTART:20070311T020000
RRULE:FREQ=YEARLY;BYMONTH=3;BYDAY=2SU
END:DAYLIGHT
BEGIN:STANDARD
TZOFFSETFROM:-0700
TZOFFSETTO:-0800
TZNAME:PST
DTSTART:20071104T020000
RRULE:FREQ=YEARLY;BYMONTH=11;BYDAY=1SU
END:STANDARD
END:VTIMEZONE
BEGIN:VEVENT
DTSTAMP:20251107T000000Z
UID:d851af91-b6f5-498c-8d2f-784d8b389173@ClaytonBocce
DTSTART;TZID=America/Los_Angeles:20251107T183000
DTEND;TZID=America/Los_Angeles:20251107T210000
STATUS:CONFIRMED
SUMMARY:Blessed by 1 vs Untouchaballs
URL:/League/Schedule/2864
DESCRIPTION:Regular Season match: Blessed by 1 vs Untouchaba
 lls
LOCATION:CCIBA Court 2
END:VEVENT
BEGIN:VEVENT
DTSTAMP:20251107T000000Z
UID:8a135047-0a61-490b-872c-e03b3c412afa@ClaytonBocce
DTSTART;TZID=America/Los_Angeles:20251114T183000
DTEND;TZID=America/Los_Angeles:20251114T210000
STATUS:CONFIRMED
SUMMARY:Blessed by 1 vs Buncha Ballers
URL:/League/Schedule/2864
DESCRIPTION:Regular Season match: Blessed by 1 vs Buncha Bal
 lers
LOCATION:CCIBA Court 1
END:VEVENT
BEGIN:VEVENT
DTSTAMP:20251107T000000Z
UID:a7f36c34-5d12-4f8a-8087-471586f6a060@ClaytonBocce
DTSTART;TZID=America/Los_Angeles:20251205T183000
DTEND;TZID=America/Los_Angeles:20251205T210000
STATUS:CONFIRMED
SUMMARY:Blessed by 1 vs Mr Telephone Man
URL:/League/Schedule/2864
DESCRIPTION:Regular Season match: Blessed by 1 vs Mr Telepho
 ne Man
LOCATION:CCIBA Court 5
END:VEVENT
BEGIN:VEVENT
DTSTAMP:20251107T000000Z
UID:90b5d6fd-9ebf-41af-b2d4-498a6e2e7ae1@ClaytonBocce
DTSTART;TZID=America/Los_Angeles:20251212T183000
DTEND;TZID=America/Los_Angeles:20251212T210000
STATUS:CONFIRMED
SUMMARY:Blessed by 1 vs Central Addition
URL:/League/Schedule/2864
DESCRIPTION:Regular Season match: Blessed by 1 vs Central Ad
 dition
LOCATION:CCIBA Court 3
END:VEVENT
BEGIN:VEVENT
DTSTAMP:20251107T000000Z
UID:1373cac3-d93c-460a-9dcd-c7587820da29@ClaytonBocce
DTSTART;TZID=America/Los_Angeles:20251219T183000
DTEND;TZID=America/Los_Angeles:20251219T210000
STATUS:CONFIRMED
SUMMARY:Blessed by 1 vs So Perfetta
URL:/League/Schedule/2864
DESCRIPTION:Regular Season match: Blessed by 1 vs So Perfett
 a
LOCATION:CCIBA Court 5
END:VEVENT
BEGIN:VEVENT
DTSTAMP:20251107T000000Z
UID:e5cf1b84-7135-45ec-8147-fc15fd89b6a4@ClaytonBocce
DTSTART;TZID=America/Los_Angeles:20260109T183000
DTEND;TZID=America/Los_Angeles:20260109T210000
STATUS:CONFIRMED
SUMMARY:Blessed by 1 vs Bocce Friends
URL:/League/Schedule/2864
DESCRIPTION:Regular Season match: Blessed by 1 vs Bocce Frie
 nds
LOCATION:CCIBA Court 4
END:VEVENT
BEGIN:VEVENT
DTSTAMP:20251107T000000Z
UID:f4734942-be11-43e6-b3b4-7f58853873e7@ClaytonBocce
DTSTART;TZID=America/Los_Angeles:20260116T183000
DTEND;TZID=America/Los_Angeles:20260116T210000
STATUS:CONFIRMED
SUMMARY:Blessed by 1 vs Livin' La Bocce Loca
URL:/League/Schedule/2864
DESCRIPTION:Regular Season match: Blessed by 1 vs Livin' La 
 Bocce Loca
LOCATION:CCIBA Court 6
END:VEVENT
BEGIN:VEVENT
DTSTAMP:20251107T000000Z
UID:cfd7cf54-2119-4be8-9a8d-ee8bf3b7cf60@ClaytonBocce
DTSTART;TZID=America/Los_Angeles:20260123T183000
DTEND;TZID=America/Los_Angeles:20260123T210000
STATUS:CONFIRMED
SUMMARY:Blessed by 1 vs Rolling Thunder
URL:/League/Schedule/2864
DESCRIPTION:Regular Season match: Blessed by 1 vs Rolling Th
 under
LOCATION:CCIBA Court 2
END:VEVENT
BEGIN:VEVENT
DTSTAMP:20251107T000000Z
UID:a284075c-6f62-494b-aa76-3e8c0b81375d@ClaytonBocce
DTSTART;TZID=America/Los_Angeles:20260206T183000
DTEND;TZID=America/Los_Angeles:20260206T210000
STATUS:CONFIRMED
SUMMARY:Blessed by 1 vs No Bueno Bocce
URL:/League/Schedule/2864
DESCRIPTION:Regular Season match: Blessed by 1 vs No Bueno B
 occe
LOCATION:CCIBA Court 3
END:VEVENT
BEGIN:VEVENT
DTSTAMP:20251107T000000Z
UID:1f3fadbb-3af4-42bb-aead-012d0b0ee0ed@ClaytonBocce
DTSTART;TZID=America/Los_Angeles:20260213T183000
DTEND;TZID=America/Los_Angeles:20260213T210000
STATUS:CONFIRMED
SUMMARY:Blessed by 1 vs FuhgeddaBocce
URL:/League/Schedule/2864
DESCRIPTION:Regular Season match: Blessed by 1 vs FuhgeddaBo
 cce
LOCATION:CCIBA Court 4
END:VEVENT
END:VCALENDAR
