BEGIN:VCALENDAR
VERSION:2.0
PRODID:-//Clayton Bocce League
METHOD:PUBLISH
BEGIN:VTIMEZONE
TZID:America/Los_Angeles
X-LIC-LOCATION:America/Los_Angeles
BEGIN:DAYLIGHT
TZOFFSETFROM:-0800
TZOFFSETTO:-0700
TZNAME:PDT
DTSTART:20070311T020000
RRULE:FREQ=YEARLY;BYMONTH=3;BYDAY=2SU
END:DAYLIGHT
BEGIN:STANDARD
TZOFFSETFROM:-0700
TZOFFSETTO:-0800
TZNAME:PST
DTSTART:20071104T020000
RRULE:FREQ=YEARLY;BYMONTH=11;BYDAY=1SU
END:STANDARD
END:VTIMEZONE
BEGIN:VEVENT
DTSTAMP:20251104T000000Z
UID:a8ccd104-e9c3-4e8b-ac4d-795f924ae00e@ClaytonBocce
DTSTART;TZID=America/Los_Angeles:20251106T183000
DTEND;TZID=America/Los_Angeles:20251106T210000
STATUS:CONFIRMED
SUMMARY:Rockin Rollers vs Lo2DFlo
URL:/League/Schedule/2854
DESCRIPTION:Regular Season match: Rockin Rollers vs Lo2DFlo
LOCATION:CCIBA Court 6
END:VEVENT
BEGIN:VEVENT
DTSTAMP:20251104T000000Z
UID:b56a5c43-3730-44e2-8500-2d9e37be9d8f@ClaytonBocce
DTSTART;TZID=America/Los_Angeles:20251113T183000
DTEND;TZID=America/Los_Angeles:20251113T210000
STATUS:CONFIRMED
SUMMARY:Rockin Rollers vs One Handers
URL:/League/Schedule/2854
DESCRIPTION:Regular Season match: Rockin Rollers vs One Hand
 ers
LOCATION:CCIBA Court 4
END:VEVENT
BEGIN:VEVENT
DTSTAMP:20251104T000000Z
UID:57362939-2ecb-4b4b-b318-ec21f4d62d40@ClaytonBocce
DTSTART;TZID=America/Los_Angeles:20251204T183000
DTEND;TZID=America/Los_Angeles:20251204T210000
STATUS:CONFIRMED
SUMMARY:Rockin Rollers vs Johnny B's
URL:/League/Schedule/2854
DESCRIPTION:Regular Season match: Rockin Rollers vs Johnny B
 's
LOCATION:CCIBA Court 5
END:VEVENT
BEGIN:VEVENT
DTSTAMP:20251104T000000Z
UID:150000ed-86fb-4661-9d09-86042a2e8490@ClaytonBocce
DTSTART;TZID=America/Los_Angeles:20251211T183000
DTEND;TZID=America/Los_Angeles:20251211T210000
STATUS:CONFIRMED
SUMMARY:Rockin Rollers vs Casino Warriors
URL:/League/Schedule/2854
DESCRIPTION:Regular Season match: Rockin Rollers vs Casino W
 arriors
LOCATION:CCIBA Court 6
END:VEVENT
BEGIN:VEVENT
DTSTAMP:20251104T000000Z
UID:07ac7f8a-3175-4c35-9034-d491130ad640@ClaytonBocce
DTSTART;TZID=America/Los_Angeles:20251218T183000
DTEND;TZID=America/Los_Angeles:20251218T210000
STATUS:CONFIRMED
SUMMARY:Rockin Rollers vs Too Bocce to Handle
URL:/League/Schedule/2854
DESCRIPTION:Regular Season match: Rockin Rollers vs Too Bocc
 e to Handle
LOCATION:CCIBA Court 3
END:VEVENT
BEGIN:VEVENT
DTSTAMP:20251104T000000Z
UID:a4419c78-6432-4e5f-9ab9-eb3b5c1185f6@ClaytonBocce
DTSTART;TZID=America/Los_Angeles:20260108T183000
DTEND;TZID=America/Los_Angeles:20260108T210000
STATUS:CONFIRMED
SUMMARY:Rockin Rollers vs Bravo Bocce
URL:/League/Schedule/2854
DESCRIPTION:Regular Season match: Rockin Rollers vs Bravo Bo
 cce
LOCATION:CCIBA Court 5
END:VEVENT
BEGIN:VEVENT
DTSTAMP:20251104T000000Z
UID:8f9e34f4-06fa-4e3f-aadd-38ba0979ac22@ClaytonBocce
DTSTART;TZID=America/Los_Angeles:20260115T183000
DTEND;TZID=America/Los_Angeles:20260115T210000
STATUS:CONFIRMED
SUMMARY:Rockin Rollers vs Bocce By The Bay
URL:/League/Schedule/2854
DESCRIPTION:Regular Season match: Rockin Rollers vs Bocce By
  The Bay
LOCATION:CCIBA Court 3
END:VEVENT
BEGIN:VEVENT
DTSTAMP:20251104T000000Z
UID:b04654e9-80b8-41eb-979e-0729baaa686d@ClaytonBocce
DTSTART;TZID=America/Los_Angeles:20260122T183000
DTEND;TZID=America/Los_Angeles:20260122T210000
STATUS:CONFIRMED
SUMMARY:Rockin Rollers vs Team Recycle
URL:/League/Schedule/2854
DESCRIPTION:Regular Season match: Rockin Rollers vs Team Rec
 ycle
LOCATION:CCIBA Court 6
END:VEVENT
BEGIN:VEVENT
DTSTAMP:20251104T000000Z
UID:a01969c5-15dc-4c7c-9a43-0f046902fbb6@ClaytonBocce
DTSTART;TZID=America/Los_Angeles:20260129T183000
DTEND;TZID=America/Los_Angeles:20260129T210000
STATUS:CONFIRMED
SUMMARY:Rockin Rollers vs Roll Models
URL:/League/Schedule/2854
DESCRIPTION:Regular Season match: Rockin Rollers vs Roll Mod
 els
LOCATION:CCIBA Court 5
END:VEVENT
BEGIN:VEVENT
DTSTAMP:20251104T000000Z
UID:7ad8db66-e6d6-4c78-95e1-e339d9816540@ClaytonBocce
DTSTART;TZID=America/Los_Angeles:20260205T183000
DTEND;TZID=America/Los_Angeles:20260205T210000
STATUS:CONFIRMED
SUMMARY:Rockin Rollers vs Peace, Love, Bocce
URL:/League/Schedule/2854
DESCRIPTION:Regular Season match: Rockin Rollers vs Peace, L
 ove, Bocce
LOCATION:CCIBA Court 2
END:VEVENT
BEGIN:VEVENT
DTSTAMP:20251104T000000Z
UID:ef736ab3-b46d-462e-a4d2-2f1144058941@ClaytonBocce
DTSTART;TZID=America/Los_Angeles:20260212T183000
DTEND;TZID=America/Los_Angeles:20260212T210000
STATUS:CONFIRMED
SUMMARY:Rockin Rollers vs Off the Wall
URL:/League/Schedule/2854
DESCRIPTION:Regular Season match: Rockin Rollers vs Off the 
 Wall
LOCATION:CCIBA Court 1
END:VEVENT
BEGIN:VEVENT
DTSTAMP:20251104T000000Z
UID:dc885e75-d1cc-464d-9652-ef195150823d@ClaytonBocce
DTSTART;TZID=America/Los_Angeles:20260226T183000
DTEND;TZID=America/Los_Angeles:20260226T210000
STATUS:CONFIRMED
SUMMARY:Rockin Rollers vs Casino Warriors
URL:/League/Schedule/2854
DESCRIPTION:Regular Season match: Rockin Rollers vs Casino W
 arriors
LOCATION:CCIBA Court 2
END:VEVENT
END:VCALENDAR
