BEGIN:VCALENDAR
VERSION:2.0
PRODID:-//Clayton Bocce League
METHOD:PUBLISH
BEGIN:VTIMEZONE
TZID:America/Los_Angeles
X-LIC-LOCATION:America/Los_Angeles
BEGIN:DAYLIGHT
TZOFFSETFROM:-0800
TZOFFSETTO:-0700
TZNAME:PDT
DTSTART:20070311T020000
RRULE:FREQ=YEARLY;BYMONTH=3;BYDAY=2SU
END:DAYLIGHT
BEGIN:STANDARD
TZOFFSETFROM:-0700
TZOFFSETTO:-0800
TZNAME:PST
DTSTART:20071104T020000
RRULE:FREQ=YEARLY;BYMONTH=11;BYDAY=1SU
END:STANDARD
END:VTIMEZONE
BEGIN:VEVENT
DTSTAMP:20251104T000000Z
UID:a8ccd104-e9c3-4e8b-ac4d-795f924ae00e@ClaytonBocce
DTSTART;TZID=America/Los_Angeles:20251106T183000
DTEND;TZID=America/Los_Angeles:20251106T210000
STATUS:CONFIRMED
SUMMARY:Lo2DFlo vs Rockin Rollers
URL:/League/Schedule/2852
DESCRIPTION:Regular Season match: Lo2DFlo vs Rockin Rollers
LOCATION:CCIBA Court 6
END:VEVENT
BEGIN:VEVENT
DTSTAMP:20251104T000000Z
UID:daba882a-5a66-4939-8e2b-e7f0cfc390d0@ClaytonBocce
DTSTART;TZID=America/Los_Angeles:20251113T183000
DTEND;TZID=America/Los_Angeles:20251113T210000
STATUS:CONFIRMED
SUMMARY:Lo2DFlo vs Team Recycle
URL:/League/Schedule/2852
DESCRIPTION:Regular Season match: Lo2DFlo vs Team Recycle
LOCATION:CCIBA Court 3
END:VEVENT
BEGIN:VEVENT
DTSTAMP:20251104T000000Z
UID:2a6d5b47-add5-456f-af1e-40d926648424@ClaytonBocce
DTSTART;TZID=America/Los_Angeles:20251204T183000
DTEND;TZID=America/Los_Angeles:20251204T210000
STATUS:CONFIRMED
SUMMARY:Lo2DFlo vs Roll Models
URL:/League/Schedule/2852
DESCRIPTION:Regular Season match: Lo2DFlo vs Roll Models
LOCATION:CCIBA Court 1
END:VEVENT
BEGIN:VEVENT
DTSTAMP:20251104T000000Z
UID:95ebba91-dfdd-4338-8e73-ac96abe5ef22@ClaytonBocce
DTSTART;TZID=America/Los_Angeles:20251211T183000
DTEND;TZID=America/Los_Angeles:20251211T210000
STATUS:CONFIRMED
SUMMARY:Lo2DFlo vs Peace, Love, Bocce
URL:/League/Schedule/2852
DESCRIPTION:Regular Season match: Lo2DFlo vs Peace, Love, Bo
 cce
LOCATION:CCIBA Court 2
END:VEVENT
BEGIN:VEVENT
DTSTAMP:20251104T000000Z
UID:bf0c74e5-9656-4637-a30b-0f1af6c37342@ClaytonBocce
DTSTART;TZID=America/Los_Angeles:20251218T183000
DTEND;TZID=America/Los_Angeles:20251218T210000
STATUS:CONFIRMED
SUMMARY:Lo2DFlo vs Off the Wall
URL:/League/Schedule/2852
DESCRIPTION:Regular Season match: Lo2DFlo vs Off the Wall
LOCATION:CCIBA Court 6
END:VEVENT
BEGIN:VEVENT
DTSTAMP:20251104T000000Z
UID:019af67e-22ea-4e94-9041-241d5c1bd3eb@ClaytonBocce
DTSTART;TZID=America/Los_Angeles:20260108T183000
DTEND;TZID=America/Los_Angeles:20260108T210000
STATUS:CONFIRMED
SUMMARY:Lo2DFlo vs Bocce By The Bay
URL:/League/Schedule/2852
DESCRIPTION:Regular Season match: Lo2DFlo vs Bocce By The Ba
 y
LOCATION:CCIBA Court 4
END:VEVENT
BEGIN:VEVENT
DTSTAMP:20251104T000000Z
UID:18378209-5440-4736-8f8f-6458dbf8bada@ClaytonBocce
DTSTART;TZID=America/Los_Angeles:20260115T183000
DTEND;TZID=America/Los_Angeles:20260115T210000
STATUS:CONFIRMED
SUMMARY:Lo2DFlo vs One Handers
URL:/League/Schedule/2852
DESCRIPTION:Regular Season match: Lo2DFlo vs One Handers
LOCATION:CCIBA Court 5
END:VEVENT
BEGIN:VEVENT
DTSTAMP:20251104T000000Z
UID:acef8232-d44b-4418-8185-c9e619f862c9@ClaytonBocce
DTSTART;TZID=America/Los_Angeles:20260122T183000
DTEND;TZID=America/Los_Angeles:20260122T210000
STATUS:CONFIRMED
SUMMARY:Lo2DFlo vs Johnny B's
URL:/League/Schedule/2852
DESCRIPTION:Regular Season match: Lo2DFlo vs Johnny B's
LOCATION:CCIBA Court 3
END:VEVENT
BEGIN:VEVENT
DTSTAMP:20251104T000000Z
UID:fc806be8-ac2f-4847-a892-2004bbeb5b90@ClaytonBocce
DTSTART;TZID=America/Los_Angeles:20260129T183000
DTEND;TZID=America/Los_Angeles:20260129T210000
STATUS:CONFIRMED
SUMMARY:Lo2DFlo vs Casino Warriors
URL:/League/Schedule/2852
DESCRIPTION:Regular Season match: Lo2DFlo vs Casino Warriors
LOCATION:CCIBA Court 2
END:VEVENT
BEGIN:VEVENT
DTSTAMP:20251104T000000Z
UID:e05909e7-16c1-4ae1-8022-fe3961cfe18d@ClaytonBocce
DTSTART;TZID=America/Los_Angeles:20260205T183000
DTEND;TZID=America/Los_Angeles:20260205T210000
STATUS:CONFIRMED
SUMMARY:Lo2DFlo vs Too Bocce to Handle
URL:/League/Schedule/2852
DESCRIPTION:Regular Season match: Lo2DFlo vs Too Bocce to Ha
 ndle
LOCATION:CCIBA Court 1
END:VEVENT
BEGIN:VEVENT
DTSTAMP:20251104T000000Z
UID:55d303b0-faeb-48b9-8c06-343f8b10eab4@ClaytonBocce
DTSTART;TZID=America/Los_Angeles:20260212T183000
DTEND;TZID=America/Los_Angeles:20260212T210000
STATUS:CONFIRMED
SUMMARY:Lo2DFlo vs Bravo Bocce
URL:/League/Schedule/2852
DESCRIPTION:Regular Season match: Lo2DFlo vs Bravo Bocce
LOCATION:CCIBA Court 5
END:VEVENT
BEGIN:VEVENT
DTSTAMP:20251104T000000Z
UID:3f5f9aa3-5e50-43e3-b991-a7d2a8fed57f@ClaytonBocce
DTSTART;TZID=America/Los_Angeles:20260226T183000
DTEND;TZID=America/Los_Angeles:20260226T210000
STATUS:CONFIRMED
SUMMARY:Lo2DFlo vs Roll Models
URL:/League/Schedule/2852
DESCRIPTION:Regular Season match: Lo2DFlo vs Roll Models
LOCATION:CCIBA Court 1
END:VEVENT
END:VCALENDAR
