BEGIN:VCALENDAR
VERSION:2.0
PRODID:-//Clayton Bocce League
METHOD:PUBLISH
BEGIN:VTIMEZONE
TZID:America/Los_Angeles
X-LIC-LOCATION:America/Los_Angeles
BEGIN:DAYLIGHT
TZOFFSETFROM:-0800
TZOFFSETTO:-0700
TZNAME:PDT
DTSTART:20070311T020000
RRULE:FREQ=YEARLY;BYMONTH=3;BYDAY=2SU
END:DAYLIGHT
BEGIN:STANDARD
TZOFFSETFROM:-0700
TZOFFSETTO:-0800
TZNAME:PST
DTSTART:20071104T020000
RRULE:FREQ=YEARLY;BYMONTH=11;BYDAY=1SU
END:STANDARD
END:VTIMEZONE
BEGIN:VEVENT
DTSTAMP:20251104T000000Z
UID:6843b9c3-78a4-496b-97a3-4ec6326cbc69@ClaytonBocce
DTSTART;TZID=America/Los_Angeles:20251106T183000
DTEND;TZID=America/Los_Angeles:20251106T210000
STATUS:CONFIRMED
SUMMARY:Casino Warriors vs Bocce By The Bay
URL:/League/Schedule/2849
DESCRIPTION:Regular Season match: Casino Warriors vs Bocce B
 y The Bay
LOCATION:CCIBA Court 2
END:VEVENT
BEGIN:VEVENT
DTSTAMP:20251104T000000Z
UID:7c416649-0183-46cf-bf2d-a03e05c91506@ClaytonBocce
DTSTART;TZID=America/Los_Angeles:20251113T183000
DTEND;TZID=America/Los_Angeles:20251113T210000
STATUS:CONFIRMED
SUMMARY:Casino Warriors vs Too Bocce to Handle
URL:/League/Schedule/2849
DESCRIPTION:Regular Season match: Casino Warriors vs Too Boc
 ce to Handle
LOCATION:CCIBA Court 5
END:VEVENT
BEGIN:VEVENT
DTSTAMP:20251104T000000Z
UID:2f4a2938-108f-4b06-ac80-d1d25f277203@ClaytonBocce
DTSTART;TZID=America/Los_Angeles:20251204T183000
DTEND;TZID=America/Los_Angeles:20251204T210000
STATUS:CONFIRMED
SUMMARY:Casino Warriors vs Bravo Bocce
URL:/League/Schedule/2849
DESCRIPTION:Regular Season match: Casino Warriors vs Bravo B
 occe
LOCATION:CCIBA Court 3
END:VEVENT
BEGIN:VEVENT
DTSTAMP:20251104T000000Z
UID:150000ed-86fb-4661-9d09-86042a2e8490@ClaytonBocce
DTSTART;TZID=America/Los_Angeles:20251211T183000
DTEND;TZID=America/Los_Angeles:20251211T210000
STATUS:CONFIRMED
SUMMARY:Casino Warriors vs Rockin Rollers
URL:/League/Schedule/2849
DESCRIPTION:Regular Season match: Casino Warriors vs Rockin 
 Rollers
LOCATION:CCIBA Court 6
END:VEVENT
BEGIN:VEVENT
DTSTAMP:20251104T000000Z
UID:691256a3-a172-42f8-ba11-e407119a07e6@ClaytonBocce
DTSTART;TZID=America/Los_Angeles:20251218T183000
DTEND;TZID=America/Los_Angeles:20251218T210000
STATUS:CONFIRMED
SUMMARY:Casino Warriors vs Team Recycle
URL:/League/Schedule/2849
DESCRIPTION:Regular Season match: Casino Warriors vs Team Re
 cycle
LOCATION:CCIBA Court 5
END:VEVENT
BEGIN:VEVENT
DTSTAMP:20251104T000000Z
UID:049d53a5-d447-4b78-8254-d01d2ff1ed6a@ClaytonBocce
DTSTART;TZID=America/Los_Angeles:20260108T183000
DTEND;TZID=America/Los_Angeles:20260108T210000
STATUS:CONFIRMED
SUMMARY:Casino Warriors vs Roll Models
URL:/League/Schedule/2849
DESCRIPTION:Regular Season match: Casino Warriors vs Roll Mo
 dels
LOCATION:CCIBA Court 1
END:VEVENT
BEGIN:VEVENT
DTSTAMP:20251104T000000Z
UID:90d24da6-3949-4c8f-8ba0-aedaa53503ec@ClaytonBocce
DTSTART;TZID=America/Los_Angeles:20260115T183000
DTEND;TZID=America/Los_Angeles:20260115T210000
STATUS:CONFIRMED
SUMMARY:Casino Warriors vs Peace, Love, Bocce
URL:/League/Schedule/2849
DESCRIPTION:Regular Season match: Casino Warriors vs Peace, 
 Love, Bocce
LOCATION:CCIBA Court 4
END:VEVENT
BEGIN:VEVENT
DTSTAMP:20251104T000000Z
UID:700a2a74-6f3a-4fc4-8485-0b9f496b7fa1@ClaytonBocce
DTSTART;TZID=America/Los_Angeles:20260122T183000
DTEND;TZID=America/Los_Angeles:20260122T210000
STATUS:CONFIRMED
SUMMARY:Casino Warriors vs Off the Wall
URL:/League/Schedule/2849
DESCRIPTION:Regular Season match: Casino Warriors vs Off the
  Wall
LOCATION:CCIBA Court 1
END:VEVENT
BEGIN:VEVENT
DTSTAMP:20251104T000000Z
UID:fc806be8-ac2f-4847-a892-2004bbeb5b90@ClaytonBocce
DTSTART;TZID=America/Los_Angeles:20260129T183000
DTEND;TZID=America/Los_Angeles:20260129T210000
STATUS:CONFIRMED
SUMMARY:Casino Warriors vs Lo2DFlo
URL:/League/Schedule/2849
DESCRIPTION:Regular Season match: Casino Warriors vs Lo2DFlo
LOCATION:CCIBA Court 2
END:VEVENT
BEGIN:VEVENT
DTSTAMP:20251104T000000Z
UID:c62d7824-3b6b-49cd-a28d-628e8422b4c4@ClaytonBocce
DTSTART;TZID=America/Los_Angeles:20260205T183000
DTEND;TZID=America/Los_Angeles:20260205T210000
STATUS:CONFIRMED
SUMMARY:Casino Warriors vs One Handers
URL:/League/Schedule/2849
DESCRIPTION:Regular Season match: Casino Warriors vs One Han
 ders
LOCATION:CCIBA Court 3
END:VEVENT
BEGIN:VEVENT
DTSTAMP:20251104T000000Z
UID:5399ebc8-f5cc-45a3-9cd2-362fcc2f9659@ClaytonBocce
DTSTART;TZID=America/Los_Angeles:20260212T183000
DTEND;TZID=America/Los_Angeles:20260212T210000
STATUS:CONFIRMED
SUMMARY:Casino Warriors vs Johnny B's
URL:/League/Schedule/2849
DESCRIPTION:Regular Season match: Casino Warriors vs Johnny 
 B's
LOCATION:CCIBA Court 4
END:VEVENT
BEGIN:VEVENT
DTSTAMP:20251104T000000Z
UID:dc885e75-d1cc-464d-9652-ef195150823d@ClaytonBocce
DTSTART;TZID=America/Los_Angeles:20260226T183000
DTEND;TZID=America/Los_Angeles:20260226T210000
STATUS:CONFIRMED
SUMMARY:Casino Warriors vs Rockin Rollers
URL:/League/Schedule/2849
DESCRIPTION:Regular Season match: Casino Warriors vs Rockin 
 Rollers
LOCATION:CCIBA Court 2
END:VEVENT
END:VCALENDAR
