BEGIN:VCALENDAR
VERSION:2.0
PRODID:-//Clayton Bocce League
METHOD:PUBLISH
BEGIN:VTIMEZONE
TZID:America/Los_Angeles
X-LIC-LOCATION:America/Los_Angeles
BEGIN:DAYLIGHT
TZOFFSETFROM:-0800
TZOFFSETTO:-0700
TZNAME:PDT
DTSTART:20070311T020000
RRULE:FREQ=YEARLY;BYMONTH=3;BYDAY=2SU
END:DAYLIGHT
BEGIN:STANDARD
TZOFFSETFROM:-0700
TZOFFSETTO:-0800
TZNAME:PST
DTSTART:20071104T020000
RRULE:FREQ=YEARLY;BYMONTH=11;BYDAY=1SU
END:STANDARD
END:VTIMEZONE
BEGIN:VEVENT
DTSTAMP:20251104T000000Z
UID:6843b9c3-78a4-496b-97a3-4ec6326cbc69@ClaytonBocce
DTSTART;TZID=America/Los_Angeles:20251106T183000
DTEND;TZID=America/Los_Angeles:20251106T210000
STATUS:CONFIRMED
SUMMARY:Bocce By The Bay vs Casino Warriors
URL:/League/Schedule/2845
DESCRIPTION:Regular Season match: Bocce By The Bay vs Casino
  Warriors
LOCATION:CCIBA Court 2
END:VEVENT
BEGIN:VEVENT
DTSTAMP:20251104T000000Z
UID:37597541-6c1f-4a4c-847e-de7103a2cc9b@ClaytonBocce
DTSTART;TZID=America/Los_Angeles:20251113T183000
DTEND;TZID=America/Los_Angeles:20251113T210000
STATUS:CONFIRMED
SUMMARY:Bocce By The Bay vs Peace, Love, Bocce
URL:/League/Schedule/2845
DESCRIPTION:Regular Season match: Bocce By The Bay vs Peace,
  Love, Bocce
LOCATION:CCIBA Court 1
END:VEVENT
BEGIN:VEVENT
DTSTAMP:20251104T000000Z
UID:589d3d2a-d7ca-4401-a264-5893241066ae@ClaytonBocce
DTSTART;TZID=America/Los_Angeles:20251204T183000
DTEND;TZID=America/Los_Angeles:20251204T210000
STATUS:CONFIRMED
SUMMARY:Bocce By The Bay vs Too Bocce to Handle
URL:/League/Schedule/2845
DESCRIPTION:Regular Season match: Bocce By The Bay vs Too Bo
 cce to Handle
LOCATION:CCIBA Court 6
END:VEVENT
BEGIN:VEVENT
DTSTAMP:20251104T000000Z
UID:26f2033c-affe-4f03-8f4a-276f7246967f@ClaytonBocce
DTSTART;TZID=America/Los_Angeles:20251211T183000
DTEND;TZID=America/Los_Angeles:20251211T210000
STATUS:CONFIRMED
SUMMARY:Bocce By The Bay vs Off the Wall
URL:/League/Schedule/2845
DESCRIPTION:Regular Season match: Bocce By The Bay vs Off th
 e Wall
LOCATION:CCIBA Court 5
END:VEVENT
BEGIN:VEVENT
DTSTAMP:20251104T000000Z
UID:0bbf0e78-b44c-417d-9486-90426e23e7cd@ClaytonBocce
DTSTART;TZID=America/Los_Angeles:20251218T183000
DTEND;TZID=America/Los_Angeles:20251218T210000
STATUS:CONFIRMED
SUMMARY:Bocce By The Bay vs Bravo Bocce
URL:/League/Schedule/2845
DESCRIPTION:Regular Season match: Bocce By The Bay vs Bravo 
 Bocce
LOCATION:CCIBA Court 2
END:VEVENT
BEGIN:VEVENT
DTSTAMP:20251104T000000Z
UID:019af67e-22ea-4e94-9041-241d5c1bd3eb@ClaytonBocce
DTSTART;TZID=America/Los_Angeles:20260108T183000
DTEND;TZID=America/Los_Angeles:20260108T210000
STATUS:CONFIRMED
SUMMARY:Bocce By The Bay vs Lo2DFlo
URL:/League/Schedule/2845
DESCRIPTION:Regular Season match: Bocce By The Bay vs Lo2DFl
 o
LOCATION:CCIBA Court 4
END:VEVENT
BEGIN:VEVENT
DTSTAMP:20251104T000000Z
UID:8f9e34f4-06fa-4e3f-aadd-38ba0979ac22@ClaytonBocce
DTSTART;TZID=America/Los_Angeles:20260115T183000
DTEND;TZID=America/Los_Angeles:20260115T210000
STATUS:CONFIRMED
SUMMARY:Bocce By The Bay vs Rockin Rollers
URL:/League/Schedule/2845
DESCRIPTION:Regular Season match: Bocce By The Bay vs Rockin
  Rollers
LOCATION:CCIBA Court 3
END:VEVENT
BEGIN:VEVENT
DTSTAMP:20251104T000000Z
UID:c51380c3-f37d-4c87-b071-f4aeb173aaa7@ClaytonBocce
DTSTART;TZID=America/Los_Angeles:20260122T183000
DTEND;TZID=America/Los_Angeles:20260122T210000
STATUS:CONFIRMED
SUMMARY:Bocce By The Bay vs One Handers
URL:/League/Schedule/2845
DESCRIPTION:Regular Season match: Bocce By The Bay vs One Ha
 nders
LOCATION:CCIBA Court 4
END:VEVENT
BEGIN:VEVENT
DTSTAMP:20251104T000000Z
UID:3589cd2a-b196-43b4-98d6-50716196d13b@ClaytonBocce
DTSTART;TZID=America/Los_Angeles:20260129T183000
DTEND;TZID=America/Los_Angeles:20260129T210000
STATUS:CONFIRMED
SUMMARY:Bocce By The Bay vs Team Recycle
URL:/League/Schedule/2845
DESCRIPTION:Regular Season match: Bocce By The Bay vs Team R
 ecycle
LOCATION:CCIBA Court 1
END:VEVENT
BEGIN:VEVENT
DTSTAMP:20251104T000000Z
UID:42f6912d-27d1-4de8-84c2-d2e896b26e00@ClaytonBocce
DTSTART;TZID=America/Los_Angeles:20260205T183000
DTEND;TZID=America/Los_Angeles:20260205T210000
STATUS:CONFIRMED
SUMMARY:Bocce By The Bay vs Johnny B's
URL:/League/Schedule/2845
DESCRIPTION:Regular Season match: Bocce By The Bay vs Johnny
  B's
LOCATION:CCIBA Court 5
END:VEVENT
BEGIN:VEVENT
DTSTAMP:20251104T000000Z
UID:f85173f5-6a5a-4f0d-ab35-50055d6e52b6@ClaytonBocce
DTSTART;TZID=America/Los_Angeles:20260212T183000
DTEND;TZID=America/Los_Angeles:20260212T210000
STATUS:CONFIRMED
SUMMARY:Bocce By The Bay vs Roll Models
URL:/League/Schedule/2845
DESCRIPTION:Regular Season match: Bocce By The Bay vs Roll M
 odels
LOCATION:CCIBA Court 6
END:VEVENT
BEGIN:VEVENT
DTSTAMP:20251104T000000Z
UID:35e8c374-0a38-46ad-9411-7b72d8c3a389@ClaytonBocce
DTSTART;TZID=America/Los_Angeles:20260226T183000
DTEND;TZID=America/Los_Angeles:20260226T210000
STATUS:CONFIRMED
SUMMARY:Bocce By The Bay vs Bravo Bocce
URL:/League/Schedule/2845
DESCRIPTION:Regular Season match: Bocce By The Bay vs Bravo 
 Bocce
LOCATION:CCIBA Court 3
END:VEVENT
END:VCALENDAR
