BEGIN:VCALENDAR
VERSION:2.0
PRODID:-//Clayton Bocce League
METHOD:PUBLISH
BEGIN:VTIMEZONE
TZID:America/Los_Angeles
X-LIC-LOCATION:America/Los_Angeles
BEGIN:DAYLIGHT
TZOFFSETFROM:-0800
TZOFFSETTO:-0700
TZNAME:PDT
DTSTART:20070311T020000
RRULE:FREQ=YEARLY;BYMONTH=3;BYDAY=2SU
END:DAYLIGHT
BEGIN:STANDARD
TZOFFSETFROM:-0700
TZOFFSETTO:-0800
TZNAME:PST
DTSTART:20071104T020000
RRULE:FREQ=YEARLY;BYMONTH=11;BYDAY=1SU
END:STANDARD
END:VTIMEZONE
BEGIN:VEVENT
DTSTAMP:20251104T000000Z
UID:2285aef2-519e-42ef-b46a-ab4b62a71f5f@ClaytonBocce
DTSTART;TZID=America/Los_Angeles:20251106T183000
DTEND;TZID=America/Los_Angeles:20251106T210000
STATUS:CONFIRMED
SUMMARY:Bravo Bocce vs One Handers
URL:/League/Schedule/2856
DESCRIPTION:Regular Season match: Bravo Bocce vs One Handers
LOCATION:CCIBA Court 5
END:VEVENT
BEGIN:VEVENT
DTSTAMP:20251104T000000Z
UID:8e98180a-29cd-472e-9df8-77bb68361f73@ClaytonBocce
DTSTART;TZID=America/Los_Angeles:20251113T183000
DTEND;TZID=America/Los_Angeles:20251113T210000
STATUS:CONFIRMED
SUMMARY:Bravo Bocce vs Johnny B's
URL:/League/Schedule/2856
DESCRIPTION:Regular Season match: Bravo Bocce vs Johnny B's
LOCATION:CCIBA Court 6
END:VEVENT
BEGIN:VEVENT
DTSTAMP:20251104T000000Z
UID:2f4a2938-108f-4b06-ac80-d1d25f277203@ClaytonBocce
DTSTART;TZID=America/Los_Angeles:20251204T183000
DTEND;TZID=America/Los_Angeles:20251204T210000
STATUS:CONFIRMED
SUMMARY:Bravo Bocce vs Casino Warriors
URL:/League/Schedule/2856
DESCRIPTION:Regular Season match: Bravo Bocce vs Casino Warr
 iors
LOCATION:CCIBA Court 3
END:VEVENT
BEGIN:VEVENT
DTSTAMP:20251104T000000Z
UID:8e75015b-454a-4627-9458-c41c7bae36a5@ClaytonBocce
DTSTART;TZID=America/Los_Angeles:20251211T183000
DTEND;TZID=America/Los_Angeles:20251211T210000
STATUS:CONFIRMED
SUMMARY:Bravo Bocce vs Too Bocce to Handle
URL:/League/Schedule/2856
DESCRIPTION:Regular Season match: Bravo Bocce vs Too Bocce t
 o Handle
LOCATION:CCIBA Court 4
END:VEVENT
BEGIN:VEVENT
DTSTAMP:20251104T000000Z
UID:0bbf0e78-b44c-417d-9486-90426e23e7cd@ClaytonBocce
DTSTART;TZID=America/Los_Angeles:20251218T183000
DTEND;TZID=America/Los_Angeles:20251218T210000
STATUS:CONFIRMED
SUMMARY:Bravo Bocce vs Bocce By The Bay
URL:/League/Schedule/2856
DESCRIPTION:Regular Season match: Bravo Bocce vs Bocce By Th
 e Bay
LOCATION:CCIBA Court 2
END:VEVENT
BEGIN:VEVENT
DTSTAMP:20251104T000000Z
UID:a4419c78-6432-4e5f-9ab9-eb3b5c1185f6@ClaytonBocce
DTSTART;TZID=America/Los_Angeles:20260108T183000
DTEND;TZID=America/Los_Angeles:20260108T210000
STATUS:CONFIRMED
SUMMARY:Bravo Bocce vs Rockin Rollers
URL:/League/Schedule/2856
DESCRIPTION:Regular Season match: Bravo Bocce vs Rockin Roll
 ers
LOCATION:CCIBA Court 5
END:VEVENT
BEGIN:VEVENT
DTSTAMP:20251104T000000Z
UID:8a0046ea-345c-4099-8ee9-ad7ab0f6fc46@ClaytonBocce
DTSTART;TZID=America/Los_Angeles:20260115T183000
DTEND;TZID=America/Los_Angeles:20260115T210000
STATUS:CONFIRMED
SUMMARY:Bravo Bocce vs Team Recycle
URL:/League/Schedule/2856
DESCRIPTION:Regular Season match: Bravo Bocce vs Team Recycl
 e
LOCATION:CCIBA Court 1
END:VEVENT
BEGIN:VEVENT
DTSTAMP:20251104T000000Z
UID:4afd7cec-b161-4cb2-87f0-1ddbcfd670ba@ClaytonBocce
DTSTART;TZID=America/Los_Angeles:20260122T183000
DTEND;TZID=America/Los_Angeles:20260122T210000
STATUS:CONFIRMED
SUMMARY:Bravo Bocce vs Roll Models
URL:/League/Schedule/2856
DESCRIPTION:Regular Season match: Bravo Bocce vs Roll Models
LOCATION:CCIBA Court 2
END:VEVENT
BEGIN:VEVENT
DTSTAMP:20251104T000000Z
UID:126e074d-efee-4448-8ced-3807c059007a@ClaytonBocce
DTSTART;TZID=America/Los_Angeles:20260129T183000
DTEND;TZID=America/Los_Angeles:20260129T210000
STATUS:CONFIRMED
SUMMARY:Bravo Bocce vs Peace, Love, Bocce
URL:/League/Schedule/2856
DESCRIPTION:Regular Season match: Bravo Bocce vs Peace, Love
 , Bocce
LOCATION:CCIBA Court 4
END:VEVENT
BEGIN:VEVENT
DTSTAMP:20251104T000000Z
UID:aaad7c55-ed4f-4a6a-8c98-ab3a4bba8992@ClaytonBocce
DTSTART;TZID=America/Los_Angeles:20260205T183000
DTEND;TZID=America/Los_Angeles:20260205T210000
STATUS:CONFIRMED
SUMMARY:Bravo Bocce vs Off the Wall
URL:/League/Schedule/2856
DESCRIPTION:Regular Season match: Bravo Bocce vs Off the Wal
 l
LOCATION:CCIBA Court 6
END:VEVENT
BEGIN:VEVENT
DTSTAMP:20251104T000000Z
UID:55d303b0-faeb-48b9-8c06-343f8b10eab4@ClaytonBocce
DTSTART;TZID=America/Los_Angeles:20260212T183000
DTEND;TZID=America/Los_Angeles:20260212T210000
STATUS:CONFIRMED
SUMMARY:Bravo Bocce vs Lo2DFlo
URL:/League/Schedule/2856
DESCRIPTION:Regular Season match: Bravo Bocce vs Lo2DFlo
LOCATION:CCIBA Court 5
END:VEVENT
BEGIN:VEVENT
DTSTAMP:20251104T000000Z
UID:35e8c374-0a38-46ad-9411-7b72d8c3a389@ClaytonBocce
DTSTART;TZID=America/Los_Angeles:20260226T183000
DTEND;TZID=America/Los_Angeles:20260226T210000
STATUS:CONFIRMED
SUMMARY:Bravo Bocce vs Bocce By The Bay
URL:/League/Schedule/2856
DESCRIPTION:Regular Season match: Bravo Bocce vs Bocce By Th
 e Bay
LOCATION:CCIBA Court 3
END:VEVENT
END:VCALENDAR
