BEGIN:VCALENDAR
VERSION:2.0
PRODID:-//Clayton Bocce League
METHOD:PUBLISH
BEGIN:VTIMEZONE
TZID:America/Los_Angeles
X-LIC-LOCATION:America/Los_Angeles
BEGIN:DAYLIGHT
TZOFFSETFROM:-0800
TZOFFSETTO:-0700
TZNAME:PDT
DTSTART:20070311T020000
RRULE:FREQ=YEARLY;BYMONTH=3;BYDAY=2SU
END:DAYLIGHT
BEGIN:STANDARD
TZOFFSETFROM:-0700
TZOFFSETTO:-0800
TZNAME:PST
DTSTART:20071104T020000
RRULE:FREQ=YEARLY;BYMONTH=11;BYDAY=1SU
END:STANDARD
END:VTIMEZONE
BEGIN:VEVENT
DTSTAMP:20251104T000000Z
UID:2285aef2-519e-42ef-b46a-ab4b62a71f5f@ClaytonBocce
DTSTART;TZID=America/Los_Angeles:20251106T183000
DTEND;TZID=America/Los_Angeles:20251106T210000
STATUS:CONFIRMED
SUMMARY:One Handers vs Bravo Bocce
URL:/League/Schedule/2848
DESCRIPTION:Regular Season match: One Handers vs Bravo Bocce
LOCATION:CCIBA Court 5
END:VEVENT
BEGIN:VEVENT
DTSTAMP:20251104T000000Z
UID:b56a5c43-3730-44e2-8500-2d9e37be9d8f@ClaytonBocce
DTSTART;TZID=America/Los_Angeles:20251113T183000
DTEND;TZID=America/Los_Angeles:20251113T210000
STATUS:CONFIRMED
SUMMARY:One Handers vs Rockin Rollers
URL:/League/Schedule/2848
DESCRIPTION:Regular Season match: One Handers vs Rockin Roll
 ers
LOCATION:CCIBA Court 4
END:VEVENT
BEGIN:VEVENT
DTSTAMP:20251104T000000Z
UID:fd7ea223-7f01-4580-9b91-2c69feaa36cf@ClaytonBocce
DTSTART;TZID=America/Los_Angeles:20251204T183000
DTEND;TZID=America/Los_Angeles:20251204T210000
STATUS:CONFIRMED
SUMMARY:One Handers vs Team Recycle
URL:/League/Schedule/2848
DESCRIPTION:Regular Season match: One Handers vs Team Recycl
 e
LOCATION:CCIBA Court 2
END:VEVENT
BEGIN:VEVENT
DTSTAMP:20251104T000000Z
UID:0976ee73-da05-448b-b91c-c997a14e2a15@ClaytonBocce
DTSTART;TZID=America/Los_Angeles:20251211T183000
DTEND;TZID=America/Los_Angeles:20251211T210000
STATUS:CONFIRMED
SUMMARY:One Handers vs Roll Models
URL:/League/Schedule/2848
DESCRIPTION:Regular Season match: One Handers vs Roll Models
LOCATION:CCIBA Court 3
END:VEVENT
BEGIN:VEVENT
DTSTAMP:20251104T000000Z
UID:ef06e028-2414-4fdc-bce9-b30392e1a915@ClaytonBocce
DTSTART;TZID=America/Los_Angeles:20251218T183000
DTEND;TZID=America/Los_Angeles:20251218T210000
STATUS:CONFIRMED
SUMMARY:One Handers vs Peace, Love, Bocce
URL:/League/Schedule/2848
DESCRIPTION:Regular Season match: One Handers vs Peace, Love
 , Bocce
LOCATION:CCIBA Court 1
END:VEVENT
BEGIN:VEVENT
DTSTAMP:20251104T000000Z
UID:40366efc-2769-4f14-8453-0491a5b72f77@ClaytonBocce
DTSTART;TZID=America/Los_Angeles:20260108T183000
DTEND;TZID=America/Los_Angeles:20260108T210000
STATUS:CONFIRMED
SUMMARY:One Handers vs Off the Wall
URL:/League/Schedule/2848
DESCRIPTION:Regular Season match: One Handers vs Off the Wal
 l
LOCATION:CCIBA Court 3
END:VEVENT
BEGIN:VEVENT
DTSTAMP:20251104T000000Z
UID:18378209-5440-4736-8f8f-6458dbf8bada@ClaytonBocce
DTSTART;TZID=America/Los_Angeles:20260115T183000
DTEND;TZID=America/Los_Angeles:20260115T210000
STATUS:CONFIRMED
SUMMARY:One Handers vs Lo2DFlo
URL:/League/Schedule/2848
DESCRIPTION:Regular Season match: One Handers vs Lo2DFlo
LOCATION:CCIBA Court 5
END:VEVENT
BEGIN:VEVENT
DTSTAMP:20251104T000000Z
UID:c51380c3-f37d-4c87-b071-f4aeb173aaa7@ClaytonBocce
DTSTART;TZID=America/Los_Angeles:20260122T183000
DTEND;TZID=America/Los_Angeles:20260122T210000
STATUS:CONFIRMED
SUMMARY:One Handers vs Bocce By The Bay
URL:/League/Schedule/2848
DESCRIPTION:Regular Season match: One Handers vs Bocce By Th
 e Bay
LOCATION:CCIBA Court 4
END:VEVENT
BEGIN:VEVENT
DTSTAMP:20251104T000000Z
UID:a492d475-7f29-4cdb-b72c-59651ab78c15@ClaytonBocce
DTSTART;TZID=America/Los_Angeles:20260129T183000
DTEND;TZID=America/Los_Angeles:20260129T210000
STATUS:CONFIRMED
SUMMARY:One Handers vs Johnny B's
URL:/League/Schedule/2848
DESCRIPTION:Regular Season match: One Handers vs Johnny B's
LOCATION:CCIBA Court 6
END:VEVENT
BEGIN:VEVENT
DTSTAMP:20251104T000000Z
UID:c62d7824-3b6b-49cd-a28d-628e8422b4c4@ClaytonBocce
DTSTART;TZID=America/Los_Angeles:20260205T183000
DTEND;TZID=America/Los_Angeles:20260205T210000
STATUS:CONFIRMED
SUMMARY:One Handers vs Casino Warriors
URL:/League/Schedule/2848
DESCRIPTION:Regular Season match: One Handers vs Casino Warr
 iors
LOCATION:CCIBA Court 3
END:VEVENT
BEGIN:VEVENT
DTSTAMP:20251104T000000Z
UID:47855e1d-448b-4b76-a5f3-f6338139bea5@ClaytonBocce
DTSTART;TZID=America/Los_Angeles:20260212T183000
DTEND;TZID=America/Los_Angeles:20260212T210000
STATUS:CONFIRMED
SUMMARY:One Handers vs Too Bocce to Handle
URL:/League/Schedule/2848
DESCRIPTION:Regular Season match: One Handers vs Too Bocce t
 o Handle
LOCATION:CCIBA Court 2
END:VEVENT
BEGIN:VEVENT
DTSTAMP:20251104T000000Z
UID:d70de39f-d408-42bb-95ed-b67a8b0ba662@ClaytonBocce
DTSTART;TZID=America/Los_Angeles:20260226T183000
DTEND;TZID=America/Los_Angeles:20260226T210000
STATUS:CONFIRMED
SUMMARY:One Handers vs Team Recycle
URL:/League/Schedule/2848
DESCRIPTION:Regular Season match: One Handers vs Team Recycl
 e
LOCATION:CCIBA Court 4
END:VEVENT
END:VCALENDAR
